Workbook

Sheet Cek Yasaklisi ( gerçek tekil )
C1: Yasakli | D1: Çek Yasağı Kararı Verilen Tekil Gerçek Kişi Sayılarının İllere ve Bölgelere Göre Dağılımı(1) ( 2026 )
C2: 2026 | E2: 202601 | F2: 202602 | G2: 202603 | H2: 202604 | I2: 202605 | J2: 202606 | K2: 202607 | L2: 202608 | M2: 202609 | N2: 202610 | O2: 202611 | P2: 202612
D3: İller ve Bölgeler (2) | E3: Ocak | F3: Şubat | G3: Mart | H3: Nisan | I3: Mayıs | J3: Haziran | K3: Temmuz | L3: Ağustos | M3: Eylül | N3: Ekim | O3: Kasım | P3: Aralık | Q3: Toplam (4)
C4: 34 | D4: İstanbul | E4: =IFERROR(SUMIFS([1]DATA!$J:$J,[1]DATA!$G:$G,'Cek Yasaklisi ( gerçek tekil )'!E$2,[1]DATA!$H:$H,'Cek Yasaklisi ( gerçek tekil )'!$C$1,[1]DATA!$I:$I,'Cek Yasaklisi ( gerçek tekil )'!$C4),0) -> 1090 | F4: =IFERROR(SUMIFS([1]DATA!$J:$J,[1]DATA!$G:$G,'Cek Yasaklisi ( gerçek tekil )'!F$2,[1]DATA!$H:$H,'Cek Yasaklisi ( gerçek tekil )'!$C$1,[1]DATA!$I:$I,'Cek Yasaklisi ( gerçek tekil )'!$C4),0) -> 1159 | G4: =IFERROR(SUMIFS([1]DATA!$J:$J,[1]DATA!$G:$G,'Cek Yasaklisi ( gerçek tekil )'!G$2,[1]DATA!$H:$H,'Cek Yasaklisi ( gerçek tekil )'!$C$1,[1]DATA!$I:$I,'Cek Yasaklisi ( gerçek tekil )'!$C4),0) -> 1174 | H4: =IFERROR(SUMIFS([1]DATA!$J:$J,[1]DATA!$G:$G,'Cek Yasaklisi ( gerçek tekil )'!H$2,[1]DATA!$H:$H,'Cek Yasaklisi ( gerçek tekil )'!$C$1,[1]DATA!$I:$I,'Cek Yasaklisi ( gerçek tekil )'!$C4),0) -> 1230 | I4: =IFERROR(SUMIFS([1]DATA!$J:$J,[1]DATA!$G:$G,'Cek Yasaklisi ( gerçek tekil )'!I$2,[1]DATA!$H:$H,'Cek Yasaklisi ( gerçek tekil )'!$C$1,[1]DATA!$I:$I,'Cek Yasaklisi ( gerçek tekil )'!$C4),0) -> 889 | J4: =IFERROR(SUMIFS([1]DATA!$J:$J,[1]DATA!$G:$G,'Cek Yasaklisi ( gerçek tekil )'!J$2,[1]DATA!$H:$H,'Cek Yasaklisi ( gerçek tekil )'!$C$1,[1]DATA!$I:$I,'Cek Yasaklisi ( gerçek tekil )'!$C4),0) -> 1470 | K4: =IFERROR(SUMIFS([1]DATA!$J:$J,[1]DATA!$G:$G,'Cek Yasaklisi ( gerçek tekil )'!K$2,[1]DATA!$H:$H,'Cek Yasaklisi ( gerçek tekil )'!$C$1,[1]DATA!$I:$I,'Cek Yasaklisi ( gerçek tekil )'!$C4),0) -> 1502 | L4: =IFERROR(SUMIFS([1]DATA!$J:$J,[1]DATA!$G:$G,'Cek Yasaklisi ( gerçek tekil )'!L$2,[1]DATA!$H:$H,'Cek Yasaklisi ( gerçek tekil )'!$C$1,[1]DATA!$I:$I,'Cek Yasaklisi ( gerçek tekil )'!$C4),0) -> 240 | M4: =IFERROR(SUMIFS([1]DATA!$J:$J,[1]DATA!$G:$G,'Cek Yasaklisi ( gerçek tekil )'!M$2,[1]DATA!$H:$H,'Cek Yasaklisi ( gerçek tekil )'!$C$1,[1]DATA!$I:$I,'Cek Yasaklisi ( gerçek tekil )'!$C4),0) -> 908 | Q4: =IFERROR(SUMIFS([1]DATA!$X:$X,[1]DATA!$V:$V,'Cek Yasaklisi ( gerçek tekil )'!$C$1,[1]DATA!$W:$W,'Cek Yasaklisi ( gerçek tekil )'!$C4,[1]DATA!$U:$U,'Cek Yasaklisi ( gerçek tekil )'!$C$2),0) -> 5787
C5: Bati Marmara | D5: Batı Marmara | E5: =IFERROR(SUMIFS([1]DATA!$Q:$Q,[1]DATA!$N:$N,'Cek Yasaklisi ( gerçek tekil )'!E$2,[1]DATA!$O:$O,'Cek Yasaklisi ( gerçek tekil )'!$C$1,[1]DATA!$P:$P,'Cek Yasaklisi ( gerçek tekil )'!$C5),0) -> 67 | F5: =IFERROR(SUMIFS([1]DATA!$Q:$Q,[1]DATA!$N:$N,'Cek Yasaklisi ( gerçek tekil )'!F$2,[1]DATA!$O:$O,'Cek Yasaklisi ( gerçek tekil )'!$C$1,[1]DATA!$P:$P,'Cek Yasaklisi ( gerçek tekil )'!$C5),0) -> 77 | G5: =IFERROR(SUMIFS([1]DATA!$Q:$Q,[1]DATA!$N:$N,'Cek Yasaklisi ( gerçek tekil )'!G$2,[1]DATA!$O:$O,'Cek Yasaklisi ( gerçek tekil )'!$C$1,[1]DATA!$P:$P,'Cek Yasaklisi ( gerçek tekil )'!$C5),0) -> 82 | H5: =IFERROR(SUMIFS([1]DATA!$Q:$Q,[1]DATA!$N:$N,'Cek Yasaklisi ( gerçek tekil )'!H$2,[1]DATA!$O:$O,'Cek Yasaklisi ( gerçek tekil )'!$C$1,[1]DATA!$P:$P,'Cek Yasaklisi ( gerçek tekil )'!$C5),0) -> 77 | I5: =IFERROR(SUMIFS([1]DATA!$Q:$Q,[1]DATA!$N:$N,'Cek Yasaklisi ( gerçek tekil )'!I$2,[1]DATA!$O:$O,'Cek Yasaklisi ( gerçek tekil )'!$C$1,[1]DATA!$P:$P,'Cek Yasaklisi ( gerçek tekil )'!$C5),0) -> 54 | J5: =IFERROR(SUMIFS([1]DATA!$Q:$Q,[1]DATA!$N:$N,'Cek Yasaklisi ( gerçek tekil )'!J$2,[1]DATA!$O:$O,'Cek Yasaklisi ( gerçek tekil )'!$C$1,[1]DATA!$P:$P,'Cek Yasaklisi ( gerçek tekil )'!$C5),0) -> 79 | K5: =IFERROR(SUMIFS([1]DATA!$Q:$Q,[1]DATA!$N:$N,'Cek Yasaklisi ( gerçek tekil )'!K$2,[1]DATA!$O:$O,'Cek Yasaklisi ( gerçek tekil )'!$C$1,[1]DATA!$P:$P,'Cek Yasaklisi ( gerçek tekil )'!$C5),0) -> 98 | L5: =IFERROR(SUMIFS([1]DATA!$Q:$Q,[1]DATA!$N:$N,'Cek Yasaklisi ( gerçek tekil )'!L$2,[1]DATA!$O:$O,'Cek Yasaklisi ( gerçek tekil )'!$C$1,[1]DATA!$P:$P,'Cek Yasaklisi ( gerçek tekil )'!$C5),0) -> 40 | M5: =IFERROR(SUMIFS([1]DATA!$Q:$Q,[1]DATA!$N:$N,'Cek Yasaklisi ( gerçek tekil )'!M$2,[1]DATA!$O:$O,'Cek Yasaklisi ( gerçek tekil )'!$C$1,[1]DATA!$P:$P,'Cek Yasaklisi ( gerçek tekil )'!$C5),0) -> 77 | Q5: =IFERROR(SUMIFS([1]DATA!$AE:$AE,[1]DATA!$AC:$AC,'Cek Yasaklisi ( gerçek tekil )'!$C$1,[1]DATA!$AD:$AD,'Cek Yasaklisi ( gerçek tekil )'!$C5,[1]DATA!$AB:$AB,'Cek Yasaklisi ( gerçek tekil )'!$C$2),0) -> 471
C6: 10 | D6: Balıkesir | E6: =IFERROR(SUMIFS([1]DATA!$J:$J,[1]DATA!$G:$G,'Cek Yasaklisi ( gerçek tekil )'!E$2,[1]DATA!$H:$H,'Cek Yasaklisi ( gerçek tekil )'!$C$1,[1]DATA!$I:$I,'Cek Yasaklisi ( gerçek tekil )'!$C6),0) -> 22 | F6: =IFERROR(SUMIFS([1]DATA!$J:$J,[1]DATA!$G:$G,'Cek Yasaklisi ( gerçek tekil )'!F$2,[1]DATA!$H:$H,'Cek Yasaklisi ( gerçek tekil )'!$C$1,[1]DATA!$I:$I,'Cek Yasaklisi ( gerçek tekil )'!$C6),0) -> 32 | G6: =IFERROR(SUMIFS([1]DATA!$J:$J,[1]DATA!$G:$G,'Cek Yasaklisi ( gerçek tekil )'!G$2,[1]DATA!$H:$H,'Cek Yasaklisi ( gerçek tekil )'!$C$1,[1]DATA!$I:$I,'Cek Yasaklisi ( gerçek tekil )'!$C6),0) -> 30 | H6: =IFERROR(SUMIFS([1]DATA!$J:$J,[1]DATA!$G:$G,'Cek Yasaklisi ( gerçek tekil )'!H$2,[1]DATA!$H:$H,'Cek Yasaklisi ( gerçek tekil )'!$C$1,[1]DATA!$I:$I,'Cek Yasaklisi ( gerçek tekil )'!$C6),0) -> 38 | I6: =IFERROR(SUMIFS([1]DATA!$J:$J,[1]DATA!$G:$G,'Cek Yasaklisi ( gerçek tekil )'!I$2,[1]DATA!$H:$H,'Cek Yasaklisi ( gerçek tekil )'!$C$1,[1]DATA!$I:$I,'Cek Yasaklisi ( gerçek tekil )'!$C6),0) -> 25 | J6: =IFERROR(SUMIFS([1]DATA!$J:$J,[1]DATA!$G:$G,'Cek Yasaklisi ( gerçek tekil )'!J$2,[1]DATA!$H:$H,'Cek Yasaklisi ( gerçek tekil )'!$C$1,[1]DATA!$I:$I,'Cek Yasaklisi ( gerçek tekil )'!$C6),0) -> 27 | K6: =IFERROR(SUMIFS([1]DATA!$J:$J,[1]DATA!$G:$G,'Cek Yasaklisi ( gerçek tekil )'!K$2,[1]DATA!$H:$H,'Cek Yasaklisi ( gerçek tekil )'!$C$1,[1]DATA!$I:$I,'Cek Yasaklisi ( gerçek tekil )'!$C6),0) -> 28 | L6: =IFERROR(SUMIFS([1]DATA!$J:$J,[1]DATA!$G:$G,'Cek Yasaklisi ( gerçek tekil )'!L$2,[1]DATA!$H:$H,'Cek Yasaklisi ( gerçek tekil )'!$C$1,[1]DATA!$I:$I,'Cek Yasaklisi ( gerçek tekil )'!$C6),0) -> 10 | M6: =IFERROR(SUMIFS([1]DATA!$J:$J,[1]DATA!$G:$G,'Cek Yasaklisi ( gerçek tekil )'!M$2,[1]DATA!$H:$H,'Cek Yasaklisi ( gerçek tekil )'!$C$1,[1]DATA!$I:$I,'Cek Yasaklisi ( gerçek tekil )'!$C6),0) -> 22 | Q6: =IFERROR(SUMIFS([1]DATA!$X:$X,[1]DATA!$V:$V,'Cek Yasaklisi ( gerçek tekil )'!$C$1,[1]DATA!$W:$W,'Cek Yasaklisi ( gerçek tekil )'!$C6,[1]DATA!$U:$U,'Cek Yasaklisi ( gerçek tekil )'!$C$2),0) -> 178
C7: 17 | D7: Çanakkale | E7: =IFERROR(SUMIFS([1]DATA!$J:$J,[1]DATA!$G:$G,'Cek Yasaklisi ( gerçek tekil )'!E$2,[1]DATA!$H:$H,'Cek Yasaklisi ( gerçek tekil )'!$C$1,[1]DATA!$I:$I,'Cek Yasaklisi ( gerçek tekil )'!$C7),0) -> 10 | F7: =IFERROR(SUMIFS([1]DATA!$J:$J,[1]DATA!$G:$G,'Cek Yasaklisi ( gerçek tekil )'!F$2,[1]DATA!$H:$H,'Cek Yasaklisi ( gerçek tekil )'!$C$1,[1]DATA!$I:$I,'Cek Yasaklisi ( gerçek tekil )'!$C7),0) -> 9 | G7: =IFERROR(SUMIFS([1]DATA!$J:$J,[1]DATA!$G:$G,'Cek Yasaklisi ( gerçek tekil )'!G$2,[1]DATA!$H:$H,'Cek Yasaklisi ( gerçek tekil )'!$C$1,[1]DATA!$I:$I,'Cek Yasaklisi ( gerçek tekil )'!$C7),0) -> 13 | H7: =IFERROR(SUMIFS([1]DATA!$J:$J,[1]DATA!$G:$G,'Cek Yasaklisi ( gerçek tekil )'!H$2,[1]DATA!$H:$H,'Cek Yasaklisi ( gerçek tekil )'!$C$1,[1]DATA!$I:$I,'Cek Yasaklisi ( gerçek tekil )'!$C7),0) -> 10 | I7: =IFERROR(SUMIFS([1]DATA!$J:$J,[1]DATA!$G:$G,'Cek Yasaklisi ( gerçek tekil )'!I$2,[1]DATA!$H:$H,'Cek Yasaklisi ( gerçek tekil )'!$C$1,[1]DATA!$I:$I,'Cek Yasaklisi ( gerçek tekil )'!$C7),0) -> 3 | J7: =IFERROR(SUMIFS([1]DATA!$J:$J,[1]DATA!$G:$G,'Cek Yasaklisi ( gerçek tekil )'!J$2,[1]DATA!$H:$H,'Cek Yasaklisi ( gerçek tekil )'!$C$1,[1]DATA!$I:$I,'Cek Yasaklisi ( gerçek tekil )'!$C7),0) -> 9 | K7: =IFERROR(SUMIFS([1]DATA!$J:$J,[1]DATA!$G:$G,'Cek Yasaklisi ( gerçek tekil )'!K$2,[1]DATA!$H:$H,'Cek Yasaklisi ( gerçek tekil )'!$C$1,[1]DATA!$I:$I,'Cek Yasaklisi ( gerçek tekil )'!$C7),0) -> 16 | L7: =IFERROR(SUMIFS([1]DATA!$J:$J,[1]DATA!$G:$G,'Cek Yasaklisi ( gerçek tekil )'!L$2,[1]DATA!$H:$H,'Cek Yasaklisi ( gerçek tekil )'!$C$1,[1]DATA!$I:$I,'Cek Yasaklisi ( gerçek tekil )'!$C7),0) -> 9 | M7: =IFERROR(SUMIFS([1]DATA!$J:$J,[1]DATA!$G:$G,'Cek Yasaklisi ( gerçek tekil )'!M$2,[1]DATA!$H:$H,'Cek Yasaklisi ( gerçek tekil )'!$C$1,[1]DATA!$I:$I,'Cek Yasaklisi ( gerçek tekil )'!$C7),0) -> 15 | Q7: =IFERROR(SUMIFS([1]DATA!$X:$X,[1]DATA!$V:$V,'Cek Yasaklisi ( gerçek tekil )'!$C$1,[1]DATA!$W:$W,'Cek Yasaklisi ( gerçek tekil )'!$C7,[1]DATA!$U:$U,'Cek Yasaklisi ( gerçek tekil )'!$C$2),0) -> 65
C8: 22 | D8: Edirne | E8: =IFERROR(SUMIFS([1]DATA!$J:$J,[1]DATA!$G:$G,'Cek Yasaklisi ( gerçek tekil )'!E$2,[1]DATA!$H:$H,'Cek Yasaklisi ( gerçek tekil )'!$C$1,[1]DATA!$I:$I,'Cek Yasaklisi ( gerçek tekil )'!$C8),0) -> 3 | F8: =IFERROR(SUMIFS([1]DATA!$J:$J,[1]DATA!$G:$G,'Cek Yasaklisi ( gerçek tekil )'!F$2,[1]DATA!$H:$H,'Cek Yasaklisi ( gerçek tekil )'!$C$1,[1]DATA!$I:$I,'Cek Yasaklisi ( gerçek tekil )'!$C8),0) -> 1 | G8: =IFERROR(SUMIFS([1]DATA!$J:$J,[1]DATA!$G:$G,'Cek Yasaklisi ( gerçek tekil )'!G$2,[1]DATA!$H:$H,'Cek Yasaklisi ( gerçek tekil )'!$C$1,[1]DATA!$I:$I,'Cek Yasaklisi ( gerçek tekil )'!$C8),0) -> 3 | H8: =IFERROR(SUMIFS([1]DATA!$J:$J,[1]DATA!$G:$G,'Cek Yasaklisi ( gerçek tekil )'!H$2,[1]DATA!$H:$H,'Cek Yasaklisi ( gerçek tekil )'!$C$1,[1]DATA!$I:$I,'Cek Yasaklisi ( gerçek tekil )'!$C8),0) -> 1 | I8: =IFERROR(SUMIFS([1]DATA!$J:$J,[1]DATA!$G:$G,'Cek Yasaklisi ( gerçek tekil )'!I$2,[1]DATA!$H:$H,'Cek Yasaklisi ( gerçek tekil )'!$C$1,[1]DATA!$I:$I,'Cek Yasaklisi ( gerçek tekil )'!$C8),0) -> 2 | J8: =IFERROR(SUMIFS([1]DATA!$J:$J,[1]DATA!$G:$G,'Cek Yasaklisi ( gerçek tekil )'!J$2,[1]DATA!$H:$H,'Cek Yasaklisi ( gerçek tekil )'!$C$1,[1]DATA!$I:$I,'Cek Yasaklisi ( gerçek tekil )'!$C8),0) -> 5 | K8: =IFERROR(SUMIFS([1]DATA!$J:$J,[1]DATA!$G:$G,'Cek Yasaklisi ( gerçek tekil )'!K$2,[1]DATA!$H:$H,'Cek Yasaklisi ( gerçek tekil )'!$C$1,[1]DATA!$I:$I,'Cek Yasaklisi ( gerçek tekil )'!$C8),0) -> 2 | L8: =IFERROR(SUMIFS([1]DATA!$J:$J,[1]DATA!$G:$G,'Cek Yasaklisi ( gerçek tekil )'!L$2,[1]DATA!$H:$H,'Cek Yasaklisi ( gerçek tekil )'!$C$1,[1]DATA!$I:$I,'Cek Yasaklisi ( gerçek tekil )'!$C8),0) -> 0 | M8: =IFERROR(SUMIFS([1]DATA!$J:$J,[1]DATA!$G:$G,'Cek Yasaklisi ( gerçek tekil )'!M$2,[1]DATA!$H:$H,'Cek Yasaklisi ( gerçek tekil )'!$C$1,[1]DATA!$I:$I,'Cek Yasaklisi ( gerçek tekil )'!$C8),0) -> 6 | Q8: =IFERROR(SUMIFS([1]DATA!$X:$X,[1]DATA!$V:$V,'Cek Yasaklisi ( gerçek tekil )'!$C$1,[1]DATA!$W:$W,'Cek Yasaklisi ( gerçek tekil )'!$C8,[1]DATA!$U:$U,'Cek Yasaklisi ( gerçek tekil )'!$C$2),0) -> 18
C9: 39 | D9: Kırklareli | E9: =IFERROR(SUMIFS([1]DATA!$J:$J,[1]DATA!$G:$G,'Cek Yasaklisi ( gerçek tekil )'!E$2,[1]DATA!$H:$H,'Cek Yasaklisi ( gerçek tekil )'!$C$1,[1]DATA!$I:$I,'Cek Yasaklisi ( gerçek tekil )'!$C9),0) -> 8 | F9: =IFERROR(SUMIFS([1]DATA!$J:$J,[1]DATA!$G:$G,'Cek Yasaklisi ( gerçek tekil )'!F$2,[1]DATA!$H:$H,'Cek Yasaklisi ( gerçek tekil )'!$C$1,[1]DATA!$I:$I,'Cek Yasaklisi ( gerçek tekil )'!$C9),0) -> 3 | G9: =IFERROR(SUMIFS([1]DATA!$J:$J,[1]DATA!$G:$G,'Cek Yasaklisi ( gerçek tekil )'!G$2,[1]DATA!$H:$H,'Cek Yasaklisi ( gerçek tekil )'!$C$1,[1]DATA!$I:$I,'Cek Yasaklisi ( gerçek tekil )'!$C9),0) -> 5 | H9: =IFERROR(SUMIFS([1]DATA!$J:$J,[1]DATA!$G:$G,'Cek Yasaklisi ( gerçek tekil )'!H$2,[1]DATA!$H:$H,'Cek Yasaklisi ( gerçek tekil )'!$C$1,[1]DATA!$I:$I,'Cek Yasaklisi ( gerçek tekil )'!$C9),0) -> 6 | I9: =IFERROR(SUMIFS([1]DATA!$J:$J,[1]DATA!$G:$G,'Cek Yasaklisi ( gerçek tekil )'!I$2,[1]DATA!$H:$H,'Cek Yasaklisi ( gerçek tekil )'!$C$1,[1]DATA!$I:$I,'Cek Yasaklisi ( gerçek tekil )'!$C9),0) -> 3 | J9: =IFERROR(SUMIFS([1]DATA!$J:$J,[1]DATA!$G:$G,'Cek Yasaklisi ( gerçek tekil )'!J$2,[1]DATA!$H:$H,'Cek Yasaklisi ( gerçek tekil )'!$C$1,[1]DATA!$I:$I,'Cek Yasaklisi ( gerçek tekil )'!$C9),0) -> 7 | K9: =IFERROR(SUMIFS([1]DATA!$J:$J,[1]DATA!$G:$G,'Cek Yasaklisi ( gerçek tekil )'!K$2,[1]DATA!$H:$H,'Cek Yasaklisi ( gerçek tekil )'!$C$1,[1]DATA!$I:$I,'Cek Yasaklisi ( gerçek tekil )'!$C9),0) -> 13 | L9: =IFERROR(SUMIFS([1]DATA!$J:$J,[1]DATA!$G:$G,'Cek Yasaklisi ( gerçek tekil )'!L$2,[1]DATA!$H:$H,'Cek Yasaklisi ( gerçek tekil )'!$C$1,[1]DATA!$I:$I,'Cek Yasaklisi ( gerçek tekil )'!$C9),0) -> 1 | M9: =IFERROR(SUMIFS([1]DATA!$J:$J,[1]DATA!$G:$G,'Cek Yasaklisi ( gerçek tekil )'!M$2,[1]DATA!$H:$H,'Cek Yasaklisi ( gerçek tekil )'!$C$1,[1]DATA!$I:$I,'Cek Yasaklisi ( gerçek tekil )'!$C9),0) -> 5 | Q9: =IFERROR(SUMIFS([1]DATA!$X:$X,[1]DATA!$V:$V,'Cek Yasaklisi ( gerçek tekil )'!$C$1,[1]DATA!$W:$W,'Cek Yasaklisi ( gerçek tekil )'!$C9,[1]DATA!$U:$U,'Cek Yasaklisi ( gerçek tekil )'!$C$2),0) -> 40
C10: 59 | D10: Tekirdağ | E10: =IFERROR(SUMIFS([1]DATA!$J:$J,[1]DATA!$G:$G,'Cek Yasaklisi ( gerçek tekil )'!E$2,[1]DATA!$H:$H,'Cek Yasaklisi ( gerçek tekil )'!$C$1,[1]DATA!$I:$I,'Cek Yasaklisi ( gerçek tekil )'!$C10),0) -> 24 | F10: =IFERROR(SUMIFS([1]DATA!$J:$J,[1]DATA!$G:$G,'Cek Yasaklisi ( gerçek tekil )'!F$2,[1]DATA!$H:$H,'Cek Yasaklisi ( gerçek tekil )'!$C$1,[1]DATA!$I:$I,'Cek Yasaklisi ( gerçek tekil )'!$C10),0) -> 32 | G10: =IFERROR(SUMIFS([1]DATA!$J:$J,[1]DATA!$G:$G,'Cek Yasaklisi ( gerçek tekil )'!G$2,[1]DATA!$H:$H,'Cek Yasaklisi ( gerçek tekil )'!$C$1,[1]DATA!$I:$I,'Cek Yasaklisi ( gerçek tekil )'!$C10),0) -> 31 | H10: =IFERROR(SUMIFS([1]DATA!$J:$J,[1]DATA!$G:$G,'Cek Yasaklisi ( gerçek tekil )'!H$2,[1]DATA!$H:$H,'Cek Yasaklisi ( gerçek tekil )'!$C$1,[1]DATA!$I:$I,'Cek Yasaklisi ( gerçek tekil )'!$C10),0) -> 22 | I10: =IFERROR(SUMIFS([1]DATA!$J:$J,[1]DATA!$G:$G,'Cek Yasaklisi ( gerçek tekil )'!I$2,[1]DATA!$H:$H,'Cek Yasaklisi ( gerçek tekil )'!$C$1,[1]DATA!$I:$I,'Cek Yasaklisi ( gerçek tekil )'!$C10),0) -> 21 | J10: =IFERROR(SUMIFS([1]DATA!$J:$J,[1]DATA!$G:$G,'Cek Yasaklisi ( gerçek tekil )'!J$2,[1]DATA!$H:$H,'Cek Yasaklisi ( gerçek tekil )'!$C$1,[1]DATA!$I:$I,'Cek Yasaklisi ( gerçek tekil )'!$C10),0) -> 32 | K10: =IFERROR(SUMIFS([1]DATA!$J:$J,[1]DATA!$G:$G,'Cek Yasaklisi ( gerçek tekil )'!K$2,[1]DATA!$H:$H,'Cek Yasaklisi ( gerçek tekil )'!$C$1,[1]DATA!$I:$I,'Cek Yasaklisi ( gerçek tekil )'!$C10),0) -> 40 | L10: =IFERROR(SUMIFS([1]DATA!$J:$J,[1]DATA!$G:$G,'Cek Yasaklisi ( gerçek tekil )'!L$2,[1]DATA!$H:$H,'Cek Yasaklisi ( gerçek tekil )'!$C$1,[1]DATA!$I:$I,'Cek Yasaklisi ( gerçek tekil )'!$C10),0) -> 20 | M10: =IFERROR(SUMIFS([1]DATA!$J:$J,[1]DATA!$G:$G,'Cek Yasaklisi ( gerçek tekil )'!M$2,[1]DATA!$H:$H,'Cek Yasaklisi ( gerçek tekil )'!$C$1,[1]DATA!$I:$I,'Cek Yasaklisi ( gerçek tekil )'!$C10),0) -> 30 | Q10: =IFERROR(SUMIFS([1]DATA!$X:$X,[1]DATA!$V:$V,'Cek Yasaklisi ( gerçek tekil )'!$C$1,[1]DATA!$W:$W,'Cek Yasaklisi ( gerçek tekil )'!$C10,[1]DATA!$U:$U,'Cek Yasaklisi ( gerçek tekil )'!$C$2),0) -> 182
C11: Ege | D11: Ege | E11: =IFERROR(SUMIFS([1]DATA!$Q:$Q,[1]DATA!$N:$N,'Cek Yasaklisi ( gerçek tekil )'!E$2,[1]DATA!$O:$O,'Cek Yasaklisi ( gerçek tekil )'!$C$1,[1]DATA!$P:$P,'Cek Yasaklisi ( gerçek tekil )'!$C11),0) -> 425 | F11: =IFERROR(SUMIFS([1]DATA!$Q:$Q,[1]DATA!$N:$N,'Cek Yasaklisi ( gerçek tekil )'!F$2,[1]DATA!$O:$O,'Cek Yasaklisi ( gerçek tekil )'!$C$1,[1]DATA!$P:$P,'Cek Yasaklisi ( gerçek tekil )'!$C11),0) -> 375 | G11: =IFERROR(SUMIFS([1]DATA!$Q:$Q,[1]DATA!$N:$N,'Cek Yasaklisi ( gerçek tekil )'!G$2,[1]DATA!$O:$O,'Cek Yasaklisi ( gerçek tekil )'!$C$1,[1]DATA!$P:$P,'Cek Yasaklisi ( gerçek tekil )'!$C11),0) -> 376 | H11: =IFERROR(SUMIFS([1]DATA!$Q:$Q,[1]DATA!$N:$N,'Cek Yasaklisi ( gerçek tekil )'!H$2,[1]DATA!$O:$O,'Cek Yasaklisi ( gerçek tekil )'!$C$1,[1]DATA!$P:$P,'Cek Yasaklisi ( gerçek tekil )'!$C11),0) -> 439 | I11: =IFERROR(SUMIFS([1]DATA!$Q:$Q,[1]DATA!$N:$N,'Cek Yasaklisi ( gerçek tekil )'!I$2,[1]DATA!$O:$O,'Cek Yasaklisi ( gerçek tekil )'!$C$1,[1]DATA!$P:$P,'Cek Yasaklisi ( gerçek tekil )'!$C11),0) -> 374 | J11: =IFERROR(SUMIFS([1]DATA!$Q:$Q,[1]DATA!$N:$N,'Cek Yasaklisi ( gerçek tekil )'!J$2,[1]DATA!$O:$O,'Cek Yasaklisi ( gerçek tekil )'!$C$1,[1]DATA!$P:$P,'Cek Yasaklisi ( gerçek tekil )'!$C11),0) -> 479 | K11: =IFERROR(SUMIFS([1]DATA!$Q:$Q,[1]DATA!$N:$N,'Cek Yasaklisi ( gerçek tekil )'!K$2,[1]DATA!$O:$O,'Cek Yasaklisi ( gerçek tekil )'!$C$1,[1]DATA!$P:$P,'Cek Yasaklisi ( gerçek tekil )'!$C11),0) -> 416 | L11: =IFERROR(SUMIFS([1]DATA!$Q:$Q,[1]DATA!$N:$N,'Cek Yasaklisi ( gerçek tekil )'!L$2,[1]DATA!$O:$O,'Cek Yasaklisi ( gerçek tekil )'!$C$1,[1]DATA!$P:$P,'Cek Yasaklisi ( gerçek tekil )'!$C11),0) -> 196 | M11: =IFERROR(SUMIFS([1]DATA!$Q:$Q,[1]DATA!$N:$N,'Cek Yasaklisi ( gerçek tekil )'!M$2,[1]DATA!$O:$O,'Cek Yasaklisi ( gerçek tekil )'!$C$1,[1]DATA!$P:$P,'Cek Yasaklisi ( gerçek tekil )'!$C11),0) -> 382 | Q11: =IFERROR(SUMIFS([1]DATA!$AE:$AE,[1]DATA!$AC:$AC,'Cek Yasaklisi ( gerçek tekil )'!$C$1,[1]DATA!$AD:$AD,'Cek Yasaklisi ( gerçek tekil )'!$C11,[1]DATA!$AB:$AB,'Cek Yasaklisi ( gerçek tekil )'!$C$2),0) -> 2195
C12: 3 | D12: Afyonkarahisar | E12: =IFERROR(SUMIFS([1]DATA!$J:$J,[1]DATA!$G:$G,'Cek Yasaklisi ( gerçek tekil )'!E$2,[1]DATA!$H:$H,'Cek Yasaklisi ( gerçek tekil )'!$C$1,[1]DATA!$I:$I,'Cek Yasaklisi ( gerçek tekil )'!$C12),0) -> 5 | F12: =IFERROR(SUMIFS([1]DATA!$J:$J,[1]DATA!$G:$G,'Cek Yasaklisi ( gerçek tekil )'!F$2,[1]DATA!$H:$H,'Cek Yasaklisi ( gerçek tekil )'!$C$1,[1]DATA!$I:$I,'Cek Yasaklisi ( gerçek tekil )'!$C12),0) -> 23 | G12: =IFERROR(SUMIFS([1]DATA!$J:$J,[1]DATA!$G:$G,'Cek Yasaklisi ( gerçek tekil )'!G$2,[1]DATA!$H:$H,'Cek Yasaklisi ( gerçek tekil )'!$C$1,[1]DATA!$I:$I,'Cek Yasaklisi ( gerçek tekil )'!$C12),0) -> 5 | H12: =IFERROR(SUMIFS([1]DATA!$J:$J,[1]DATA!$G:$G,'Cek Yasaklisi ( gerçek tekil )'!H$2,[1]DATA!$H:$H,'Cek Yasaklisi ( gerçek tekil )'!$C$1,[1]DATA!$I:$I,'Cek Yasaklisi ( gerçek tekil )'!$C12),0) -> 11 | I12: =IFERROR(SUMIFS([1]DATA!$J:$J,[1]DATA!$G:$G,'Cek Yasaklisi ( gerçek tekil )'!I$2,[1]DATA!$H:$H,'Cek Yasaklisi ( gerçek tekil )'!$C$1,[1]DATA!$I:$I,'Cek Yasaklisi ( gerçek tekil )'!$C12),0) -> 13 | J12: =IFERROR(SUMIFS([1]DATA!$J:$J,[1]DATA!$G:$G,'Cek Yasaklisi ( gerçek tekil )'!J$2,[1]DATA!$H:$H,'Cek Yasaklisi ( gerçek tekil )'!$C$1,[1]DATA!$I:$I,'Cek Yasaklisi ( gerçek tekil )'!$C12),0) -> 14 | K12: =IFERROR(SUMIFS([1]DATA!$J:$J,[1]DATA!$G:$G,'Cek Yasaklisi ( gerçek tekil )'!K$2,[1]DATA!$H:$H,'Cek Yasaklisi ( gerçek tekil )'!$C$1,[1]DATA!$I:$I,'Cek Yasaklisi ( gerçek tekil )'!$C12),0) -> 14 | L12: =IFERROR(SUMIFS([1]DATA!$J:$J,[1]DATA!$G:$G,'Cek Yasaklisi ( gerçek tekil )'!L$2,[1]DATA!$H:$H,'Cek Yasaklisi ( gerçek tekil )'!$C$1,[1]DATA!$I:$I,'Cek Yasaklisi ( gerçek tekil )'!$C12),0) -> 10 | M12: =IFERROR(SUMIFS([1]DATA!$J:$J,[1]DATA!$G:$G,'Cek Yasaklisi ( gerçek tekil )'!M$2,[1]DATA!$H:$H,'Cek Yasaklisi ( gerçek tekil )'!$C$1,[1]DATA!$I:$I,'Cek Yasaklisi ( gerçek tekil )'!$C12),0) -> 18 | Q12: =IFERROR(SUMIFS([1]DATA!$X:$X,[1]DATA!$V:$V,'Cek Yasaklisi ( gerçek tekil )'!$C$1,[1]DATA!$W:$W,'Cek Yasaklisi ( gerçek tekil )'!$C12,[1]DATA!$U:$U,'Cek Yasaklisi ( gerçek tekil )'!$C$2),0) -> 98
C13: 9 | D13: Aydın | E13: =IFERROR(SUMIFS([1]DATA!$J:$J,[1]DATA!$G:$G,'Cek Yasaklisi ( gerçek tekil )'!E$2,[1]DATA!$H:$H,'Cek Yasaklisi ( gerçek tekil )'!$C$1,[1]DATA!$I:$I,'Cek Yasaklisi ( gerçek tekil )'!$C13),0) -> 39 | F13: =IFERROR(SUMIFS([1]DATA!$J:$J,[1]DATA!$G:$G,'Cek Yasaklisi ( gerçek tekil )'!F$2,[1]DATA!$H:$H,'Cek Yasaklisi ( gerçek tekil )'!$C$1,[1]DATA!$I:$I,'Cek Yasaklisi ( gerçek tekil )'!$C13),0) -> 18 | G13: =IFERROR(SUMIFS([1]DATA!$J:$J,[1]DATA!$G:$G,'Cek Yasaklisi ( gerçek tekil )'!G$2,[1]DATA!$H:$H,'Cek Yasaklisi ( gerçek tekil )'!$C$1,[1]DATA!$I:$I,'Cek Yasaklisi ( gerçek tekil )'!$C13),0) -> 30 | H13: =IFERROR(SUMIFS([1]DATA!$J:$J,[1]DATA!$G:$G,'Cek Yasaklisi ( gerçek tekil )'!H$2,[1]DATA!$H:$H,'Cek Yasaklisi ( gerçek tekil )'!$C$1,[1]DATA!$I:$I,'Cek Yasaklisi ( gerçek tekil )'!$C13),0) -> 31 | I13: =IFERROR(SUMIFS([1]DATA!$J:$J,[1]DATA!$G:$G,'Cek Yasaklisi ( gerçek tekil )'!I$2,[1]DATA!$H:$H,'Cek Yasaklisi ( gerçek tekil )'!$C$1,[1]DATA!$I:$I,'Cek Yasaklisi ( gerçek tekil )'!$C13),0) -> 23 | J13: =IFERROR(SUMIFS([1]DATA!$J:$J,[1]DATA!$G:$G,'Cek Yasaklisi ( gerçek tekil )'!J$2,[1]DATA!$H:$H,'Cek Yasaklisi ( gerçek tekil )'!$C$1,[1]DATA!$I:$I,'Cek Yasaklisi ( gerçek tekil )'!$C13),0) -> 35 | K13: =IFERROR(SUMIFS([1]DATA!$J:$J,[1]DATA!$G:$G,'Cek Yasaklisi ( gerçek tekil )'!K$2,[1]DATA!$H:$H,'Cek Yasaklisi ( gerçek tekil )'!$C$1,[1]DATA!$I:$I,'Cek Yasaklisi ( gerçek tekil )'!$C13),0) -> 30 | L13: =IFERROR(SUMIFS([1]DATA!$J:$J,[1]DATA!$G:$G,'Cek Yasaklisi ( gerçek tekil )'!L$2,[1]DATA!$H:$H,'Cek Yasaklisi ( gerçek tekil )'!$C$1,[1]DATA!$I:$I,'Cek Yasaklisi ( gerçek tekil )'!$C13),0) -> 30 | M13: =IFERROR(SUMIFS([1]DATA!$J:$J,[1]DATA!$G:$G,'Cek Yasaklisi ( gerçek tekil )'!M$2,[1]DATA!$H:$H,'Cek Yasaklisi ( gerçek tekil )'!$C$1,[1]DATA!$I:$I,'Cek Yasaklisi ( gerçek tekil )'!$C13),0) -> 32 | Q13: =IFERROR(SUMIFS([1]DATA!$X:$X,[1]DATA!$V:$V,'Cek Yasaklisi ( gerçek tekil )'!$C$1,[1]DATA!$W:$W,'Cek Yasaklisi ( gerçek tekil )'!$C13,[1]DATA!$U:$U,'Cek Yasaklisi ( gerçek tekil )'!$C$2),0) -> 193
C14: 20 | D14: Denizli | E14: =IFERROR(SUMIFS([1]DATA!$J:$J,[1]DATA!$G:$G,'Cek Yasaklisi ( gerçek tekil )'!E$2,[1]DATA!$H:$H,'Cek Yasaklisi ( gerçek tekil )'!$C$1,[1]DATA!$I:$I,'Cek Yasaklisi ( gerçek tekil )'!$C14),0) -> 72 | F14: =IFERROR(SUMIFS([1]DATA!$J:$J,[1]DATA!$G:$G,'Cek Yasaklisi ( gerçek tekil )'!F$2,[1]DATA!$H:$H,'Cek Yasaklisi ( gerçek tekil )'!$C$1,[1]DATA!$I:$I,'Cek Yasaklisi ( gerçek tekil )'!$C14),0) -> 31 | G14: =IFERROR(SUMIFS([1]DATA!$J:$J,[1]DATA!$G:$G,'Cek Yasaklisi ( gerçek tekil )'!G$2,[1]DATA!$H:$H,'Cek Yasaklisi ( gerçek tekil )'!$C$1,[1]DATA!$I:$I,'Cek Yasaklisi ( gerçek tekil )'!$C14),0) -> 46 | H14: =IFERROR(SUMIFS([1]DATA!$J:$J,[1]DATA!$G:$G,'Cek Yasaklisi ( gerçek tekil )'!H$2,[1]DATA!$H:$H,'Cek Yasaklisi ( gerçek tekil )'!$C$1,[1]DATA!$I:$I,'Cek Yasaklisi ( gerçek tekil )'!$C14),0) -> 33 | I14: =IFERROR(SUMIFS([1]DATA!$J:$J,[1]DATA!$G:$G,'Cek Yasaklisi ( gerçek tekil )'!I$2,[1]DATA!$H:$H,'Cek Yasaklisi ( gerçek tekil )'!$C$1,[1]DATA!$I:$I,'Cek Yasaklisi ( gerçek tekil )'!$C14),0) -> 11 | J14: =IFERROR(SUMIFS([1]DATA!$J:$J,[1]DATA!$G:$G,'Cek Yasaklisi ( gerçek tekil )'!J$2,[1]DATA!$H:$H,'Cek Yasaklisi ( gerçek tekil )'!$C$1,[1]DATA!$I:$I,'Cek Yasaklisi ( gerçek tekil )'!$C14),0) -> 47 | K14: =IFERROR(SUMIFS([1]DATA!$J:$J,[1]DATA!$G:$G,'Cek Yasaklisi ( gerçek tekil )'!K$2,[1]DATA!$H:$H,'Cek Yasaklisi ( gerçek tekil )'!$C$1,[1]DATA!$I:$I,'Cek Yasaklisi ( gerçek tekil )'!$C14),0) -> 38 | L14: =IFERROR(SUMIFS([1]DATA!$J:$J,[1]DATA!$G:$G,'Cek Yasaklisi ( gerçek tekil )'!L$2,[1]DATA!$H:$H,'Cek Yasaklisi ( gerçek tekil )'!$C$1,[1]DATA!$I:$I,'Cek Yasaklisi ( gerçek tekil )'!$C14),0) -> 5 | M14: =IFERROR(SUMIFS([1]DATA!$J:$J,[1]DATA!$G:$G,'Cek Yasaklisi ( gerçek tekil )'!M$2,[1]DATA!$H:$H,'Cek Yasaklisi ( gerçek tekil )'!$C$1,[1]DATA!$I:$I,'Cek Yasaklisi ( gerçek tekil )'!$C14),0) -> 39 | Q14: =IFERROR(SUMIFS([1]DATA!$X:$X,[1]DATA!$V:$V,'Cek Yasaklisi ( gerçek tekil )'!$C$1,[1]DATA!$W:$W,'Cek Yasaklisi ( gerçek tekil )'!$C14,[1]DATA!$U:$U,'Cek Yasaklisi ( gerçek tekil )'!$C$2),0) -> 236
C15: 35 | D15: İzmir | E15: =IFERROR(SUMIFS([1]DATA!$J:$J,[1]DATA!$G:$G,'Cek Yasaklisi ( gerçek tekil )'!E$2,[1]DATA!$H:$H,'Cek Yasaklisi ( gerçek tekil )'!$C$1,[1]DATA!$I:$I,'Cek Yasaklisi ( gerçek tekil )'!$C15),0) -> 225 | F15: =IFERROR(SUMIFS([1]DATA!$J:$J,[1]DATA!$G:$G,'Cek Yasaklisi ( gerçek tekil )'!F$2,[1]DATA!$H:$H,'Cek Yasaklisi ( gerçek tekil )'!$C$1,[1]DATA!$I:$I,'Cek Yasaklisi ( gerçek tekil )'!$C15),0) -> 206 | G15: =IFERROR(SUMIFS([1]DATA!$J:$J,[1]DATA!$G:$G,'Cek Yasaklisi ( gerçek tekil )'!G$2,[1]DATA!$H:$H,'Cek Yasaklisi ( gerçek tekil )'!$C$1,[1]DATA!$I:$I,'Cek Yasaklisi ( gerçek tekil )'!$C15),0) -> 196 | H15: =IFERROR(SUMIFS([1]DATA!$J:$J,[1]DATA!$G:$G,'Cek Yasaklisi ( gerçek tekil )'!H$2,[1]DATA!$H:$H,'Cek Yasaklisi ( gerçek tekil )'!$C$1,[1]DATA!$I:$I,'Cek Yasaklisi ( gerçek tekil )'!$C15),0) -> 237 | I15: =IFERROR(SUMIFS([1]DATA!$J:$J,[1]DATA!$G:$G,'Cek Yasaklisi ( gerçek tekil )'!I$2,[1]DATA!$H:$H,'Cek Yasaklisi ( gerçek tekil )'!$C$1,[1]DATA!$I:$I,'Cek Yasaklisi ( gerçek tekil )'!$C15),0) -> 215 | J15: =IFERROR(SUMIFS([1]DATA!$J:$J,[1]DATA!$G:$G,'Cek Yasaklisi ( gerçek tekil )'!J$2,[1]DATA!$H:$H,'Cek Yasaklisi ( gerçek tekil )'!$C$1,[1]DATA!$I:$I,'Cek Yasaklisi ( gerçek tekil )'!$C15),0) -> 271 | K15: =IFERROR(SUMIFS([1]DATA!$J:$J,[1]DATA!$G:$G,'Cek Yasaklisi ( gerçek tekil )'!K$2,[1]DATA!$H:$H,'Cek Yasaklisi ( gerçek tekil )'!$C$1,[1]DATA!$I:$I,'Cek Yasaklisi ( gerçek tekil )'!$C15),0) -> 217 | L15: =IFERROR(SUMIFS([1]DATA!$J:$J,[1]DATA!$G:$G,'Cek Yasaklisi ( gerçek tekil )'!L$2,[1]DATA!$H:$H,'Cek Yasaklisi ( gerçek tekil )'!$C$1,[1]DATA!$I:$I,'Cek Yasaklisi ( gerçek tekil )'!$C15),0) -> 81 | M15: =IFERROR(SUMIFS([1]DATA!$J:$J,[1]DATA!$G:$G,'Cek Yasaklisi ( gerçek tekil )'!M$2,[1]DATA!$H:$H,'Cek Yasaklisi ( gerçek tekil )'!$C$1,[1]DATA!$I:$I,'Cek Yasaklisi ( gerçek tekil )'!$C15),0) -> 197 | Q15: =IFERROR(SUMIFS([1]DATA!$X:$X,[1]DATA!$V:$V,'Cek Yasaklisi ( gerçek tekil )'!$C$1,[1]DATA!$W:$W,'Cek Yasaklisi ( gerçek tekil )'!$C15,[1]DATA!$U:$U,'Cek Yasaklisi ( gerçek tekil )'!$C$2),0) -> 1208
C16: 43 | D16: Kütahya | E16: =IFERROR(SUMIFS([1]DATA!$J:$J,[1]DATA!$G:$G,'Cek Yasaklisi ( gerçek tekil )'!E$2,[1]DATA!$H:$H,'Cek Yasaklisi ( gerçek tekil )'!$C$1,[1]DATA!$I:$I,'Cek Yasaklisi ( gerçek tekil )'!$C16),0) -> 8 | F16: =IFERROR(SUMIFS([1]DATA!$J:$J,[1]DATA!$G:$G,'Cek Yasaklisi ( gerçek tekil )'!F$2,[1]DATA!$H:$H,'Cek Yasaklisi ( gerçek tekil )'!$C$1,[1]DATA!$I:$I,'Cek Yasaklisi ( gerçek tekil )'!$C16),0) -> 9 | G16: =IFERROR(SUMIFS([1]DATA!$J:$J,[1]DATA!$G:$G,'Cek Yasaklisi ( gerçek tekil )'!G$2,[1]DATA!$H:$H,'Cek Yasaklisi ( gerçek tekil )'!$C$1,[1]DATA!$I:$I,'Cek Yasaklisi ( gerçek tekil )'!$C16),0) -> 12 | H16: =IFERROR(SUMIFS([1]DATA!$J:$J,[1]DATA!$G:$G,'Cek Yasaklisi ( gerçek tekil )'!H$2,[1]DATA!$H:$H,'Cek Yasaklisi ( gerçek tekil )'!$C$1,[1]DATA!$I:$I,'Cek Yasaklisi ( gerçek tekil )'!$C16),0) -> 13 | I16: =IFERROR(SUMIFS([1]DATA!$J:$J,[1]DATA!$G:$G,'Cek Yasaklisi ( gerçek tekil )'!I$2,[1]DATA!$H:$H,'Cek Yasaklisi ( gerçek tekil )'!$C$1,[1]DATA!$I:$I,'Cek Yasaklisi ( gerçek tekil )'!$C16),0) -> 7 | J16: =IFERROR(SUMIFS([1]DATA!$J:$J,[1]DATA!$G:$G,'Cek Yasaklisi ( gerçek tekil )'!J$2,[1]DATA!$H:$H,'Cek Yasaklisi ( gerçek tekil )'!$C$1,[1]DATA!$I:$I,'Cek Yasaklisi ( gerçek tekil )'!$C16),0) -> 11 | K16: =IFERROR(SUMIFS([1]DATA!$J:$J,[1]DATA!$G:$G,'Cek Yasaklisi ( gerçek tekil )'!K$2,[1]DATA!$H:$H,'Cek Yasaklisi ( gerçek tekil )'!$C$1,[1]DATA!$I:$I,'Cek Yasaklisi ( gerçek tekil )'!$C16),0) -> 10 | L16: =IFERROR(SUMIFS([1]DATA!$J:$J,[1]DATA!$G:$G,'Cek Yasaklisi ( gerçek tekil )'!L$2,[1]DATA!$H:$H,'Cek Yasaklisi ( gerçek tekil )'!$C$1,[1]DATA!$I:$I,'Cek Yasaklisi ( gerçek tekil )'!$C16),0) -> 9 | M16: =IFERROR(SUMIFS([1]DATA!$J:$J,[1]DATA!$G:$G,'Cek Yasaklisi ( gerçek tekil )'!M$2,[1]DATA!$H:$H,'Cek Yasaklisi ( gerçek tekil )'!$C$1,[1]DATA!$I:$I,'Cek Yasaklisi ( gerçek tekil )'!$C16),0) -> 11 | Q16: =IFERROR(SUMIFS([1]DATA!$X:$X,[1]DATA!$V:$V,'Cek Yasaklisi ( gerçek tekil )'!$C$1,[1]DATA!$W:$W,'Cek Yasaklisi ( gerçek tekil )'!$C16,[1]DATA!$U:$U,'Cek Yasaklisi ( gerçek tekil )'!$C$2),0) -> 70
C17: 45 | D17: Manisa | E17: =IFERROR(SUMIFS([1]DATA!$J:$J,[1]DATA!$G:$G,'Cek Yasaklisi ( gerçek tekil )'!E$2,[1]DATA!$H:$H,'Cek Yasaklisi ( gerçek tekil )'!$C$1,[1]DATA!$I:$I,'Cek Yasaklisi ( gerçek tekil )'!$C17),0) -> 30 | F17: =IFERROR(SUMIFS([1]DATA!$J:$J,[1]DATA!$G:$G,'Cek Yasaklisi ( gerçek tekil )'!F$2,[1]DATA!$H:$H,'Cek Yasaklisi ( gerçek tekil )'!$C$1,[1]DATA!$I:$I,'Cek Yasaklisi ( gerçek tekil )'!$C17),0) -> 54 | G17: =IFERROR(SUMIFS([1]DATA!$J:$J,[1]DATA!$G:$G,'Cek Yasaklisi ( gerçek tekil )'!G$2,[1]DATA!$H:$H,'Cek Yasaklisi ( gerçek tekil )'!$C$1,[1]DATA!$I:$I,'Cek Yasaklisi ( gerçek tekil )'!$C17),0) -> 43 | H17: =IFERROR(SUMIFS([1]DATA!$J:$J,[1]DATA!$G:$G,'Cek Yasaklisi ( gerçek tekil )'!H$2,[1]DATA!$H:$H,'Cek Yasaklisi ( gerçek tekil )'!$C$1,[1]DATA!$I:$I,'Cek Yasaklisi ( gerçek tekil )'!$C17),0) -> 70 | I17: =IFERROR(SUMIFS([1]DATA!$J:$J,[1]DATA!$G:$G,'Cek Yasaklisi ( gerçek tekil )'!I$2,[1]DATA!$H:$H,'Cek Yasaklisi ( gerçek tekil )'!$C$1,[1]DATA!$I:$I,'Cek Yasaklisi ( gerçek tekil )'!$C17),0) -> 65 | J17: =IFERROR(SUMIFS([1]DATA!$J:$J,[1]DATA!$G:$G,'Cek Yasaklisi ( gerçek tekil )'!J$2,[1]DATA!$H:$H,'Cek Yasaklisi ( gerçek tekil )'!$C$1,[1]DATA!$I:$I,'Cek Yasaklisi ( gerçek tekil )'!$C17),0) -> 65 | K17: =IFERROR(SUMIFS([1]DATA!$J:$J,[1]DATA!$G:$G,'Cek Yasaklisi ( gerçek tekil )'!K$2,[1]DATA!$H:$H,'Cek Yasaklisi ( gerçek tekil )'!$C$1,[1]DATA!$I:$I,'Cek Yasaklisi ( gerçek tekil )'!$C17),0) -> 53 | L17: =IFERROR(SUMIFS([1]DATA!$J:$J,[1]DATA!$G:$G,'Cek Yasaklisi ( gerçek tekil )'!L$2,[1]DATA!$H:$H,'Cek Yasaklisi ( gerçek tekil )'!$C$1,[1]DATA!$I:$I,'Cek Yasaklisi ( gerçek tekil )'!$C17),0) -> 22 | M17: =IFERROR(SUMIFS([1]DATA!$J:$J,[1]DATA!$G:$G,'Cek Yasaklisi ( gerçek tekil )'!M$2,[1]DATA!$H:$H,'Cek Yasaklisi ( gerçek tekil )'!$C$1,[1]DATA!$I:$I,'Cek Yasaklisi ( gerçek tekil )'!$C17),0) -> 41 | Q17: =IFERROR(SUMIFS([1]DATA!$X:$X,[1]DATA!$V:$V,'Cek Yasaklisi ( gerçek tekil )'!$C$1,[1]DATA!$W:$W,'Cek Yasaklisi ( gerçek tekil )'!$C17,[1]DATA!$U:$U,'Cek Yasaklisi ( gerçek tekil )'!$C$2),0) -> 307
C18: 48 | D18: Muğla | E18: =IFERROR(SUMIFS([1]DATA!$J:$J,[1]DATA!$G:$G,'Cek Yasaklisi ( gerçek tekil )'!E$2,[1]DATA!$H:$H,'Cek Yasaklisi ( gerçek tekil )'!$C$1,[1]DATA!$I:$I,'Cek Yasaklisi ( gerçek tekil )'!$C18),0) -> 39 | F18: =IFERROR(SUMIFS([1]DATA!$J:$J,[1]DATA!$G:$G,'Cek Yasaklisi ( gerçek tekil )'!F$2,[1]DATA!$H:$H,'Cek Yasaklisi ( gerçek tekil )'!$C$1,[1]DATA!$I:$I,'Cek Yasaklisi ( gerçek tekil )'!$C18),0) -> 32 | G18: =IFERROR(SUMIFS([1]DATA!$J:$J,[1]DATA!$G:$G,'Cek Yasaklisi ( gerçek tekil )'!G$2,[1]DATA!$H:$H,'Cek Yasaklisi ( gerçek tekil )'!$C$1,[1]DATA!$I:$I,'Cek Yasaklisi ( gerçek tekil )'!$C18),0) -> 35 | H18: =IFERROR(SUMIFS([1]DATA!$J:$J,[1]DATA!$G:$G,'Cek Yasaklisi ( gerçek tekil )'!H$2,[1]DATA!$H:$H,'Cek Yasaklisi ( gerçek tekil )'!$C$1,[1]DATA!$I:$I,'Cek Yasaklisi ( gerçek tekil )'!$C18),0) -> 42 | I18: =IFERROR(SUMIFS([1]DATA!$J:$J,[1]DATA!$G:$G,'Cek Yasaklisi ( gerçek tekil )'!I$2,[1]DATA!$H:$H,'Cek Yasaklisi ( gerçek tekil )'!$C$1,[1]DATA!$I:$I,'Cek Yasaklisi ( gerçek tekil )'!$C18),0) -> 38 | J18: =IFERROR(SUMIFS([1]DATA!$J:$J,[1]DATA!$G:$G,'Cek Yasaklisi ( gerçek tekil )'!J$2,[1]DATA!$H:$H,'Cek Yasaklisi ( gerçek tekil )'!$C$1,[1]DATA!$I:$I,'Cek Yasaklisi ( gerçek tekil )'!$C18),0) -> 28 | K18: =IFERROR(SUMIFS([1]DATA!$J:$J,[1]DATA!$G:$G,'Cek Yasaklisi ( gerçek tekil )'!K$2,[1]DATA!$H:$H,'Cek Yasaklisi ( gerçek tekil )'!$C$1,[1]DATA!$I:$I,'Cek Yasaklisi ( gerçek tekil )'!$C18),0) -> 45 | L18: =IFERROR(SUMIFS([1]DATA!$J:$J,[1]DATA!$G:$G,'Cek Yasaklisi ( gerçek tekil )'!L$2,[1]DATA!$H:$H,'Cek Yasaklisi ( gerçek tekil )'!$C$1,[1]DATA!$I:$I,'Cek Yasaklisi ( gerçek tekil )'!$C18),0) -> 24 | M18: =IFERROR(SUMIFS([1]DATA!$J:$J,[1]DATA!$G:$G,'Cek Yasaklisi ( gerçek tekil )'!M$2,[1]DATA!$H:$H,'Cek Yasaklisi ( gerçek tekil )'!$C$1,[1]DATA!$I:$I,'Cek Yasaklisi ( gerçek tekil )'!$C18),0) -> 37 | Q18: =IFERROR(SUMIFS([1]DATA!$X:$X,[1]DATA!$V:$V,'Cek Yasaklisi ( gerçek tekil )'!$C$1,[1]DATA!$W:$W,'Cek Yasaklisi ( gerçek tekil )'!$C18,[1]DATA!$U:$U,'Cek Yasaklisi ( gerçek tekil )'!$C$2),0) -> 216
C19: 64 | D19: Uşak | E19: =IFERROR(SUMIFS([1]DATA!$J:$J,[1]DATA!$G:$G,'Cek Yasaklisi ( gerçek tekil )'!E$2,[1]DATA!$H:$H,'Cek Yasaklisi ( gerçek tekil )'!$C$1,[1]DATA!$I:$I,'Cek Yasaklisi ( gerçek tekil )'!$C19),0) -> 17 | F19: =IFERROR(SUMIFS([1]DATA!$J:$J,[1]DATA!$G:$G,'Cek Yasaklisi ( gerçek tekil )'!F$2,[1]DATA!$H:$H,'Cek Yasaklisi ( gerçek tekil )'!$C$1,[1]DATA!$I:$I,'Cek Yasaklisi ( gerçek tekil )'!$C19),0) -> 9 | G19: =IFERROR(SUMIFS([1]DATA!$J:$J,[1]DATA!$G:$G,'Cek Yasaklisi ( gerçek tekil )'!G$2,[1]DATA!$H:$H,'Cek Yasaklisi ( gerçek tekil )'!$C$1,[1]DATA!$I:$I,'Cek Yasaklisi ( gerçek tekil )'!$C19),0) -> 19 | H19: =IFERROR(SUMIFS([1]DATA!$J:$J,[1]DATA!$G:$G,'Cek Yasaklisi ( gerçek tekil )'!H$2,[1]DATA!$H:$H,'Cek Yasaklisi ( gerçek tekil )'!$C$1,[1]DATA!$I:$I,'Cek Yasaklisi ( gerçek tekil )'!$C19),0) -> 19 | I19: =IFERROR(SUMIFS([1]DATA!$J:$J,[1]DATA!$G:$G,'Cek Yasaklisi ( gerçek tekil )'!I$2,[1]DATA!$H:$H,'Cek Yasaklisi ( gerçek tekil )'!$C$1,[1]DATA!$I:$I,'Cek Yasaklisi ( gerçek tekil )'!$C19),0) -> 17 | J19: =IFERROR(SUMIFS([1]DATA!$J:$J,[1]DATA!$G:$G,'Cek Yasaklisi ( gerçek tekil )'!J$2,[1]DATA!$H:$H,'Cek Yasaklisi ( gerçek tekil )'!$C$1,[1]DATA!$I:$I,'Cek Yasaklisi ( gerçek tekil )'!$C19),0) -> 22 | K19: =IFERROR(SUMIFS([1]DATA!$J:$J,[1]DATA!$G:$G,'Cek Yasaklisi ( gerçek tekil )'!K$2,[1]DATA!$H:$H,'Cek Yasaklisi ( gerçek tekil )'!$C$1,[1]DATA!$I:$I,'Cek Yasaklisi ( gerçek tekil )'!$C19),0) -> 18 | L19: =IFERROR(SUMIFS([1]DATA!$J:$J,[1]DATA!$G:$G,'Cek Yasaklisi ( gerçek tekil )'!L$2,[1]DATA!$H:$H,'Cek Yasaklisi ( gerçek tekil )'!$C$1,[1]DATA!$I:$I,'Cek Yasaklisi ( gerçek tekil )'!$C19),0) -> 24 | M19: =IFERROR(SUMIFS([1]DATA!$J:$J,[1]DATA!$G:$G,'Cek Yasaklisi ( gerçek tekil )'!M$2,[1]DATA!$H:$H,'Cek Yasaklisi ( gerçek tekil )'!$C$1,[1]DATA!$I:$I,'Cek Yasaklisi ( gerçek tekil )'!$C19),0) -> 16 | Q19: =IFERROR(SUMIFS([1]DATA!$X:$X,[1]DATA!$V:$V,'Cek Yasaklisi ( gerçek tekil )'!$C$1,[1]DATA!$W:$W,'Cek Yasaklisi ( gerçek tekil )'!$C19,[1]DATA!$U:$U,'Cek Yasaklisi ( gerçek tekil )'!$C$2),0) -> 110
C20: Dogu Marmara | D20: Doğu Marmara | E20: =IFERROR(SUMIFS([1]DATA!$Q:$Q,[1]DATA!$N:$N,'Cek Yasaklisi ( gerçek tekil )'!E$2,[1]DATA!$O:$O,'Cek Yasaklisi ( gerçek tekil )'!$C$1,[1]DATA!$P:$P,'Cek Yasaklisi ( gerçek tekil )'!$C20),0) -> 304 | F20: =IFERROR(SUMIFS([1]DATA!$Q:$Q,[1]DATA!$N:$N,'Cek Yasaklisi ( gerçek tekil )'!F$2,[1]DATA!$O:$O,'Cek Yasaklisi ( gerçek tekil )'!$C$1,[1]DATA!$P:$P,'Cek Yasaklisi ( gerçek tekil )'!$C20),0) -> 237 | G20: =IFERROR(SUMIFS([1]DATA!$Q:$Q,[1]DATA!$N:$N,'Cek Yasaklisi ( gerçek tekil )'!G$2,[1]DATA!$O:$O,'Cek Yasaklisi ( gerçek tekil )'!$C$1,[1]DATA!$P:$P,'Cek Yasaklisi ( gerçek tekil )'!$C20),0) -> 273 | H20: =IFERROR(SUMIFS([1]DATA!$Q:$Q,[1]DATA!$N:$N,'Cek Yasaklisi ( gerçek tekil )'!H$2,[1]DATA!$O:$O,'Cek Yasaklisi ( gerçek tekil )'!$C$1,[1]DATA!$P:$P,'Cek Yasaklisi ( gerçek tekil )'!$C20),0) -> 423 | I20: =IFERROR(SUMIFS([1]DATA!$Q:$Q,[1]DATA!$N:$N,'Cek Yasaklisi ( gerçek tekil )'!I$2,[1]DATA!$O:$O,'Cek Yasaklisi ( gerçek tekil )'!$C$1,[1]DATA!$P:$P,'Cek Yasaklisi ( gerçek tekil )'!$C20),0) -> 322 | J20: =IFERROR(SUMIFS([1]DATA!$Q:$Q,[1]DATA!$N:$N,'Cek Yasaklisi ( gerçek tekil )'!J$2,[1]DATA!$O:$O,'Cek Yasaklisi ( gerçek tekil )'!$C$1,[1]DATA!$P:$P,'Cek Yasaklisi ( gerçek tekil )'!$C20),0) -> 402 | K20: =IFERROR(SUMIFS([1]DATA!$Q:$Q,[1]DATA!$N:$N,'Cek Yasaklisi ( gerçek tekil )'!K$2,[1]DATA!$O:$O,'Cek Yasaklisi ( gerçek tekil )'!$C$1,[1]DATA!$P:$P,'Cek Yasaklisi ( gerçek tekil )'!$C20),0) -> 310 | L20: =IFERROR(SUMIFS([1]DATA!$Q:$Q,[1]DATA!$N:$N,'Cek Yasaklisi ( gerçek tekil )'!L$2,[1]DATA!$O:$O,'Cek Yasaklisi ( gerçek tekil )'!$C$1,[1]DATA!$P:$P,'Cek Yasaklisi ( gerçek tekil )'!$C20),0) -> 168 | M20: =IFERROR(SUMIFS([1]DATA!$Q:$Q,[1]DATA!$N:$N,'Cek Yasaklisi ( gerçek tekil )'!M$2,[1]DATA!$O:$O,'Cek Yasaklisi ( gerçek tekil )'!$C$1,[1]DATA!$P:$P,'Cek Yasaklisi ( gerçek tekil )'!$C20),0) -> 253 | Q20: =IFERROR(SUMIFS([1]DATA!$AE:$AE,[1]DATA!$AC:$AC,'Cek Yasaklisi ( gerçek tekil )'!$C$1,[1]DATA!$AD:$AD,'Cek Yasaklisi ( gerçek tekil )'!$C20,[1]DATA!$AB:$AB,'Cek Yasaklisi ( gerçek tekil )'!$C$2),0) -> 1734
C21: 11 | D21: Bilecik | E21: =IFERROR(SUMIFS([1]DATA!$J:$J,[1]DATA!$G:$G,'Cek Yasaklisi ( gerçek tekil )'!E$2,[1]DATA!$H:$H,'Cek Yasaklisi ( gerçek tekil )'!$C$1,[1]DATA!$I:$I,'Cek Yasaklisi ( gerçek tekil )'!$C21),0) -> 6 | F21: =IFERROR(SUMIFS([1]DATA!$J:$J,[1]DATA!$G:$G,'Cek Yasaklisi ( gerçek tekil )'!F$2,[1]DATA!$H:$H,'Cek Yasaklisi ( gerçek tekil )'!$C$1,[1]DATA!$I:$I,'Cek Yasaklisi ( gerçek tekil )'!$C21),0) -> 7 | G21: =IFERROR(SUMIFS([1]DATA!$J:$J,[1]DATA!$G:$G,'Cek Yasaklisi ( gerçek tekil )'!G$2,[1]DATA!$H:$H,'Cek Yasaklisi ( gerçek tekil )'!$C$1,[1]DATA!$I:$I,'Cek Yasaklisi ( gerçek tekil )'!$C21),0) -> 6 | H21: =IFERROR(SUMIFS([1]DATA!$J:$J,[1]DATA!$G:$G,'Cek Yasaklisi ( gerçek tekil )'!H$2,[1]DATA!$H:$H,'Cek Yasaklisi ( gerçek tekil )'!$C$1,[1]DATA!$I:$I,'Cek Yasaklisi ( gerçek tekil )'!$C21),0) -> 7 | I21: =IFERROR(SUMIFS([1]DATA!$J:$J,[1]DATA!$G:$G,'Cek Yasaklisi ( gerçek tekil )'!I$2,[1]DATA!$H:$H,'Cek Yasaklisi ( gerçek tekil )'!$C$1,[1]DATA!$I:$I,'Cek Yasaklisi ( gerçek tekil )'!$C21),0) -> 6 | J21: =IFERROR(SUMIFS([1]DATA!$J:$J,[1]DATA!$G:$G,'Cek Yasaklisi ( gerçek tekil )'!J$2,[1]DATA!$H:$H,'Cek Yasaklisi ( gerçek tekil )'!$C$1,[1]DATA!$I:$I,'Cek Yasaklisi ( gerçek tekil )'!$C21),0) -> 6 | K21: =IFERROR(SUMIFS([1]DATA!$J:$J,[1]DATA!$G:$G,'Cek Yasaklisi ( gerçek tekil )'!K$2,[1]DATA!$H:$H,'Cek Yasaklisi ( gerçek tekil )'!$C$1,[1]DATA!$I:$I,'Cek Yasaklisi ( gerçek tekil )'!$C21),0) -> 8 | L21: =IFERROR(SUMIFS([1]DATA!$J:$J,[1]DATA!$G:$G,'Cek Yasaklisi ( gerçek tekil )'!L$2,[1]DATA!$H:$H,'Cek Yasaklisi ( gerçek tekil )'!$C$1,[1]DATA!$I:$I,'Cek Yasaklisi ( gerçek tekil )'!$C21),0) -> 7 | M21: =IFERROR(SUMIFS([1]DATA!$J:$J,[1]DATA!$G:$G,'Cek Yasaklisi ( gerçek tekil )'!M$2,[1]DATA!$H:$H,'Cek Yasaklisi ( gerçek tekil )'!$C$1,[1]DATA!$I:$I,'Cek Yasaklisi ( gerçek tekil )'!$C21),0) -> 11 | Q21: =IFERROR(SUMIFS([1]DATA!$X:$X,[1]DATA!$V:$V,'Cek Yasaklisi ( gerçek tekil )'!$C$1,[1]DATA!$W:$W,'Cek Yasaklisi ( gerçek tekil )'!$C21,[1]DATA!$U:$U,'Cek Yasaklisi ( gerçek tekil )'!$C$2),0) -> 54
C22: 14 | D22: Bolu | E22: =IFERROR(SUMIFS([1]DATA!$J:$J,[1]DATA!$G:$G,'Cek Yasaklisi ( gerçek tekil )'!E$2,[1]DATA!$H:$H,'Cek Yasaklisi ( gerçek tekil )'!$C$1,[1]DATA!$I:$I,'Cek Yasaklisi ( gerçek tekil )'!$C22),0) -> 3 | F22: =IFERROR(SUMIFS([1]DATA!$J:$J,[1]DATA!$G:$G,'Cek Yasaklisi ( gerçek tekil )'!F$2,[1]DATA!$H:$H,'Cek Yasaklisi ( gerçek tekil )'!$C$1,[1]DATA!$I:$I,'Cek Yasaklisi ( gerçek tekil )'!$C22),0) -> 1 | G22: =IFERROR(SUMIFS([1]DATA!$J:$J,[1]DATA!$G:$G,'Cek Yasaklisi ( gerçek tekil )'!G$2,[1]DATA!$H:$H,'Cek Yasaklisi ( gerçek tekil )'!$C$1,[1]DATA!$I:$I,'Cek Yasaklisi ( gerçek tekil )'!$C22),0) -> 16 | H22: =IFERROR(SUMIFS([1]DATA!$J:$J,[1]DATA!$G:$G,'Cek Yasaklisi ( gerçek tekil )'!H$2,[1]DATA!$H:$H,'Cek Yasaklisi ( gerçek tekil )'!$C$1,[1]DATA!$I:$I,'Cek Yasaklisi ( gerçek tekil )'!$C22),0) -> 7 | I22: =IFERROR(SUMIFS([1]DATA!$J:$J,[1]DATA!$G:$G,'Cek Yasaklisi ( gerçek tekil )'!I$2,[1]DATA!$H:$H,'Cek Yasaklisi ( gerçek tekil )'!$C$1,[1]DATA!$I:$I,'Cek Yasaklisi ( gerçek tekil )'!$C22),0) -> 6 | J22: =IFERROR(SUMIFS([1]DATA!$J:$J,[1]DATA!$G:$G,'Cek Yasaklisi ( gerçek tekil )'!J$2,[1]DATA!$H:$H,'Cek Yasaklisi ( gerçek tekil )'!$C$1,[1]DATA!$I:$I,'Cek Yasaklisi ( gerçek tekil )'!$C22),0) -> 5 | K22: =IFERROR(SUMIFS([1]DATA!$J:$J,[1]DATA!$G:$G,'Cek Yasaklisi ( gerçek tekil )'!K$2,[1]DATA!$H:$H,'Cek Yasaklisi ( gerçek tekil )'!$C$1,[1]DATA!$I:$I,'Cek Yasaklisi ( gerçek tekil )'!$C22),0) -> 1 | L22: =IFERROR(SUMIFS([1]DATA!$J:$J,[1]DATA!$G:$G,'Cek Yasaklisi ( gerçek tekil )'!L$2,[1]DATA!$H:$H,'Cek Yasaklisi ( gerçek tekil )'!$C$1,[1]DATA!$I:$I,'Cek Yasaklisi ( gerçek tekil )'!$C22),0) -> 4 | M22: =IFERROR(SUMIFS([1]DATA!$J:$J,[1]DATA!$G:$G,'Cek Yasaklisi ( gerçek tekil )'!M$2,[1]DATA!$H:$H,'Cek Yasaklisi ( gerçek tekil )'!$C$1,[1]DATA!$I:$I,'Cek Yasaklisi ( gerçek tekil )'!$C22),0) -> 13 | Q22: =IFERROR(SUMIFS([1]DATA!$X:$X,[1]DATA!$V:$V,'Cek Yasaklisi ( gerçek tekil )'!$C$1,[1]DATA!$W:$W,'Cek Yasaklisi ( gerçek tekil )'!$C22,[1]DATA!$U:$U,'Cek Yasaklisi ( gerçek tekil )'!$C$2),0) -> 46
C23: 16 | D23: Bursa | E23: =IFERROR(SUMIFS([1]DATA!$J:$J,[1]DATA!$G:$G,'Cek Yasaklisi ( gerçek tekil )'!E$2,[1]DATA!$H:$H,'Cek Yasaklisi ( gerçek tekil )'!$C$1,[1]DATA!$I:$I,'Cek Yasaklisi ( gerçek tekil )'!$C23),0) -> 131 | F23: =IFERROR(SUMIFS([1]DATA!$J:$J,[1]DATA!$G:$G,'Cek Yasaklisi ( gerçek tekil )'!F$2,[1]DATA!$H:$H,'Cek Yasaklisi ( gerçek tekil )'!$C$1,[1]DATA!$I:$I,'Cek Yasaklisi ( gerçek tekil )'!$C23),0) -> 104 | G23: =IFERROR(SUMIFS([1]DATA!$J:$J,[1]DATA!$G:$G,'Cek Yasaklisi ( gerçek tekil )'!G$2,[1]DATA!$H:$H,'Cek Yasaklisi ( gerçek tekil )'!$C$1,[1]DATA!$I:$I,'Cek Yasaklisi ( gerçek tekil )'!$C23),0) -> 124 | H23: =IFERROR(SUMIFS([1]DATA!$J:$J,[1]DATA!$G:$G,'Cek Yasaklisi ( gerçek tekil )'!H$2,[1]DATA!$H:$H,'Cek Yasaklisi ( gerçek tekil )'!$C$1,[1]DATA!$I:$I,'Cek Yasaklisi ( gerçek tekil )'!$C23),0) -> 246 | I23: =IFERROR(SUMIFS([1]DATA!$J:$J,[1]DATA!$G:$G,'Cek Yasaklisi ( gerçek tekil )'!I$2,[1]DATA!$H:$H,'Cek Yasaklisi ( gerçek tekil )'!$C$1,[1]DATA!$I:$I,'Cek Yasaklisi ( gerçek tekil )'!$C23),0) -> 199 | J23: =IFERROR(SUMIFS([1]DATA!$J:$J,[1]DATA!$G:$G,'Cek Yasaklisi ( gerçek tekil )'!J$2,[1]DATA!$H:$H,'Cek Yasaklisi ( gerçek tekil )'!$C$1,[1]DATA!$I:$I,'Cek Yasaklisi ( gerçek tekil )'!$C23),0) -> 217 | K23: =IFERROR(SUMIFS([1]DATA!$J:$J,[1]DATA!$G:$G,'Cek Yasaklisi ( gerçek tekil )'!K$2,[1]DATA!$H:$H,'Cek Yasaklisi ( gerçek tekil )'!$C$1,[1]DATA!$I:$I,'Cek Yasaklisi ( gerçek tekil )'!$C23),0) -> 132 | L23: =IFERROR(SUMIFS([1]DATA!$J:$J,[1]DATA!$G:$G,'Cek Yasaklisi ( gerçek tekil )'!L$2,[1]DATA!$H:$H,'Cek Yasaklisi ( gerçek tekil )'!$C$1,[1]DATA!$I:$I,'Cek Yasaklisi ( gerçek tekil )'!$C23),0) -> 31 | M23: =IFERROR(SUMIFS([1]DATA!$J:$J,[1]DATA!$G:$G,'Cek Yasaklisi ( gerçek tekil )'!M$2,[1]DATA!$H:$H,'Cek Yasaklisi ( gerçek tekil )'!$C$1,[1]DATA!$I:$I,'Cek Yasaklisi ( gerçek tekil )'!$C23),0) -> 63 | Q23: =IFERROR(SUMIFS([1]DATA!$X:$X,[1]DATA!$V:$V,'Cek Yasaklisi ( gerçek tekil )'!$C$1,[1]DATA!$W:$W,'Cek Yasaklisi ( gerçek tekil )'!$C23,[1]DATA!$U:$U,'Cek Yasaklisi ( gerçek tekil )'!$C$2),0) -> 818
C24: 81 | D24: Düzce | E24: =IFERROR(SUMIFS([1]DATA!$J:$J,[1]DATA!$G:$G,'Cek Yasaklisi ( gerçek tekil )'!E$2,[1]DATA!$H:$H,'Cek Yasaklisi ( gerçek tekil )'!$C$1,[1]DATA!$I:$I,'Cek Yasaklisi ( gerçek tekil )'!$C24),0) -> 3 | F24: =IFERROR(SUMIFS([1]DATA!$J:$J,[1]DATA!$G:$G,'Cek Yasaklisi ( gerçek tekil )'!F$2,[1]DATA!$H:$H,'Cek Yasaklisi ( gerçek tekil )'!$C$1,[1]DATA!$I:$I,'Cek Yasaklisi ( gerçek tekil )'!$C24),0) -> 2 | G24: =IFERROR(SUMIFS([1]DATA!$J:$J,[1]DATA!$G:$G,'Cek Yasaklisi ( gerçek tekil )'!G$2,[1]DATA!$H:$H,'Cek Yasaklisi ( gerçek tekil )'!$C$1,[1]DATA!$I:$I,'Cek Yasaklisi ( gerçek tekil )'!$C24),0) -> 2 | H24: =IFERROR(SUMIFS([1]DATA!$J:$J,[1]DATA!$G:$G,'Cek Yasaklisi ( gerçek tekil )'!H$2,[1]DATA!$H:$H,'Cek Yasaklisi ( gerçek tekil )'!$C$1,[1]DATA!$I:$I,'Cek Yasaklisi ( gerçek tekil )'!$C24),0) -> 0 | I24: =IFERROR(SUMIFS([1]DATA!$J:$J,[1]DATA!$G:$G,'Cek Yasaklisi ( gerçek tekil )'!I$2,[1]DATA!$H:$H,'Cek Yasaklisi ( gerçek tekil )'!$C$1,[1]DATA!$I:$I,'Cek Yasaklisi ( gerçek tekil )'!$C24),0) -> 2 | J24: =IFERROR(SUMIFS([1]DATA!$J:$J,[1]DATA!$G:$G,'Cek Yasaklisi ( gerçek tekil )'!J$2,[1]DATA!$H:$H,'Cek Yasaklisi ( gerçek tekil )'!$C$1,[1]DATA!$I:$I,'Cek Yasaklisi ( gerçek tekil )'!$C24),0) -> 0 | K24: =IFERROR(SUMIFS([1]DATA!$J:$J,[1]DATA!$G:$G,'Cek Yasaklisi ( gerçek tekil )'!K$2,[1]DATA!$H:$H,'Cek Yasaklisi ( gerçek tekil )'!$C$1,[1]DATA!$I:$I,'Cek Yasaklisi ( gerçek tekil )'!$C24),0) -> 0 | L24: =IFERROR(SUMIFS([1]DATA!$J:$J,[1]DATA!$G:$G,'Cek Yasaklisi ( gerçek tekil )'!L$2,[1]DATA!$H:$H,'Cek Yasaklisi ( gerçek tekil )'!$C$1,[1]DATA!$I:$I,'Cek Yasaklisi ( gerçek tekil )'!$C24),0) -> 0 | M24: =IFERROR(SUMIFS([1]DATA!$J:$J,[1]DATA!$G:$G,'Cek Yasaklisi ( gerçek tekil )'!M$2,[1]DATA!$H:$H,'Cek Yasaklisi ( gerçek tekil )'!$C$1,[1]DATA!$I:$I,'Cek Yasaklisi ( gerçek tekil )'!$C24),0) -> 1 | Q24: =IFERROR(SUMIFS([1]DATA!$X:$X,[1]DATA!$V:$V,'Cek Yasaklisi ( gerçek tekil )'!$C$1,[1]DATA!$W:$W,'Cek Yasaklisi ( gerçek tekil )'!$C24,[1]DATA!$U:$U,'Cek Yasaklisi ( gerçek tekil )'!$C$2),0) -> 8
C25: 26 | D25: Eskişehir | E25: =IFERROR(SUMIFS([1]DATA!$J:$J,[1]DATA!$G:$G,'Cek Yasaklisi ( gerçek tekil )'!E$2,[1]DATA!$H:$H,'Cek Yasaklisi ( gerçek tekil )'!$C$1,[1]DATA!$I:$I,'Cek Yasaklisi ( gerçek tekil )'!$C25),0) -> 31 | F25: =IFERROR(SUMIFS([1]DATA!$J:$J,[1]DATA!$G:$G,'Cek Yasaklisi ( gerçek tekil )'!F$2,[1]DATA!$H:$H,'Cek Yasaklisi ( gerçek tekil )'!$C$1,[1]DATA!$I:$I,'Cek Yasaklisi ( gerçek tekil )'!$C25),0) -> 25 | G25: =IFERROR(SUMIFS([1]DATA!$J:$J,[1]DATA!$G:$G,'Cek Yasaklisi ( gerçek tekil )'!G$2,[1]DATA!$H:$H,'Cek Yasaklisi ( gerçek tekil )'!$C$1,[1]DATA!$I:$I,'Cek Yasaklisi ( gerçek tekil )'!$C25),0) -> 21 | H25: =IFERROR(SUMIFS([1]DATA!$J:$J,[1]DATA!$G:$G,'Cek Yasaklisi ( gerçek tekil )'!H$2,[1]DATA!$H:$H,'Cek Yasaklisi ( gerçek tekil )'!$C$1,[1]DATA!$I:$I,'Cek Yasaklisi ( gerçek tekil )'!$C25),0) -> 31 | I25: =IFERROR(SUMIFS([1]DATA!$J:$J,[1]DATA!$G:$G,'Cek Yasaklisi ( gerçek tekil )'!I$2,[1]DATA!$H:$H,'Cek Yasaklisi ( gerçek tekil )'!$C$1,[1]DATA!$I:$I,'Cek Yasaklisi ( gerçek tekil )'!$C25),0) -> 15 | J25: =IFERROR(SUMIFS([1]DATA!$J:$J,[1]DATA!$G:$G,'Cek Yasaklisi ( gerçek tekil )'!J$2,[1]DATA!$H:$H,'Cek Yasaklisi ( gerçek tekil )'!$C$1,[1]DATA!$I:$I,'Cek Yasaklisi ( gerçek tekil )'!$C25),0) -> 28 | K25: =IFERROR(SUMIFS([1]DATA!$J:$J,[1]DATA!$G:$G,'Cek Yasaklisi ( gerçek tekil )'!K$2,[1]DATA!$H:$H,'Cek Yasaklisi ( gerçek tekil )'!$C$1,[1]DATA!$I:$I,'Cek Yasaklisi ( gerçek tekil )'!$C25),0) -> 41 | L25: =IFERROR(SUMIFS([1]DATA!$J:$J,[1]DATA!$G:$G,'Cek Yasaklisi ( gerçek tekil )'!L$2,[1]DATA!$H:$H,'Cek Yasaklisi ( gerçek tekil )'!$C$1,[1]DATA!$I:$I,'Cek Yasaklisi ( gerçek tekil )'!$C25),0) -> 26 | M25: =IFERROR(SUMIFS([1]DATA!$J:$J,[1]DATA!$G:$G,'Cek Yasaklisi ( gerçek tekil )'!M$2,[1]DATA!$H:$H,'Cek Yasaklisi ( gerçek tekil )'!$C$1,[1]DATA!$I:$I,'Cek Yasaklisi ( gerçek tekil )'!$C25),0) -> 30 | Q25: =IFERROR(SUMIFS([1]DATA!$X:$X,[1]DATA!$V:$V,'Cek Yasaklisi ( gerçek tekil )'!$C$1,[1]DATA!$W:$W,'Cek Yasaklisi ( gerçek tekil )'!$C25,[1]DATA!$U:$U,'Cek Yasaklisi ( gerçek tekil )'!$C$2),0) -> 168
C26: 41 | D26: Kocaeli | E26: =IFERROR(SUMIFS([1]DATA!$J:$J,[1]DATA!$G:$G,'Cek Yasaklisi ( gerçek tekil )'!E$2,[1]DATA!$H:$H,'Cek Yasaklisi ( gerçek tekil )'!$C$1,[1]DATA!$I:$I,'Cek Yasaklisi ( gerçek tekil )'!$C26),0) -> 67 | F26: =IFERROR(SUMIFS([1]DATA!$J:$J,[1]DATA!$G:$G,'Cek Yasaklisi ( gerçek tekil )'!F$2,[1]DATA!$H:$H,'Cek Yasaklisi ( gerçek tekil )'!$C$1,[1]DATA!$I:$I,'Cek Yasaklisi ( gerçek tekil )'!$C26),0) -> 64 | G26: =IFERROR(SUMIFS([1]DATA!$J:$J,[1]DATA!$G:$G,'Cek Yasaklisi ( gerçek tekil )'!G$2,[1]DATA!$H:$H,'Cek Yasaklisi ( gerçek tekil )'!$C$1,[1]DATA!$I:$I,'Cek Yasaklisi ( gerçek tekil )'!$C26),0) -> 54 | H26: =IFERROR(SUMIFS([1]DATA!$J:$J,[1]DATA!$G:$G,'Cek Yasaklisi ( gerçek tekil )'!H$2,[1]DATA!$H:$H,'Cek Yasaklisi ( gerçek tekil )'!$C$1,[1]DATA!$I:$I,'Cek Yasaklisi ( gerçek tekil )'!$C26),0) -> 69 | I26: =IFERROR(SUMIFS([1]DATA!$J:$J,[1]DATA!$G:$G,'Cek Yasaklisi ( gerçek tekil )'!I$2,[1]DATA!$H:$H,'Cek Yasaklisi ( gerçek tekil )'!$C$1,[1]DATA!$I:$I,'Cek Yasaklisi ( gerçek tekil )'!$C26),0) -> 63 | J26: =IFERROR(SUMIFS([1]DATA!$J:$J,[1]DATA!$G:$G,'Cek Yasaklisi ( gerçek tekil )'!J$2,[1]DATA!$H:$H,'Cek Yasaklisi ( gerçek tekil )'!$C$1,[1]DATA!$I:$I,'Cek Yasaklisi ( gerçek tekil )'!$C26),0) -> 98 | K26: =IFERROR(SUMIFS([1]DATA!$J:$J,[1]DATA!$G:$G,'Cek Yasaklisi ( gerçek tekil )'!K$2,[1]DATA!$H:$H,'Cek Yasaklisi ( gerçek tekil )'!$C$1,[1]DATA!$I:$I,'Cek Yasaklisi ( gerçek tekil )'!$C26),0) -> 80 | L26: =IFERROR(SUMIFS([1]DATA!$J:$J,[1]DATA!$G:$G,'Cek Yasaklisi ( gerçek tekil )'!L$2,[1]DATA!$H:$H,'Cek Yasaklisi ( gerçek tekil )'!$C$1,[1]DATA!$I:$I,'Cek Yasaklisi ( gerçek tekil )'!$C26),0) -> 56 | M26: =IFERROR(SUMIFS([1]DATA!$J:$J,[1]DATA!$G:$G,'Cek Yasaklisi ( gerçek tekil )'!M$2,[1]DATA!$H:$H,'Cek Yasaklisi ( gerçek tekil )'!$C$1,[1]DATA!$I:$I,'Cek Yasaklisi ( gerçek tekil )'!$C26),0) -> 88 | Q26: =IFERROR(SUMIFS([1]DATA!$X:$X,[1]DATA!$V:$V,'Cek Yasaklisi ( gerçek tekil )'!$C$1,[1]DATA!$W:$W,'Cek Yasaklisi ( gerçek tekil )'!$C26,[1]DATA!$U:$U,'Cek Yasaklisi ( gerçek tekil )'!$C$2),0) -> 437
C27: 54 | D27: Sakarya | E27: =IFERROR(SUMIFS([1]DATA!$J:$J,[1]DATA!$G:$G,'Cek Yasaklisi ( gerçek tekil )'!E$2,[1]DATA!$H:$H,'Cek Yasaklisi ( gerçek tekil )'!$C$1,[1]DATA!$I:$I,'Cek Yasaklisi ( gerçek tekil )'!$C27),0) -> 63 | F27: =IFERROR(SUMIFS([1]DATA!$J:$J,[1]DATA!$G:$G,'Cek Yasaklisi ( gerçek tekil )'!F$2,[1]DATA!$H:$H,'Cek Yasaklisi ( gerçek tekil )'!$C$1,[1]DATA!$I:$I,'Cek Yasaklisi ( gerçek tekil )'!$C27),0) -> 32 | G27: =IFERROR(SUMIFS([1]DATA!$J:$J,[1]DATA!$G:$G,'Cek Yasaklisi ( gerçek tekil )'!G$2,[1]DATA!$H:$H,'Cek Yasaklisi ( gerçek tekil )'!$C$1,[1]DATA!$I:$I,'Cek Yasaklisi ( gerçek tekil )'!$C27),0) -> 44 | H27: =IFERROR(SUMIFS([1]DATA!$J:$J,[1]DATA!$G:$G,'Cek Yasaklisi ( gerçek tekil )'!H$2,[1]DATA!$H:$H,'Cek Yasaklisi ( gerçek tekil )'!$C$1,[1]DATA!$I:$I,'Cek Yasaklisi ( gerçek tekil )'!$C27),0) -> 53 | I27: =IFERROR(SUMIFS([1]DATA!$J:$J,[1]DATA!$G:$G,'Cek Yasaklisi ( gerçek tekil )'!I$2,[1]DATA!$H:$H,'Cek Yasaklisi ( gerçek tekil )'!$C$1,[1]DATA!$I:$I,'Cek Yasaklisi ( gerçek tekil )'!$C27),0) -> 24 | J27: =IFERROR(SUMIFS([1]DATA!$J:$J,[1]DATA!$G:$G,'Cek Yasaklisi ( gerçek tekil )'!J$2,[1]DATA!$H:$H,'Cek Yasaklisi ( gerçek tekil )'!$C$1,[1]DATA!$I:$I,'Cek Yasaklisi ( gerçek tekil )'!$C27),0) -> 45 | K27: =IFERROR(SUMIFS([1]DATA!$J:$J,[1]DATA!$G:$G,'Cek Yasaklisi ( gerçek tekil )'!K$2,[1]DATA!$H:$H,'Cek Yasaklisi ( gerçek tekil )'!$C$1,[1]DATA!$I:$I,'Cek Yasaklisi ( gerçek tekil )'!$C27),0) -> 43 | L27: =IFERROR(SUMIFS([1]DATA!$J:$J,[1]DATA!$G:$G,'Cek Yasaklisi ( gerçek tekil )'!L$2,[1]DATA!$H:$H,'Cek Yasaklisi ( gerçek tekil )'!$C$1,[1]DATA!$I:$I,'Cek Yasaklisi ( gerçek tekil )'!$C27),0) -> 47 | M27: =IFERROR(SUMIFS([1]DATA!$J:$J,[1]DATA!$G:$G,'Cek Yasaklisi ( gerçek tekil )'!M$2,[1]DATA!$H:$H,'Cek Yasaklisi ( gerçek tekil )'!$C$1,[1]DATA!$I:$I,'Cek Yasaklisi ( gerçek tekil )'!$C27),0) -> 51 | Q27: =IFERROR(SUMIFS([1]DATA!$X:$X,[1]DATA!$V:$V,'Cek Yasaklisi ( gerçek tekil )'!$C$1,[1]DATA!$W:$W,'Cek Yasaklisi ( gerçek tekil )'!$C27,[1]DATA!$U:$U,'Cek Yasaklisi ( gerçek tekil )'!$C$2),0) -> 276
C28: 77 | D28: Yalova | E28: =IFERROR(SUMIFS([1]DATA!$J:$J,[1]DATA!$G:$G,'Cek Yasaklisi ( gerçek tekil )'!E$2,[1]DATA!$H:$H,'Cek Yasaklisi ( gerçek tekil )'!$C$1,[1]DATA!$I:$I,'Cek Yasaklisi ( gerçek tekil )'!$C28),0) -> 4 | F28: =IFERROR(SUMIFS([1]DATA!$J:$J,[1]DATA!$G:$G,'Cek Yasaklisi ( gerçek tekil )'!F$2,[1]DATA!$H:$H,'Cek Yasaklisi ( gerçek tekil )'!$C$1,[1]DATA!$I:$I,'Cek Yasaklisi ( gerçek tekil )'!$C28),0) -> 4 | G28: =IFERROR(SUMIFS([1]DATA!$J:$J,[1]DATA!$G:$G,'Cek Yasaklisi ( gerçek tekil )'!G$2,[1]DATA!$H:$H,'Cek Yasaklisi ( gerçek tekil )'!$C$1,[1]DATA!$I:$I,'Cek Yasaklisi ( gerçek tekil )'!$C28),0) -> 11 | H28: =IFERROR(SUMIFS([1]DATA!$J:$J,[1]DATA!$G:$G,'Cek Yasaklisi ( gerçek tekil )'!H$2,[1]DATA!$H:$H,'Cek Yasaklisi ( gerçek tekil )'!$C$1,[1]DATA!$I:$I,'Cek Yasaklisi ( gerçek tekil )'!$C28),0) -> 18 | I28: =IFERROR(SUMIFS([1]DATA!$J:$J,[1]DATA!$G:$G,'Cek Yasaklisi ( gerçek tekil )'!I$2,[1]DATA!$H:$H,'Cek Yasaklisi ( gerçek tekil )'!$C$1,[1]DATA!$I:$I,'Cek Yasaklisi ( gerçek tekil )'!$C28),0) -> 9 | J28: =IFERROR(SUMIFS([1]DATA!$J:$J,[1]DATA!$G:$G,'Cek Yasaklisi ( gerçek tekil )'!J$2,[1]DATA!$H:$H,'Cek Yasaklisi ( gerçek tekil )'!$C$1,[1]DATA!$I:$I,'Cek Yasaklisi ( gerçek tekil )'!$C28),0) -> 11 | K28: =IFERROR(SUMIFS([1]DATA!$J:$J,[1]DATA!$G:$G,'Cek Yasaklisi ( gerçek tekil )'!K$2,[1]DATA!$H:$H,'Cek Yasaklisi ( gerçek tekil )'!$C$1,[1]DATA!$I:$I,'Cek Yasaklisi ( gerçek tekil )'!$C28),0) -> 9 | L28: =IFERROR(SUMIFS([1]DATA!$J:$J,[1]DATA!$G:$G,'Cek Yasaklisi ( gerçek tekil )'!L$2,[1]DATA!$H:$H,'Cek Yasaklisi ( gerçek tekil )'!$C$1,[1]DATA!$I:$I,'Cek Yasaklisi ( gerçek tekil )'!$C28),0) -> 1 | M28: =IFERROR(SUMIFS([1]DATA!$J:$J,[1]DATA!$G:$G,'Cek Yasaklisi ( gerçek tekil )'!M$2,[1]DATA!$H:$H,'Cek Yasaklisi ( gerçek tekil )'!$C$1,[1]DATA!$I:$I,'Cek Yasaklisi ( gerçek tekil )'!$C28),0) -> 2 | Q28: =IFERROR(SUMIFS([1]DATA!$X:$X,[1]DATA!$V:$V,'Cek Yasaklisi ( gerçek tekil )'!$C$1,[1]DATA!$W:$W,'Cek Yasaklisi ( gerçek tekil )'!$C28,[1]DATA!$U:$U,'Cek Yasaklisi ( gerçek tekil )'!$C$2),0) -> 54
C29: Bati Anadolu | D29: Batı Anadolu | E29: =IFERROR(SUMIFS([1]DATA!$Q:$Q,[1]DATA!$N:$N,'Cek Yasaklisi ( gerçek tekil )'!E$2,[1]DATA!$O:$O,'Cek Yasaklisi ( gerçek tekil )'!$C$1,[1]DATA!$P:$P,'Cek Yasaklisi ( gerçek tekil )'!$C29),0) -> 413 | F29: =IFERROR(SUMIFS([1]DATA!$Q:$Q,[1]DATA!$N:$N,'Cek Yasaklisi ( gerçek tekil )'!F$2,[1]DATA!$O:$O,'Cek Yasaklisi ( gerçek tekil )'!$C$1,[1]DATA!$P:$P,'Cek Yasaklisi ( gerçek tekil )'!$C29),0) -> 379 | G29: =IFERROR(SUMIFS([1]DATA!$Q:$Q,[1]DATA!$N:$N,'Cek Yasaklisi ( gerçek tekil )'!G$2,[1]DATA!$O:$O,'Cek Yasaklisi ( gerçek tekil )'!$C$1,[1]DATA!$P:$P,'Cek Yasaklisi ( gerçek tekil )'!$C29),0) -> 376 | H29: =IFERROR(SUMIFS([1]DATA!$Q:$Q,[1]DATA!$N:$N,'Cek Yasaklisi ( gerçek tekil )'!H$2,[1]DATA!$O:$O,'Cek Yasaklisi ( gerçek tekil )'!$C$1,[1]DATA!$P:$P,'Cek Yasaklisi ( gerçek tekil )'!$C29),0) -> 410 | I29: =IFERROR(SUMIFS([1]DATA!$Q:$Q,[1]DATA!$N:$N,'Cek Yasaklisi ( gerçek tekil )'!I$2,[1]DATA!$O:$O,'Cek Yasaklisi ( gerçek tekil )'!$C$1,[1]DATA!$P:$P,'Cek Yasaklisi ( gerçek tekil )'!$C29),0) -> 291 | J29: =IFERROR(SUMIFS([1]DATA!$Q:$Q,[1]DATA!$N:$N,'Cek Yasaklisi ( gerçek tekil )'!J$2,[1]DATA!$O:$O,'Cek Yasaklisi ( gerçek tekil )'!$C$1,[1]DATA!$P:$P,'Cek Yasaklisi ( gerçek tekil )'!$C29),0) -> 400 | K29: =IFERROR(SUMIFS([1]DATA!$Q:$Q,[1]DATA!$N:$N,'Cek Yasaklisi ( gerçek tekil )'!K$2,[1]DATA!$O:$O,'Cek Yasaklisi ( gerçek tekil )'!$C$1,[1]DATA!$P:$P,'Cek Yasaklisi ( gerçek tekil )'!$C29),0) -> 456 | L29: =IFERROR(SUMIFS([1]DATA!$Q:$Q,[1]DATA!$N:$N,'Cek Yasaklisi ( gerçek tekil )'!L$2,[1]DATA!$O:$O,'Cek Yasaklisi ( gerçek tekil )'!$C$1,[1]DATA!$P:$P,'Cek Yasaklisi ( gerçek tekil )'!$C29),0) -> 318 | M29: =IFERROR(SUMIFS([1]DATA!$Q:$Q,[1]DATA!$N:$N,'Cek Yasaklisi ( gerçek tekil )'!M$2,[1]DATA!$O:$O,'Cek Yasaklisi ( gerçek tekil )'!$C$1,[1]DATA!$P:$P,'Cek Yasaklisi ( gerçek tekil )'!$C29),0) -> 405 | Q29: =IFERROR(SUMIFS([1]DATA!$AE:$AE,[1]DATA!$AC:$AC,'Cek Yasaklisi ( gerçek tekil )'!$C$1,[1]DATA!$AD:$AD,'Cek Yasaklisi ( gerçek tekil )'!$C29,[1]DATA!$AB:$AB,'Cek Yasaklisi ( gerçek tekil )'!$C$2),0) -> 2209
C30: 6 | D30: Ankara | E30: =IFERROR(SUMIFS([1]DATA!$J:$J,[1]DATA!$G:$G,'Cek Yasaklisi ( gerçek tekil )'!E$2,[1]DATA!$H:$H,'Cek Yasaklisi ( gerçek tekil )'!$C$1,[1]DATA!$I:$I,'Cek Yasaklisi ( gerçek tekil )'!$C30),0) -> 222 | F30: =IFERROR(SUMIFS([1]DATA!$J:$J,[1]DATA!$G:$G,'Cek Yasaklisi ( gerçek tekil )'!F$2,[1]DATA!$H:$H,'Cek Yasaklisi ( gerçek tekil )'!$C$1,[1]DATA!$I:$I,'Cek Yasaklisi ( gerçek tekil )'!$C30),0) -> 204 | G30: =IFERROR(SUMIFS([1]DATA!$J:$J,[1]DATA!$G:$G,'Cek Yasaklisi ( gerçek tekil )'!G$2,[1]DATA!$H:$H,'Cek Yasaklisi ( gerçek tekil )'!$C$1,[1]DATA!$I:$I,'Cek Yasaklisi ( gerçek tekil )'!$C30),0) -> 238 | H30: =IFERROR(SUMIFS([1]DATA!$J:$J,[1]DATA!$G:$G,'Cek Yasaklisi ( gerçek tekil )'!H$2,[1]DATA!$H:$H,'Cek Yasaklisi ( gerçek tekil )'!$C$1,[1]DATA!$I:$I,'Cek Yasaklisi ( gerçek tekil )'!$C30),0) -> 269 | I30: =IFERROR(SUMIFS([1]DATA!$J:$J,[1]DATA!$G:$G,'Cek Yasaklisi ( gerçek tekil )'!I$2,[1]DATA!$H:$H,'Cek Yasaklisi ( gerçek tekil )'!$C$1,[1]DATA!$I:$I,'Cek Yasaklisi ( gerçek tekil )'!$C30),0) -> 182 | J30: =IFERROR(SUMIFS([1]DATA!$J:$J,[1]DATA!$G:$G,'Cek Yasaklisi ( gerçek tekil )'!J$2,[1]DATA!$H:$H,'Cek Yasaklisi ( gerçek tekil )'!$C$1,[1]DATA!$I:$I,'Cek Yasaklisi ( gerçek tekil )'!$C30),0) -> 227 | K30: =IFERROR(SUMIFS([1]DATA!$J:$J,[1]DATA!$G:$G,'Cek Yasaklisi ( gerçek tekil )'!K$2,[1]DATA!$H:$H,'Cek Yasaklisi ( gerçek tekil )'!$C$1,[1]DATA!$I:$I,'Cek Yasaklisi ( gerçek tekil )'!$C30),0) -> 274 | L30: =IFERROR(SUMIFS([1]DATA!$J:$J,[1]DATA!$G:$G,'Cek Yasaklisi ( gerçek tekil )'!L$2,[1]DATA!$H:$H,'Cek Yasaklisi ( gerçek tekil )'!$C$1,[1]DATA!$I:$I,'Cek Yasaklisi ( gerçek tekil )'!$C30),0) -> 146 | M30: =IFERROR(SUMIFS([1]DATA!$J:$J,[1]DATA!$G:$G,'Cek Yasaklisi ( gerçek tekil )'!M$2,[1]DATA!$H:$H,'Cek Yasaklisi ( gerçek tekil )'!$C$1,[1]DATA!$I:$I,'Cek Yasaklisi ( gerçek tekil )'!$C30),0) -> 239 | Q30: =IFERROR(SUMIFS([1]DATA!$X:$X,[1]DATA!$V:$V,'Cek Yasaklisi ( gerçek tekil )'!$C$1,[1]DATA!$W:$W,'Cek Yasaklisi ( gerçek tekil )'!$C30,[1]DATA!$U:$U,'Cek Yasaklisi ( gerçek tekil )'!$C$2),0) -> 1377
C31: 70 | D31: Karaman | E31: =IFERROR(SUMIFS([1]DATA!$J:$J,[1]DATA!$G:$G,'Cek Yasaklisi ( gerçek tekil )'!E$2,[1]DATA!$H:$H,'Cek Yasaklisi ( gerçek tekil )'!$C$1,[1]DATA!$I:$I,'Cek Yasaklisi ( gerçek tekil )'!$C31),0) -> 4 | F31: =IFERROR(SUMIFS([1]DATA!$J:$J,[1]DATA!$G:$G,'Cek Yasaklisi ( gerçek tekil )'!F$2,[1]DATA!$H:$H,'Cek Yasaklisi ( gerçek tekil )'!$C$1,[1]DATA!$I:$I,'Cek Yasaklisi ( gerçek tekil )'!$C31),0) -> 6 | G31: =IFERROR(SUMIFS([1]DATA!$J:$J,[1]DATA!$G:$G,'Cek Yasaklisi ( gerçek tekil )'!G$2,[1]DATA!$H:$H,'Cek Yasaklisi ( gerçek tekil )'!$C$1,[1]DATA!$I:$I,'Cek Yasaklisi ( gerçek tekil )'!$C31),0) -> 9 | H31: =IFERROR(SUMIFS([1]DATA!$J:$J,[1]DATA!$G:$G,'Cek Yasaklisi ( gerçek tekil )'!H$2,[1]DATA!$H:$H,'Cek Yasaklisi ( gerçek tekil )'!$C$1,[1]DATA!$I:$I,'Cek Yasaklisi ( gerçek tekil )'!$C31),0) -> 4 | I31: =IFERROR(SUMIFS([1]DATA!$J:$J,[1]DATA!$G:$G,'Cek Yasaklisi ( gerçek tekil )'!I$2,[1]DATA!$H:$H,'Cek Yasaklisi ( gerçek tekil )'!$C$1,[1]DATA!$I:$I,'Cek Yasaklisi ( gerçek tekil )'!$C31),0) -> 3 | J31: =IFERROR(SUMIFS([1]DATA!$J:$J,[1]DATA!$G:$G,'Cek Yasaklisi ( gerçek tekil )'!J$2,[1]DATA!$H:$H,'Cek Yasaklisi ( gerçek tekil )'!$C$1,[1]DATA!$I:$I,'Cek Yasaklisi ( gerçek tekil )'!$C31),0) -> 3 | K31: =IFERROR(SUMIFS([1]DATA!$J:$J,[1]DATA!$G:$G,'Cek Yasaklisi ( gerçek tekil )'!K$2,[1]DATA!$H:$H,'Cek Yasaklisi ( gerçek tekil )'!$C$1,[1]DATA!$I:$I,'Cek Yasaklisi ( gerçek tekil )'!$C31),0) -> 2 | L31: =IFERROR(SUMIFS([1]DATA!$J:$J,[1]DATA!$G:$G,'Cek Yasaklisi ( gerçek tekil )'!L$2,[1]DATA!$H:$H,'Cek Yasaklisi ( gerçek tekil )'!$C$1,[1]DATA!$I:$I,'Cek Yasaklisi ( gerçek tekil )'!$C31),0) -> 6 | M31: =IFERROR(SUMIFS([1]DATA!$J:$J,[1]DATA!$G:$G,'Cek Yasaklisi ( gerçek tekil )'!M$2,[1]DATA!$H:$H,'Cek Yasaklisi ( gerçek tekil )'!$C$1,[1]DATA!$I:$I,'Cek Yasaklisi ( gerçek tekil )'!$C31),0) -> 5 | Q31: =IFERROR(SUMIFS([1]DATA!$X:$X,[1]DATA!$V:$V,'Cek Yasaklisi ( gerçek tekil )'!$C$1,[1]DATA!$W:$W,'Cek Yasaklisi ( gerçek tekil )'!$C31,[1]DATA!$U:$U,'Cek Yasaklisi ( gerçek tekil )'!$C$2),0) -> 32
C32: 42 | D32: Konya | E32: =IFERROR(SUMIFS([1]DATA!$J:$J,[1]DATA!$G:$G,'Cek Yasaklisi ( gerçek tekil )'!E$2,[1]DATA!$H:$H,'Cek Yasaklisi ( gerçek tekil )'!$C$1,[1]DATA!$I:$I,'Cek Yasaklisi ( gerçek tekil )'!$C32),0) -> 194 | F32: =IFERROR(SUMIFS([1]DATA!$J:$J,[1]DATA!$G:$G,'Cek Yasaklisi ( gerçek tekil )'!F$2,[1]DATA!$H:$H,'Cek Yasaklisi ( gerçek tekil )'!$C$1,[1]DATA!$I:$I,'Cek Yasaklisi ( gerçek tekil )'!$C32),0) -> 172 | G32: =IFERROR(SUMIFS([1]DATA!$J:$J,[1]DATA!$G:$G,'Cek Yasaklisi ( gerçek tekil )'!G$2,[1]DATA!$H:$H,'Cek Yasaklisi ( gerçek tekil )'!$C$1,[1]DATA!$I:$I,'Cek Yasaklisi ( gerçek tekil )'!$C32),0) -> 136 | H32: =IFERROR(SUMIFS([1]DATA!$J:$J,[1]DATA!$G:$G,'Cek Yasaklisi ( gerçek tekil )'!H$2,[1]DATA!$H:$H,'Cek Yasaklisi ( gerçek tekil )'!$C$1,[1]DATA!$I:$I,'Cek Yasaklisi ( gerçek tekil )'!$C32),0) -> 142 | I32: =IFERROR(SUMIFS([1]DATA!$J:$J,[1]DATA!$G:$G,'Cek Yasaklisi ( gerçek tekil )'!I$2,[1]DATA!$H:$H,'Cek Yasaklisi ( gerçek tekil )'!$C$1,[1]DATA!$I:$I,'Cek Yasaklisi ( gerçek tekil )'!$C32),0) -> 109 | J32: =IFERROR(SUMIFS([1]DATA!$J:$J,[1]DATA!$G:$G,'Cek Yasaklisi ( gerçek tekil )'!J$2,[1]DATA!$H:$H,'Cek Yasaklisi ( gerçek tekil )'!$C$1,[1]DATA!$I:$I,'Cek Yasaklisi ( gerçek tekil )'!$C32),0) -> 177 | K32: =IFERROR(SUMIFS([1]DATA!$J:$J,[1]DATA!$G:$G,'Cek Yasaklisi ( gerçek tekil )'!K$2,[1]DATA!$H:$H,'Cek Yasaklisi ( gerçek tekil )'!$C$1,[1]DATA!$I:$I,'Cek Yasaklisi ( gerçek tekil )'!$C32),0) -> 187 | L32: =IFERROR(SUMIFS([1]DATA!$J:$J,[1]DATA!$G:$G,'Cek Yasaklisi ( gerçek tekil )'!L$2,[1]DATA!$H:$H,'Cek Yasaklisi ( gerçek tekil )'!$C$1,[1]DATA!$I:$I,'Cek Yasaklisi ( gerçek tekil )'!$C32),0) -> 174 | M32: =IFERROR(SUMIFS([1]DATA!$J:$J,[1]DATA!$G:$G,'Cek Yasaklisi ( gerçek tekil )'!M$2,[1]DATA!$H:$H,'Cek Yasaklisi ( gerçek tekil )'!$C$1,[1]DATA!$I:$I,'Cek Yasaklisi ( gerçek tekil )'!$C32),0) -> 166 | Q32: =IFERROR(SUMIFS([1]DATA!$X:$X,[1]DATA!$V:$V,'Cek Yasaklisi ( gerçek tekil )'!$C$1,[1]DATA!$W:$W,'Cek Yasaklisi ( gerçek tekil )'!$C32,[1]DATA!$U:$U,'Cek Yasaklisi ( gerçek tekil )'!$C$2),0) -> 888
