Workbook

Sheet Cek Yasaklisi ( gerçek tekil )
C1: Yasakli | D1: Çek Yasağı Kararı Verilen Tekil Gerçek Kişi Sayılarının İllere ve Bölgelere Göre Dağılımı(1) ( 2026 )
C2: 2026 | E2: 202601 | F2: 202602 | G2: 202603 | H2: 202604 | I2: 202605 | J2: 202606 | K2: 202607 | L2: 202608 | M2: 202609 | N2: 202610 | O2: 202611 | P2: 202612
D3: İller ve Bölgeler (2) | E3: Ocak | F3: Şubat | G3: Mart | H3: Nisan | I3: Mayıs | J3: Haziran | K3: Temmuz | L3: Ağustos | M3: Eylül | N3: Ekim | O3: Kasım | P3: Aralık | Q3: Toplam (4)
C4: 34 | D4: İstanbul | E4: =IFERROR(SUMIFS([1]DATA!$J:$J,[1]DATA!$G:$G,'Cek Yasaklisi ( gerçek tekil )'!E$2,[1]DATA!$H:$H,'Cek Yasaklisi ( gerçek tekil )'!$C$1,[1]DATA!$I:$I,'Cek Yasaklisi ( gerçek tekil )'!$C4),0) -> 1090 | F4: =IFERROR(SUMIFS([1]DATA!$J:$J,[1]DATA!$G:$G,'Cek Yasaklisi ( gerçek tekil )'!F$2,[1]DATA!$H:$H,'Cek Yasaklisi ( gerçek tekil )'!$C$1,[1]DATA!$I:$I,'Cek Yasaklisi ( gerçek tekil )'!$C4),0) -> 1159 | G4: =IFERROR(SUMIFS([1]DATA!$J:$J,[1]DATA!$G:$G,'Cek Yasaklisi ( gerçek tekil )'!G$2,[1]DATA!$H:$H,'Cek Yasaklisi ( gerçek tekil )'!$C$1,[1]DATA!$I:$I,'Cek Yasaklisi ( gerçek tekil )'!$C4),0) -> 1174 | H4: =IFERROR(SUMIFS([1]DATA!$J:$J,[1]DATA!$G:$G,'Cek Yasaklisi ( gerçek tekil )'!H$2,[1]DATA!$H:$H,'Cek Yasaklisi ( gerçek tekil )'!$C$1,[1]DATA!$I:$I,'Cek Yasaklisi ( gerçek tekil )'!$C4),0) -> 1230 | I4: =IFERROR(SUMIFS([1]DATA!$J:$J,[1]DATA!$G:$G,'Cek Yasaklisi ( gerçek tekil )'!I$2,[1]DATA!$H:$H,'Cek Yasaklisi ( gerçek tekil )'!$C$1,[1]DATA!$I:$I,'Cek Yasaklisi ( gerçek tekil )'!$C4),0) -> 889 | J4: =IFERROR(SUMIFS([1]DATA!$J:$J,[1]DATA!$G:$G,'Cek Yasaklisi ( gerçek tekil )'!J$2,[1]DATA!$H:$H,'Cek Yasaklisi ( gerçek tekil )'!$C$1,[1]DATA!$I:$I,'Cek Yasaklisi ( gerçek tekil )'!$C4),0) -> 1470 | K4: =IFERROR(SUMIFS([1]DATA!$J:$J,[1]DATA!$G:$G,'Cek Yasaklisi ( gerçek tekil )'!K$2,[1]DATA!$H:$H,'Cek Yasaklisi ( gerçek tekil )'!$C$1,[1]DATA!$I:$I,'Cek Yasaklisi ( gerçek tekil )'!$C4),0) -> 1502 | L4: =IFERROR(SUMIFS([1]DATA!$J:$J,[1]DATA!$G:$G,'Cek Yasaklisi ( gerçek tekil )'!L$2,[1]DATA!$H:$H,'Cek Yasaklisi ( gerçek tekil )'!$C$1,[1]DATA!$I:$I,'Cek Yasaklisi ( gerçek tekil )'!$C4),0) -> 240 | M4: =IFERROR(SUMIFS([1]DATA!$J:$J,[1]DATA!$G:$G,'Cek Yasaklisi ( gerçek tekil )'!M$2,[1]DATA!$H:$H,'Cek Yasaklisi ( gerçek tekil )'!$C$1,[1]DATA!$I:$I,'Cek Yasaklisi ( gerçek tekil )'!$C4),0) -> 908 | Q4: =IFERROR(SUMIFS([1]DATA!$X:$X,[1]DATA!$V:$V,'Cek Yasaklisi ( gerçek tekil )'!$C$1,[1]DATA!$W:$W,'Cek Yasaklisi ( gerçek tekil )'!$C4,[1]DATA!$U:$U,'Cek Yasaklisi ( gerçek tekil )'!$C$2),0) -> 5787
C5: Bati Marmara | D5: Batı Marmara | E5: =IFERROR(SUMIFS([1]DATA!$Q:$Q,[1]DATA!$N:$N,'Cek Yasaklisi ( gerçek tekil )'!E$2,[1]DATA!$O:$O,'Cek Yasaklisi ( gerçek tekil )'!$C$1,[1]DATA!$P:$P,'Cek Yasaklisi ( gerçek tekil )'!$C5),0) -> 67 | F5: =IFERROR(SUMIFS([1]DATA!$Q:$Q,[1]DATA!$N:$N,'Cek Yasaklisi ( gerçek tekil )'!F$2,[1]DATA!$O:$O,'Cek Yasaklisi ( gerçek tekil )'!$C$1,[1]DATA!$P:$P,'Cek Yasaklisi ( gerçek tekil )'!$C5),0) -> 77 | G5: =IFERROR(SUMIFS([1]DATA!$Q:$Q,[1]DATA!$N:$N,'Cek Yasaklisi ( gerçek tekil )'!G$2,[1]DATA!$O:$O,'Cek Yasaklisi ( gerçek tekil )'!$C$1,[1]DATA!$P:$P,'Cek Yasaklisi ( gerçek tekil )'!$C5),0) -> 82 | H5: =IFERROR(SUMIFS([1]DATA!$Q:$Q,[1]DATA!$N:$N,'Cek Yasaklisi ( gerçek tekil )'!H$2,[1]DATA!$O:$O,'Cek Yasaklisi ( gerçek tekil )'!$C$1,[1]DATA!$P:$P,'Cek Yasaklisi ( gerçek tekil )'!$C5),0) -> 77 | I5: =IFERROR(SUMIFS([1]DATA!$Q:$Q,[1]DATA!$N:$N,'Cek Yasaklisi ( gerçek tekil )'!I$2,[1]DATA!$O:$O,'Cek Yasaklisi ( gerçek tekil )'!$C$1,[1]DATA!$P:$P,'Cek Yasaklisi ( gerçek tekil )'!$C5),0) -> 54 | J5: =IFERROR(SUMIFS([1]DATA!$Q:$Q,[1]DATA!$N:$N,'Cek Yasaklisi ( gerçek tekil )'!J$2,[1]DATA!$O:$O,'Cek Yasaklisi ( gerçek tekil )'!$C$1,[1]DATA!$P:$P,'Cek Yasaklisi ( gerçek tekil )'!$C5),0) -> 79 | K5: =IFERROR(SUMIFS([1]DATA!$Q:$Q,[1]DATA!$N:$N,'Cek Yasaklisi ( gerçek tekil )'!K$2,[1]DATA!$O:$O,'Cek Yasaklisi ( gerçek tekil )'!$C$1,[1]DATA!$P:$P,'Cek Yasaklisi ( gerçek tekil )'!$C5),0) -> 98 | L5: =IFERROR(SUMIFS([1]DATA!$Q:$Q,[1]DATA!$N:$N,'Cek Yasaklisi ( gerçek tekil )'!L$2,[1]DATA!$O:$O,'Cek Yasaklisi ( gerçek tekil )'!$C$1,[1]DATA!$P:$P,'Cek Yasaklisi ( gerçek tekil )'!$C5),0) -> 40 | M5: =IFERROR(SUMIFS([1]DATA!$Q:$Q,[1]DATA!$N:$N,'Cek Yasaklisi ( gerçek tekil )'!M$2,[1]DATA!$O:$O,'Cek Yasaklisi ( gerçek tekil )'!$C$1,[1]DATA!$P:$P,'Cek Yasaklisi ( gerçek tekil )'!$C5),0) -> 77 | Q5: =IFERROR(SUMIFS([1]DATA!$AE:$AE,[1]DATA!$AC:$AC,'Cek Yasaklisi ( gerçek tekil )'!$C$1,[1]DATA!$AD:$AD,'Cek Yasaklisi ( gerçek tekil )'!$C5,[1]DATA!$AB:$AB,'Cek Yasaklisi ( gerçek tekil )'!$C$2),0) -> 471
C6: 10 | D6: Balıkesir | E6: =IFERROR(SUMIFS([1]DATA!$J:$J,[1]DATA!$G:$G,'Cek Yasaklisi ( gerçek tekil )'!E$2,[1]DATA!$H:$H,'Cek Yasaklisi ( gerçek tekil )'!$C$1,[1]DATA!$I:$I,'Cek Yasaklisi ( gerçek tekil )'!$C6),0) -> 22 | F6: =IFERROR(SUMIFS([1]DATA!$J:$J,[1]DATA!$G:$G,'Cek Yasaklisi ( gerçek tekil )'!F$2,[1]DATA!$H:$H,'Cek Yasaklisi ( gerçek tekil )'!$C$1,[1]DATA!$I:$I,'Cek Yasaklisi ( gerçek tekil )'!$C6),0) -> 32 | G6: =IFERROR(SUMIFS([1]DATA!$J:$J,[1]DATA!$G:$G,'Cek Yasaklisi ( gerçek tekil )'!G$2,[1]DATA!$H:$H,'Cek Yasaklisi ( gerçek tekil )'!$C$1,[1]DATA!$I:$I,'Cek Yasaklisi ( gerçek tekil )'!$C6),0) -> 30 | H6: =IFERROR(SUMIFS([1]DATA!$J:$J,[1]DATA!$G:$G,'Cek Yasaklisi ( gerçek tekil )'!H$2,[1]DATA!$H:$H,'Cek Yasaklisi ( gerçek tekil )'!$C$1,[1]DATA!$I:$I,'Cek Yasaklisi ( gerçek tekil )'!$C6),0) -> 38 | I6: =IFERROR(SUMIFS([1]DATA!$J:$J,[1]DATA!$G:$G,'Cek Yasaklisi ( gerçek tekil )'!I$2,[1]DATA!$H:$H,'Cek Yasaklisi ( gerçek tekil )'!$C$1,[1]DATA!$I:$I,'Cek Yasaklisi ( gerçek tekil )'!$C6),0) -> 25 | J6: =IFERROR(SUMIFS([1]DATA!$J:$J,[1]DATA!$G:$G,'Cek Yasaklisi ( gerçek tekil )'!J$2,[1]DATA!$H:$H,'Cek Yasaklisi ( gerçek tekil )'!$C$1,[1]DATA!$I:$I,'Cek Yasaklisi ( gerçek tekil )'!$C6),0) -> 27 | K6: =IFERROR(SUMIFS([1]DATA!$J:$J,[1]DATA!$G:$G,'Cek Yasaklisi ( gerçek tekil )'!K$2,[1]DATA!$H:$H,'Cek Yasaklisi ( gerçek tekil )'!$C$1,[1]DATA!$I:$I,'Cek Yasaklisi ( gerçek tekil )'!$C6),0) -> 28 | L6: =IFERROR(SUMIFS([1]DATA!$J:$J,[1]DATA!$G:$G,'Cek Yasaklisi ( gerçek tekil )'!L$2,[1]DATA!$H:$H,'Cek Yasaklisi ( gerçek tekil )'!$C$1,[1]DATA!$I:$I,'Cek Yasaklisi ( gerçek tekil )'!$C6),0) -> 10 | M6: =IFERROR(SUMIFS([1]DATA!$J:$J,[1]DATA!$G:$G,'Cek Yasaklisi ( gerçek tekil )'!M$2,[1]DATA!$H:$H,'Cek Yasaklisi ( gerçek tekil )'!$C$1,[1]DATA!$I:$I,'Cek Yasaklisi ( gerçek tekil )'!$C6),0) -> 22 | Q6: =IFERROR(SUMIFS([1]DATA!$X:$X,[1]DATA!$V:$V,'Cek Yasaklisi ( gerçek tekil )'!$C$1,[1]DATA!$W:$W,'Cek Yasaklisi ( gerçek tekil )'!$C6,[1]DATA!$U:$U,'Cek Yasaklisi ( gerçek tekil )'!$C$2),0) -> 178
C7: 17 | D7: Çanakkale | E7: =IFERROR(SUMIFS([1]DATA!$J:$J,[1]DATA!$G:$G,'Cek Yasaklisi ( gerçek tekil )'!E$2,[1]DATA!$H:$H,'Cek Yasaklisi ( gerçek tekil )'!$C$1,[1]DATA!$I:$I,'Cek Yasaklisi ( gerçek tekil )'!$C7),0) -> 10 | F7: =IFERROR(SUMIFS([1]DATA!$J:$J,[1]DATA!$G:$G,'Cek Yasaklisi ( gerçek tekil )'!F$2,[1]DATA!$H:$H,'Cek Yasaklisi ( gerçek tekil )'!$C$1,[1]DATA!$I:$I,'Cek Yasaklisi ( gerçek tekil )'!$C7),0) -> 9 | G7: =IFERROR(SUMIFS([1]DATA!$J:$J,[1]DATA!$G:$G,'Cek Yasaklisi ( gerçek tekil )'!G$2,[1]DATA!$H:$H,'Cek Yasaklisi ( gerçek tekil )'!$C$1,[1]DATA!$I:$I,'Cek Yasaklisi ( gerçek tekil )'!$C7),0) -> 13 | H7: =IFERROR(SUMIFS([1]DATA!$J:$J,[1]DATA!$G:$G,'Cek Yasaklisi ( gerçek tekil )'!H$2,[1]DATA!$H:$H,'Cek Yasaklisi ( gerçek tekil )'!$C$1,[1]DATA!$I:$I,'Cek Yasaklisi ( gerçek tekil )'!$C7),0) -> 10 | I7: =IFERROR(SUMIFS([1]DATA!$J:$J,[1]DATA!$G:$G,'Cek Yasaklisi ( gerçek tekil )'!I$2,[1]DATA!$H:$H,'Cek Yasaklisi ( gerçek tekil )'!$C$1,[1]DATA!$I:$I,'Cek Yasaklisi ( gerçek tekil )'!$C7),0) -> 3 | J7: =IFERROR(SUMIFS([1]DATA!$J:$J,[1]DATA!$G:$G,'Cek Yasaklisi ( gerçek tekil )'!J$2,[1]DATA!$H:$H,'Cek Yasaklisi ( gerçek tekil )'!$C$1,[1]DATA!$I:$I,'Cek Yasaklisi ( gerçek tekil )'!$C7),0) -> 9 | K7: =IFERROR(SUMIFS([1]DATA!$J:$J,[1]DATA!$G:$G,'Cek Yasaklisi ( gerçek tekil )'!K$2,[1]DATA!$H:$H,'Cek Yasaklisi ( gerçek tekil )'!$C$1,[1]DATA!$I:$I,'Cek Yasaklisi ( gerçek tekil )'!$C7),0) -> 16 | L7: =IFERROR(SUMIFS([1]DATA!$J:$J,[1]DATA!$G:$G,'Cek Yasaklisi ( gerçek tekil )'!L$2,[1]DATA!$H:$H,'Cek Yasaklisi ( gerçek tekil )'!$C$1,[1]DATA!$I:$I,'Cek Yasaklisi ( gerçek tekil )'!$C7),0) -> 9 | M7: =IFERROR(SUMIFS([1]DATA!$J:$J,[1]DATA!$G:$G,'Cek Yasaklisi ( gerçek tekil )'!M$2,[1]DATA!$H:$H,'Cek Yasaklisi ( gerçek tekil )'!$C$1,[1]DATA!$I:$I,'Cek Yasaklisi ( gerçek tekil )'!$C7),0) -> 15 | Q7: =IFERROR(SUMIFS([1]DATA!$X:$X,[1]DATA!$V:$V,'Cek Yasaklisi ( gerçek tekil )'!$C$1,[1]DATA!$W:$W,'Cek Yasaklisi ( gerçek tekil )'!$C7,[1]DATA!$U:$U,'Cek Yasaklisi ( gerçek tekil )'!$C$2),0) -> 65
C8: 22 | D8: Edirne | E8: =IFERROR(SUMIFS([1]DATA!$J:$J,[1]DATA!$G:$G,'Cek Yasaklisi ( gerçek tekil )'!E$2,[1]DATA!$H:$H,'Cek Yasaklisi ( gerçek tekil )'!$C$1,[1]DATA!$I:$I,'Cek Yasaklisi ( gerçek tekil )'!$C8),0) -> 3 | F8: =IFERROR(SUMIFS([1]DATA!$J:$J,[1]DATA!$G:$G,'Cek Yasaklisi ( gerçek tekil )'!F$2,[1]DATA!$H:$H,'Cek Yasaklisi ( gerçek tekil )'!$C$1,[1]DATA!$I:$I,'Cek Yasaklisi ( gerçek tekil )'!$C8),0) -> 1 | G8: =IFERROR(SUMIFS([1]DATA!$J:$J,[1]DATA!$G:$G,'Cek Yasaklisi ( gerçek tekil )'!G$2,[1]DATA!$H:$H,'Cek Yasaklisi ( gerçek tekil )'!$C$1,[1]DATA!$I:$I,'Cek Yasaklisi ( gerçek tekil )'!$C8),0) -> 3 | H8: =IFERROR(SUMIFS([1]DATA!$J:$J,[1]DATA!$G:$G,'Cek Yasaklisi ( gerçek tekil )'!H$2,[1]DATA!$H:$H,'Cek Yasaklisi ( gerçek tekil )'!$C$1,[1]DATA!$I:$I,'Cek Yasaklisi ( gerçek tekil )'!$C8),0) -> 1 | I8: =IFERROR(SUMIFS([1]DATA!$J:$J,[1]DATA!$G:$G,'Cek Yasaklisi ( gerçek tekil )'!I$2,[1]DATA!$H:$H,'Cek Yasaklisi ( gerçek tekil )'!$C$1,[1]DATA!$I:$I,'Cek Yasaklisi ( gerçek tekil )'!$C8),0) -> 2 | J8: =IFERROR(SUMIFS([1]DATA!$J:$J,[1]DATA!$G:$G,'Cek Yasaklisi ( gerçek tekil )'!J$2,[1]DATA!$H:$H,'Cek Yasaklisi ( gerçek tekil )'!$C$1,[1]DATA!$I:$I,'Cek Yasaklisi ( gerçek tekil )'!$C8),0) -> 5 | K8: =IFERROR(SUMIFS([1]DATA!$J:$J,[1]DATA!$G:$G,'Cek Yasaklisi ( gerçek tekil )'!K$2,[1]DATA!$H:$H,'Cek Yasaklisi ( gerçek tekil )'!$C$1,[1]DATA!$I:$I,'Cek Yasaklisi ( gerçek tekil )'!$C8),0) -> 2 | L8: =IFERROR(SUMIFS([1]DATA!$J:$J,[1]DATA!$G:$G,'Cek Yasaklisi ( gerçek tekil )'!L$2,[1]DATA!$H:$H,'Cek Yasaklisi ( gerçek tekil )'!$C$1,[1]DATA!$I:$I,'Cek Yasaklisi ( gerçek tekil )'!$C8),0) -> 0 | M8: =IFERROR(SUMIFS([1]DATA!$J:$J,[1]DATA!$G:$G,'Cek Yasaklisi ( gerçek tekil )'!M$2,[1]DATA!$H:$H,'Cek Yasaklisi ( gerçek tekil )'!$C$1,[1]DATA!$I:$I,'Cek Yasaklisi ( gerçek tekil )'!$C8),0) -> 6 | Q8: =IFERROR(SUMIFS([1]DATA!$X:$X,[1]DATA!$V:$V,'Cek Yasaklisi ( gerçek tekil )'!$C$1,[1]DATA!$W:$W,'Cek Yasaklisi ( gerçek tekil )'!$C8,[1]DATA!$U:$U,'Cek Yasaklisi ( gerçek tekil )'!$C$2),0) -> 18
C9: 39 | D9: Kırklareli | E9: =IFERROR(SUMIFS([1]DATA!$J:$J,[1]DATA!$G:$G,'Cek Yasaklisi ( gerçek tekil )'!E$2,[1]DATA!$H:$H,'Cek Yasaklisi ( gerçek tekil )'!$C$1,[1]DATA!$I:$I,'Cek Yasaklisi ( gerçek tekil )'!$C9),0) -> 8 | F9: =IFERROR(SUMIFS([1]DATA!$J:$J,[1]DATA!$G:$G,'Cek Yasaklisi ( gerçek tekil )'!F$2,[1]DATA!$H:$H,'Cek Yasaklisi ( gerçek tekil )'!$C$1,[1]DATA!$I:$I,'Cek Yasaklisi ( gerçek tekil )'!$C9),0) -> 3 | G9: =IFERROR(SUMIFS([1]DATA!$J:$J,[1]DATA!$G:$G,'Cek Yasaklisi ( gerçek tekil )'!G$2,[1]DATA!$H:$H,'Cek Yasaklisi ( gerçek tekil )'!$C$1,[1]DATA!$I:$I,'Cek Yasaklisi ( gerçek tekil )'!$C9),0) -> 5 | H9: =IFERROR(SUMIFS([1]DATA!$J:$J,[1]DATA!$G:$G,'Cek Yasaklisi ( gerçek tekil )'!H$2,[1]DATA!$H:$H,'Cek Yasaklisi ( gerçek tekil )'!$C$1,[1]DATA!$I:$I,'Cek Yasaklisi ( gerçek tekil )'!$C9),0) -> 6 | I9: =IFERROR(SUMIFS([1]DATA!$J:$J,[1]DATA!$G:$G,'Cek Yasaklisi ( gerçek tekil )'!I$2,[1]DATA!$H:$H,'Cek Yasaklisi ( gerçek tekil )'!$C$1,[1]DATA!$I:$I,'Cek Yasaklisi ( gerçek tekil )'!$C9),0) -> 3 | J9: =IFERROR(SUMIFS([1]DATA!$J:$J,[1]DATA!$G:$G,'Cek Yasaklisi ( gerçek tekil )'!J$2,[1]DATA!$H:$H,'Cek Yasaklisi ( gerçek tekil )'!$C$1,[1]DATA!$I:$I,'Cek Yasaklisi ( gerçek tekil )'!$C9),0) -> 7 | K9: =IFERROR(SUMIFS([1]DATA!$J:$J,[1]DATA!$G:$G,'Cek Yasaklisi ( gerçek tekil )'!K$2,[1]DATA!$H:$H,'Cek Yasaklisi ( gerçek tekil )'!$C$1,[1]DATA!$I:$I,'Cek Yasaklisi ( gerçek tekil )'!$C9),0) -> 13 | L9: =IFERROR(SUMIFS([1]DATA!$J:$J,[1]DATA!$G:$G,'Cek Yasaklisi ( gerçek tekil )'!L$2,[1]DATA!$H:$H,'Cek Yasaklisi ( gerçek tekil )'!$C$1,[1]DATA!$I:$I,'Cek Yasaklisi ( gerçek tekil )'!$C9),0) -> 1 | M9: =IFERROR(SUMIFS([1]DATA!$J:$J,[1]DATA!$G:$G,'Cek Yasaklisi ( gerçek tekil )'!M$2,[1]DATA!$H:$H,'Cek Yasaklisi ( gerçek tekil )'!$C$1,[1]DATA!$I:$I,'Cek Yasaklisi ( gerçek tekil )'!$C9),0) -> 5 | Q9: =IFERROR(SUMIFS([1]DATA!$X:$X,[1]DATA!$V:$V,'Cek Yasaklisi ( gerçek tekil )'!$C$1,[1]DATA!$W:$W,'Cek Yasaklisi ( gerçek tekil )'!$C9,[1]DATA!$U:$U,'Cek Yasaklisi ( gerçek tekil )'!$C$2),0) -> 40
C10: 59 | D10: Tekirdağ | E10: =IFERROR(SUMIFS([1]DATA!$J:$J,[1]DATA!$G:$G,'Cek Yasaklisi ( gerçek tekil )'!E$2,[1]DATA!$H:$H,'Cek Yasaklisi ( gerçek tekil )'!$C$1,[1]DATA!$I:$I,'Cek Yasaklisi ( gerçek tekil )'!$C10),0) -> 24 | F10: =IFERROR(SUMIFS([1]DATA!$J:$J,[1]DATA!$G:$G,'Cek Yasaklisi ( gerçek tekil )'!F$2,[1]DATA!$H:$H,'Cek Yasaklisi ( gerçek tekil )'!$C$1,[1]DATA!$I:$I,'Cek Yasaklisi ( gerçek tekil )'!$C10),0) -> 32 | G10: =IFERROR(SUMIFS([1]DATA!$J:$J,[1]DATA!$G:$G,'Cek Yasaklisi ( gerçek tekil )'!G$2,[1]DATA!$H:$H,'Cek Yasaklisi ( gerçek tekil )'!$C$1,[1]DATA!$I:$I,'Cek Yasaklisi ( gerçek tekil )'!$C10),0) -> 31 | H10: =IFERROR(SUMIFS([1]DATA!$J:$J,[1]DATA!$G:$G,'Cek Yasaklisi ( gerçek tekil )'!H$2,[1]DATA!$H:$H,'Cek Yasaklisi ( gerçek tekil )'!$C$1,[1]DATA!$I:$I,'Cek Yasaklisi ( gerçek tekil )'!$C10),0) -> 22 | I10: =IFERROR(SUMIFS([1]DATA!$J:$J,[1]DATA!$G:$G,'Cek Yasaklisi ( gerçek tekil )'!I$2,[1]DATA!$H:$H,'Cek Yasaklisi ( gerçek tekil )'!$C$1,[1]DATA!$I:$I,'Cek Yasaklisi ( gerçek tekil )'!$C10),0) -> 21 | J10: =IFERROR(SUMIFS([1]DATA!$J:$J,[1]DATA!$G:$G,'Cek Yasaklisi ( gerçek tekil )'!J$2,[1]DATA!$H:$H,'Cek Yasaklisi ( gerçek tekil )'!$C$1,[1]DATA!$I:$I,'Cek Yasaklisi ( gerçek tekil )'!$C10),0) -> 32 | K10: =IFERROR(SUMIFS([1]DATA!$J:$J,[1]DATA!$G:$G,'Cek Yasaklisi ( gerçek tekil )'!K$2,[1]DATA!$H:$H,'Cek Yasaklisi ( gerçek tekil )'!$C$1,[1]DATA!$I:$I,'Cek Yasaklisi ( gerçek tekil )'!$C10),0) -> 40 | L10: =IFERROR(SUMIFS([1]DATA!$J:$J,[1]DATA!$G:$G,'Cek Yasaklisi ( gerçek tekil )'!L$2,[1]DATA!$H:$H,'Cek Yasaklisi ( gerçek tekil )'!$C$1,[1]DATA!$I:$I,'Cek Yasaklisi ( gerçek tekil )'!$C10),0) -> 20 | M10: =IFERROR(SUMIFS([1]DATA!$J:$J,[1]DATA!$G:$G,'Cek Yasaklisi ( gerçek tekil )'!M$2,[1]DATA!$H:$H,'Cek Yasaklisi ( gerçek tekil )'!$C$1,[1]DATA!$I:$I,'Cek Yasaklisi ( gerçek tekil )'!$C10),0) -> 30 | Q10: =IFERROR(SUMIFS([1]DATA!$X:$X,[1]DATA!$V:$V,'Cek Yasaklisi ( gerçek tekil )'!$C$1,[1]DATA!$W:$W,'Cek Yasaklisi ( gerçek tekil )'!$C10,[1]DATA!$U:$U,'Cek Yasaklisi ( gerçek tekil )'!$C$2),0) -> 182
C11: Ege | D11: Ege | E11: =IFERROR(SUMIFS([1]DATA!$Q:$Q,[1]DATA!$N:$N,'Cek Yasaklisi ( gerçek tekil )'!E$2,[1]DATA!$O:$O,'Cek Yasaklisi ( gerçek tekil )'!$C$1,[1]DATA!$P:$P,'Cek Yasaklisi ( gerçek tekil )'!$C11),0) -> 425 | F11: =IFERROR(SUMIFS([1]DATA!$Q:$Q,[1]DATA!$N:$N,'Cek Yasaklisi ( gerçek tekil )'!F$2,[1]DATA!$O:$O,'Cek Yasaklisi ( gerçek tekil )'!$C$1,[1]DATA!$P:$P,'Cek Yasaklisi ( gerçek tekil )'!$C11),0) -> 375 | G11: =IFERROR(SUMIFS([1]DATA!$Q:$Q,[1]DATA!$N:$N,'Cek Yasaklisi ( gerçek tekil )'!G$2,[1]DATA!$O:$O,'Cek Yasaklisi ( gerçek tekil )'!$C$1,[1]DATA!$P:$P,'Cek Yasaklisi ( gerçek tekil )'!$C11),0) -> 376 | H11: =IFERROR(SUMIFS([1]DATA!$Q:$Q,[1]DATA!$N:$N,'Cek Yasaklisi ( gerçek tekil )'!H$2,[1]DATA!$O:$O,'Cek Yasaklisi ( gerçek tekil )'!$C$1,[1]DATA!$P:$P,'Cek Yasaklisi ( gerçek tekil )'!$C11),0) -> 439 | I11: =IFERROR(SUMIFS([1]DATA!$Q:$Q,[1]DATA!$N:$N,'Cek Yasaklisi ( gerçek tekil )'!I$2,[1]DATA!$O:$O,'Cek Yasaklisi ( gerçek tekil )'!$C$1,[1]DATA!$P:$P,'Cek Yasaklisi ( gerçek tekil )'!$C11),0) -> 374 | J11: =IFERROR(SUMIFS([1]DATA!$Q:$Q,[1]DATA!$N:$N,'Cek Yasaklisi ( gerçek tekil )'!J$2,[1]DATA!$O:$O,'Cek Yasaklisi ( gerçek tekil )'!$C$1,[1]DATA!$P:$P,'Cek Yasaklisi ( gerçek tekil )'!$C11),0) -> 479 | K11: =IFERROR(SUMIFS([1]DATA!$Q:$Q,[1]DATA!$N:$N,'Cek Yasaklisi ( gerçek tekil )'!K$2,[1]DATA!$O:$O,'Cek Yasaklisi ( gerçek tekil )'!$C$1,[1]DATA!$P:$P,'Cek Yasaklisi ( gerçek tekil )'!$C11),0) -> 416 | L11: =IFERROR(SUMIFS([1]DATA!$Q:$Q,[1]DATA!$N:$N,'Cek Yasaklisi ( gerçek tekil )'!L$2,[1]DATA!$O:$O,'Cek Yasaklisi ( gerçek tekil )'!$C$1,[1]DATA!$P:$P,'Cek Yasaklisi ( gerçek tekil )'!$C11),0) -> 196 | M11: =IFERROR(SUMIFS([1]DATA!$Q:$Q,[1]DATA!$N:$N,'Cek Yasaklisi ( gerçek tekil )'!M$2,[1]DATA!$O:$O,'Cek Yasaklisi ( gerçek tekil )'!$C$1,[1]DATA!$P:$P,'Cek Yasaklisi ( gerçek tekil )'!$C11),0) -> 382 | Q11: =IFERROR(SUMIFS([1]DATA!$AE:$AE,[1]DATA!$AC:$AC,'Cek Yasaklisi ( gerçek tekil )'!$C$1,[1]DATA!$AD:$AD,'Cek Yasaklisi ( gerçek tekil )'!$C11,[1]DATA!$AB:$AB,'Cek Yasaklisi ( gerçek tekil )'!$C$2),0) -> 2195
C12: 3 | D12: Afyonkarahisar | E12: =IFERROR(SUMIFS([1]DATA!$J:$J,[1]DATA!$G:$G,'Cek Yasaklisi ( gerçek tekil )'!E$2,[1]DATA!$H:$H,'Cek Yasaklisi ( gerçek tekil )'!$C$1,[1]DATA!$I:$I,'Cek Yasaklisi ( gerçek tekil )'!$C12),0) -> 5 | F12: =IFERROR(SUMIFS([1]DATA!$J:$J,[1]DATA!$G:$G,'Cek Yasaklisi ( gerçek tekil )'!F$2,[1]DATA!$H:$H,'Cek Yasaklisi ( gerçek tekil )'!$C$1,[1]DATA!$I:$I,'Cek Yasaklisi ( gerçek tekil )'!$C12),0) -> 23 | G12: =IFERROR(SUMIFS([1]DATA!$J:$J,[1]DATA!$G:$G,'Cek Yasaklisi ( gerçek tekil )'!G$2,[1]DATA!$H:$H,'Cek Yasaklisi ( gerçek tekil )'!$C$1,[1]DATA!$I:$I,'Cek Yasaklisi ( gerçek tekil )'!$C12),0) -> 5 | H12: =IFERROR(SUMIFS([1]DATA!$J:$J,[1]DATA!$G:$G,'Cek Yasaklisi ( gerçek tekil )'!H$2,[1]DATA!$H:$H,'Cek Yasaklisi ( gerçek tekil )'!$C$1,[1]DATA!$I:$I,'Cek Yasaklisi ( gerçek tekil )'!$C12),0) -> 11 | I12: =IFERROR(SUMIFS([1]DATA!$J:$J,[1]DATA!$G:$G,'Cek Yasaklisi ( gerçek tekil )'!I$2,[1]DATA!$H:$H,'Cek Yasaklisi ( gerçek tekil )'!$C$1,[1]DATA!$I:$I,'Cek Yasaklisi ( gerçek tekil )'!$C12),0) -> 13 | J12: =IFERROR(SUMIFS([1]DATA!$J:$J,[1]DATA!$G:$G,'Cek Yasaklisi ( gerçek tekil )'!J$2,[1]DATA!$H:$H,'Cek Yasaklisi ( gerçek tekil )'!$C$1,[1]DATA!$I:$I,'Cek Yasaklisi ( gerçek tekil )'!$C12),0) -> 14 | K12: =IFERROR(SUMIFS([1]DATA!$J:$J,[1]DATA!$G:$G,'Cek Yasaklisi ( gerçek tekil )'!K$2,[1]DATA!$H:$H,'Cek Yasaklisi ( gerçek tekil )'!$C$1,[1]DATA!$I:$I,'Cek Yasaklisi ( gerçek tekil )'!$C12),0) -> 14 | L12: =IFERROR(SUMIFS([1]DATA!$J:$J,[1]DATA!$G:$G,'Cek Yasaklisi ( gerçek tekil )'!L$2,[1]DATA!$H:$H,'Cek Yasaklisi ( gerçek tekil )'!$C$1,[1]DATA!$I:$I,'Cek Yasaklisi ( gerçek tekil )'!$C12),0) -> 10 | M12: =IFERROR(SUMIFS([1]DATA!$J:$J,[1]DATA!$G:$G,'Cek Yasaklisi ( gerçek tekil )'!M$2,[1]DATA!$H:$H,'Cek Yasaklisi ( gerçek tekil )'!$C$1,[1]DATA!$I:$I,'Cek Yasaklisi ( gerçek tekil )'!$C12),0) -> 18 | Q12: =IFERROR(SUMIFS([1]DATA!$X:$X,[1]DATA!$V:$V,'Cek Yasaklisi ( gerçek tekil )'!$C$1,[1]DATA!$W:$W,'Cek Yasaklisi ( gerçek tekil )'!$C12,[1]DATA!$U:$U,'Cek Yasaklisi ( gerçek tekil )'!$C$2),0) -> 98
C13: 9 | D13: Aydın | E13: =IFERROR(SUMIFS([1]DATA!$J:$J,[1]DATA!$G:$G,'Cek Yasaklisi ( gerçek tekil )'!E$2,[1]DATA!$H:$H,'Cek Yasaklisi ( gerçek tekil )'!$C$1,[1]DATA!$I:$I,'Cek Yasaklisi ( gerçek tekil )'!$C13),0) -> 39 | F13: =IFERROR(SUMIFS([1]DATA!$J:$J,[1]DATA!$G:$G,'Cek Yasaklisi ( gerçek tekil )'!F$2,[1]DATA!$H:$H,'Cek Yasaklisi ( gerçek tekil )'!$C$1,[1]DATA!$I:$I,'Cek Yasaklisi ( gerçek tekil )'!$C13),0) -> 18 | G13: =IFERROR(SUMIFS([1]DATA!$J:$J,[1]DATA!$G:$G,'Cek Yasaklisi ( gerçek tekil )'!G$2,[1]DATA!$H:$H,'Cek Yasaklisi ( gerçek tekil )'!$C$1,[1]DATA!$I:$I,'Cek Yasaklisi ( gerçek tekil )'!$C13),0) -> 30 | H13: =IFERROR(SUMIFS([1]DATA!$J:$J,[1]DATA!$G:$G,'Cek Yasaklisi ( gerçek tekil )'!H$2,[1]DATA!$H:$H,'Cek Yasaklisi ( gerçek tekil )'!$C$1,[1]DATA!$I:$I,'Cek Yasaklisi ( gerçek tekil )'!$C13),0) -> 31 | I13: =IFERROR(SUMIFS([1]DATA!$J:$J,[1]DATA!$G:$G,'Cek Yasaklisi ( gerçek tekil )'!I$2,[1]DATA!$H:$H,'Cek Yasaklisi ( gerçek tekil )'!$C$1,[1]DATA!$I:$I,'Cek Yasaklisi ( gerçek tekil )'!$C13),0) -> 23 | J13: =IFERROR(SUMIFS([1]DATA!$J:$J,[1]DATA!$G:$G,'Cek Yasaklisi ( gerçek tekil )'!J$2,[1]DATA!$H:$H,'Cek Yasaklisi ( gerçek tekil )'!$C$1,[1]DATA!$I:$I,'Cek Yasaklisi ( gerçek tekil )'!$C13),0) -> 35 | K13: =IFERROR(SUMIFS([1]DATA!$J:$J,[1]DATA!$G:$G,'Cek Yasaklisi ( gerçek tekil )'!K$2,[1]DATA!$H:$H,'Cek Yasaklisi ( gerçek tekil )'!$C$1,[1]DATA!$I:$I,'Cek Yasaklisi ( gerçek tekil )'!$C13),0) -> 30 | L13: =IFERROR(SUMIFS([1]DATA!$J:$J,[1]DATA!$G:$G,'Cek Yasaklisi ( gerçek tekil )'!L$2,[1]DATA!$H:$H,'Cek Yasaklisi ( gerçek tekil )'!$C$1,[1]DATA!$I:$I,'Cek Yasaklisi ( gerçek tekil )'!$C13),0) -> 30 | M13: =IFERROR(SUMIFS([1]DATA!$J:$J,[1]DATA!$G:$G,'Cek Yasaklisi ( gerçek tekil )'!M$2,[1]DATA!$H:$H,'Cek Yasaklisi ( gerçek tekil )'!$C$1,[1]DATA!$I:$I,'Cek Yasaklisi ( gerçek tekil )'!$C13),0) -> 32 | Q13: =IFERROR(SUMIFS([1]DATA!$X:$X,[1]DATA!$V:$V,'Cek Yasaklisi ( gerçek tekil )'!$C$1,[1]DATA!$W:$W,'Cek Yasaklisi ( gerçek tekil )'!$C13,[1]DATA!$U:$U,'Cek Yasaklisi ( gerçek tekil )'!$C$2),0) -> 193
C14: 20 | D14: Denizli | E14: =IFERROR(SUMIFS([1]DATA!$J:$J,[1]DATA!$G:$G,'Cek Yasaklisi ( gerçek tekil )'!E$2,[1]DATA!$H:$H,'Cek Yasaklisi ( gerçek tekil )'!$C$1,[1]DATA!$I:$I,'Cek Yasaklisi ( gerçek tekil )'!$C14),0) -> 72 | F14: =IFERROR(SUMIFS([1]DATA!$J:$J,[1]DATA!$G:$G,'Cek Yasaklisi ( gerçek tekil )'!F$2,[1]DATA!$H:$H,'Cek Yasaklisi ( gerçek tekil )'!$C$1,[1]DATA!$I:$I,'Cek Yasaklisi ( gerçek tekil )'!$C14),0) -> 31 | G14: =IFERROR(SUMIFS([1]DATA!$J:$J,[1]DATA!$G:$G,'Cek Yasaklisi ( gerçek tekil )'!G$2,[1]DATA!$H:$H,'Cek Yasaklisi ( gerçek tekil )'!$C$1,[1]DATA!$I:$I,'Cek Yasaklisi ( gerçek tekil )'!$C14),0) -> 46 | H14: =IFERROR(SUMIFS([1]DATA!$J:$J,[1]DATA!$G:$G,'Cek Yasaklisi ( gerçek tekil )'!H$2,[1]DATA!$H:$H,'Cek Yasaklisi ( gerçek tekil )'!$C$1,[1]DATA!$I:$I,'Cek Yasaklisi ( gerçek tekil )'!$C14),0) -> 33 | I14: =IFERROR(SUMIFS([1]DATA!$J:$J,[1]DATA!$G:$G,'Cek Yasaklisi ( gerçek tekil )'!I$2,[1]DATA!$H:$H,'Cek Yasaklisi ( gerçek tekil )'!$C$1,[1]DATA!$I:$I,'Cek Yasaklisi ( gerçek tekil )'!$C14),0) -> 11 | J14: =IFERROR(SUMIFS([1]DATA!$J:$J,[1]DATA!$G:$G,'Cek Yasaklisi ( gerçek tekil )'!J$2,[1]DATA!$H:$H,'Cek Yasaklisi ( gerçek tekil )'!$C$1,[1]DATA!$I:$I,'Cek Yasaklisi ( gerçek tekil )'!$C14),0) -> 47 | K14: =IFERROR(SUMIFS([1]DATA!$J:$J,[1]DATA!$G:$G,'Cek Yasaklisi ( gerçek tekil )'!K$2,[1]DATA!$H:$H,'Cek Yasaklisi ( gerçek tekil )'!$C$1,[1]DATA!$I:$I,'Cek Yasaklisi ( gerçek tekil )'!$C14),0) -> 38 | L14: =IFERROR(SUMIFS([1]DATA!$J:$J,[1]DATA!$G:$G,'Cek Yasaklisi ( gerçek tekil )'!L$2,[1]DATA!$H:$H,'Cek Yasaklisi ( gerçek tekil )'!$C$1,[1]DATA!$I:$I,'Cek Yasaklisi ( gerçek tekil )'!$C14),0) -> 5 | M14: =IFERROR(SUMIFS([1]DATA!$J:$J,[1]DATA!$G:$G,'Cek Yasaklisi ( gerçek tekil )'!M$2,[1]DATA!$H:$H,'Cek Yasaklisi ( gerçek tekil )'!$C$1,[1]DATA!$I:$I,'Cek Yasaklisi ( gerçek tekil )'!$C14),0) -> 39 | Q14: =IFERROR(SUMIFS([1]DATA!$X:$X,[1]DATA!$V:$V,'Cek Yasaklisi ( gerçek tekil )'!$C$1,[1]DATA!$W:$W,'Cek Yasaklisi ( gerçek tekil )'!$C14,[1]DATA!$U:$U,'Cek Yasaklisi ( gerçek tekil )'!$C$2),0) -> 236
C15: 35 | D15: İzmir | E15: =IFERROR(SUMIFS([1]DATA!$J:$J,[1]DATA!$G:$G,'Cek Yasaklisi ( gerçek tekil )'!E$2,[1]DATA!$H:$H,'Cek Yasaklisi ( gerçek tekil )'!$C$1,[1]DATA!$I:$I,'Cek Yasaklisi ( gerçek tekil )'!$C15),0) -> 225 | F15: =IFERROR(SUMIFS([1]DATA!$J:$J,[1]DATA!$G:$G,'Cek Yasaklisi ( gerçek tekil )'!F$2,[1]DATA!$H:$H,'Cek Yasaklisi ( gerçek tekil )'!$C$1,[1]DATA!$I:$I,'Cek Yasaklisi ( gerçek tekil )'!$C15),0) -> 206 | G15: =IFERROR(SUMIFS([1]DATA!$J:$J,[1]DATA!$G:$G,'Cek Yasaklisi ( gerçek tekil )'!G$2,[1]DATA!$H:$H,'Cek Yasaklisi ( gerçek tekil )'!$C$1,[1]DATA!$I:$I,'Cek Yasaklisi ( gerçek tekil )'!$C15),0) -> 196 | H15: =IFERROR(SUMIFS([1]DATA!$J:$J,[1]DATA!$G:$G,'Cek Yasaklisi ( gerçek tekil )'!H$2,[1]DATA!$H:$H,'Cek Yasaklisi ( gerçek tekil )'!$C$1,[1]DATA!$I:$I,'Cek Yasaklisi ( gerçek tekil )'!$C15),0) -> 237 | I15: =IFERROR(SUMIFS([1]DATA!$J:$J,[1]DATA!$G:$G,'Cek Yasaklisi ( gerçek tekil )'!I$2,[1]DATA!$H:$H,'Cek Yasaklisi ( gerçek tekil )'!$C$1,[1]DATA!$I:$I,'Cek Yasaklisi ( gerçek tekil )'!$C15),0) -> 215 | J15: =IFERROR(SUMIFS([1]DATA!$J:$J,[1]DATA!$G:$G,'Cek Yasaklisi ( gerçek tekil )'!J$2,[1]DATA!$H:$H,'Cek Yasaklisi ( gerçek tekil )'!$C$1,[1]DATA!$I:$I,'Cek Yasaklisi ( gerçek tekil )'!$C15),0) -> 271 | K15: =IFERROR(SUMIFS([1]DATA!$J:$J,[1]DATA!$G:$G,'Cek Yasaklisi ( gerçek tekil )'!K$2,[1]DATA!$H:$H,'Cek Yasaklisi ( gerçek tekil )'!$C$1,[1]DATA!$I:$I,'Cek Yasaklisi ( gerçek tekil )'!$C15),0) -> 217 | L15: =IFERROR(SUMIFS([1]DATA!$J:$J,[1]DATA!$G:$G,'Cek Yasaklisi ( gerçek tekil )'!L$2,[1]DATA!$H:$H,'Cek Yasaklisi ( gerçek tekil )'!$C$1,[1]DATA!$I:$I,'Cek Yasaklisi ( gerçek tekil )'!$C15),0) -> 81 | M15: =IFERROR(SUMIFS([1]DATA!$J:$J,[1]DATA!$G:$G,'Cek Yasaklisi ( gerçek tekil )'!M$2,[1]DATA!$H:$H,'Cek Yasaklisi ( gerçek tekil )'!$C$1,[1]DATA!$I:$I,'Cek Yasaklisi ( gerçek tekil )'!$C15),0) -> 197 | Q15: =IFERROR(SUMIFS([1]DATA!$X:$X,[1]DATA!$V:$V,'Cek Yasaklisi ( gerçek tekil )'!$C$1,[1]DATA!$W:$W,'Cek Yasaklisi ( gerçek tekil )'!$C15,[1]DATA!$U:$U,'Cek Yasaklisi ( gerçek tekil )'!$C$2),0) -> 1208
C16: 43 | D16: Kütahya | E16: =IFERROR(SUMIFS([1]DATA!$J:$J,[1]DATA!$G:$G,'Cek Yasaklisi ( gerçek tekil )'!E$2,[1]DATA!$H:$H,'Cek Yasaklisi ( gerçek tekil )'!$C$1,[1]DATA!$I:$I,'Cek Yasaklisi ( gerçek tekil )'!$C16),0) -> 8 | F16: =IFERROR(SUMIFS([1]DATA!$J:$J,[1]DATA!$G:$G,'Cek Yasaklisi ( gerçek tekil )'!F$2,[1]DATA!$H:$H,'Cek Yasaklisi ( gerçek tekil )'!$C$1,[1]DATA!$I:$I,'Cek Yasaklisi ( gerçek tekil )'!$C16),0) -> 9 | G16: =IFERROR(SUMIFS([1]DATA!$J:$J,[1]DATA!$G:$G,'Cek Yasaklisi ( gerçek tekil )'!G$2,[1]DATA!$H:$H,'Cek Yasaklisi ( gerçek tekil )'!$C$1,[1]DATA!$I:$I,'Cek Yasaklisi ( gerçek tekil )'!$C16),0) -> 12 | H16: =IFERROR(SUMIFS([1]DATA!$J:$J,[1]DATA!$G:$G,'Cek Yasaklisi ( gerçek tekil )'!H$2,[1]DATA!$H:$H,'Cek Yasaklisi ( gerçek tekil )'!$C$1,[1]DATA!$I:$I,'Cek Yasaklisi ( gerçek tekil )'!$C16),0) -> 13 | I16: =IFERROR(SUMIFS([1]DATA!$J:$J,[1]DATA!$G:$G,'Cek Yasaklisi ( gerçek tekil )'!I$2,[1]DATA!$H:$H,'Cek Yasaklisi ( gerçek tekil )'!$C$1,[1]DATA!$I:$I,'Cek Yasaklisi ( gerçek tekil )'!$C16),0) -> 7 | J16: =IFERROR(SUMIFS([1]DATA!$J:$J,[1]DATA!$G:$G,'Cek Yasaklisi ( gerçek tekil )'!J$2,[1]DATA!$H:$H,'Cek Yasaklisi ( gerçek tekil )'!$C$1,[1]DATA!$I:$I,'Cek Yasaklisi ( gerçek tekil )'!$C16),0) -> 11 | K16: =IFERROR(SUMIFS([1]DATA!$J:$J,[1]DATA!$G:$G,'Cek Yasaklisi ( gerçek tekil )'!K$2,[1]DATA!$H:$H,'Cek Yasaklisi ( gerçek tekil )'!$C$1,[1]DATA!$I:$I,'Cek Yasaklisi ( gerçek tekil )'!$C16),0) -> 10 | L16: =IFERROR(SUMIFS([1]DATA!$J:$J,[1]DATA!$G:$G,'Cek Yasaklisi ( gerçek tekil )'!L$2,[1]DATA!$H:$H,'Cek Yasaklisi ( gerçek tekil )'!$C$1,[1]DATA!$I:$I,'Cek Yasaklisi ( gerçek tekil )'!$C16),0) -> 9 | M16: =IFERROR(SUMIFS([1]DATA!$J:$J,[1]DATA!$G:$G,'Cek Yasaklisi ( gerçek tekil )'!M$2,[1]DATA!$H:$H,'Cek Yasaklisi ( gerçek tekil )'!$C$1,[1]DATA!$I:$I,'Cek Yasaklisi ( gerçek tekil )'!$C16),0) -> 11 | Q16: =IFERROR(SUMIFS([1]DATA!$X:$X,[1]DATA!$V:$V,'Cek Yasaklisi ( gerçek tekil )'!$C$1,[1]DATA!$W:$W,'Cek Yasaklisi ( gerçek tekil )'!$C16,[1]DATA!$U:$U,'Cek Yasaklisi ( gerçek tekil )'!$C$2),0) -> 70
C17: 45 | D17: Manisa | E17: =IFERROR(SUMIFS([1]DATA!$J:$J,[1]DATA!$G:$G,'Cek Yasaklisi ( gerçek tekil )'!E$2,[1]DATA!$H:$H,'Cek Yasaklisi ( gerçek tekil )'!$C$1,[1]DATA!$I:$I,'Cek Yasaklisi ( gerçek tekil )'!$C17),0) -> 30 | F17: =IFERROR(SUMIFS([1]DATA!$J:$J,[1]DATA!$G:$G,'Cek Yasaklisi ( gerçek tekil )'!F$2,[1]DATA!$H:$H,'Cek Yasaklisi ( gerçek tekil )'!$C$1,[1]DATA!$I:$I,'Cek Yasaklisi ( gerçek tekil )'!$C17),0) -> 54 | G17: =IFERROR(SUMIFS([1]DATA!$J:$J,[1]DATA!$G:$G,'Cek Yasaklisi ( gerçek tekil )'!G$2,[1]DATA!$H:$H,'Cek Yasaklisi ( gerçek tekil )'!$C$1,[1]DATA!$I:$I,'Cek Yasaklisi ( gerçek tekil )'!$C17),0) -> 43 | H17: =IFERROR(SUMIFS([1]DATA!$J:$J,[1]DATA!$G:$G,'Cek Yasaklisi ( gerçek tekil )'!H$2,[1]DATA!$H:$H,'Cek Yasaklisi ( gerçek tekil )'!$C$1,[1]DATA!$I:$I,'Cek Yasaklisi ( gerçek tekil )'!$C17),0) -> 70 | I17: =IFERROR(SUMIFS([1]DATA!$J:$J,[1]DATA!$G:$G,'Cek Yasaklisi ( gerçek tekil )'!I$2,[1]DATA!$H:$H,'Cek Yasaklisi ( gerçek tekil )'!$C$1,[1]DATA!$I:$I,'Cek Yasaklisi ( gerçek tekil )'!$C17),0) -> 65 | J17: =IFERROR(SUMIFS([1]DATA!$J:$J,[1]DATA!$G:$G,'Cek Yasaklisi ( gerçek tekil )'!J$2,[1]DATA!$H:$H,'Cek Yasaklisi ( gerçek tekil )'!$C$1,[1]DATA!$I:$I,'Cek Yasaklisi ( gerçek tekil )'!$C17),0) -> 65 | K17: =IFERROR(SUMIFS([1]DATA!$J:$J,[1]DATA!$G:$G,'Cek Yasaklisi ( gerçek tekil )'!K$2,[1]DATA!$H:$H,'Cek Yasaklisi ( gerçek tekil )'!$C$1,[1]DATA!$I:$I,'Cek Yasaklisi ( gerçek tekil )'!$C17),0) -> 53 | L17: =IFERROR(SUMIFS([1]DATA!$J:$J,[1]DATA!$G:$G,'Cek Yasaklisi ( gerçek tekil )'!L$2,[1]DATA!$H:$H,'Cek Yasaklisi ( gerçek tekil )'!$C$1,[1]DATA!$I:$I,'Cek Yasaklisi ( gerçek tekil )'!$C17),0) -> 22 | M17: =IFERROR(SUMIFS([1]DATA!$J:$J,[1]DATA!$G:$G,'Cek Yasaklisi ( gerçek tekil )'!M$2,[1]DATA!$H:$H,'Cek Yasaklisi ( gerçek tekil )'!$C$1,[1]DATA!$I:$I,'Cek Yasaklisi ( gerçek tekil )'!$C17),0) -> 41 | Q17: =IFERROR(SUMIFS([1]DATA!$X:$X,[1]DATA!$V:$V,'Cek Yasaklisi ( gerçek tekil )'!$C$1,[1]DATA!$W:$W,'Cek Yasaklisi ( gerçek tekil )'!$C17,[1]DATA!$U:$U,'Cek Yasaklisi ( gerçek tekil )'!$C$2),0) -> 307
C18: 48 | D18: Muğla | E18: =IFERROR(SUMIFS([1]DATA!$J:$J,[1]DATA!$G:$G,'Cek Yasaklisi ( gerçek tekil )'!E$2,[1]DATA!$H:$H,'Cek Yasaklisi ( gerçek tekil )'!$C$1,[1]DATA!$I:$I,'Cek Yasaklisi ( gerçek tekil )'!$C18),0) -> 39 | F18: =IFERROR(SUMIFS([1]DATA!$J:$J,[1]DATA!$G:$G,'Cek Yasaklisi ( gerçek tekil )'!F$2,[1]DATA!$H:$H,'Cek Yasaklisi ( gerçek tekil )'!$C$1,[1]DATA!$I:$I,'Cek Yasaklisi ( gerçek tekil )'!$C18),0) -> 32 | G18: =IFERROR(SUMIFS([1]DATA!$J:$J,[1]DATA!$G:$G,'Cek Yasaklisi ( gerçek tekil )'!G$2,[1]DATA!$H:$H,'Cek Yasaklisi ( gerçek tekil )'!$C$1,[1]DATA!$I:$I,'Cek Yasaklisi ( gerçek tekil )'!$C18),0) -> 35 | H18: =IFERROR(SUMIFS([1]DATA!$J:$J,[1]DATA!$G:$G,'Cek Yasaklisi ( gerçek tekil )'!H$2,[1]DATA!$H:$H,'Cek Yasaklisi ( gerçek tekil )'!$C$1,[1]DATA!$I:$I,'Cek Yasaklisi ( gerçek tekil )'!$C18),0) -> 42 | I18: =IFERROR(SUMIFS([1]DATA!$J:$J,[1]DATA!$G:$G,'Cek Yasaklisi ( gerçek tekil )'!I$2,[1]DATA!$H:$H,'Cek Yasaklisi ( gerçek tekil )'!$C$1,[1]DATA!$I:$I,'Cek Yasaklisi ( gerçek tekil )'!$C18),0) -> 38 | J18: =IFERROR(SUMIFS([1]DATA!$J:$J,[1]DATA!$G:$G,'Cek Yasaklisi ( gerçek tekil )'!J$2,[1]DATA!$H:$H,'Cek Yasaklisi ( gerçek tekil )'!$C$1,[1]DATA!$I:$I,'Cek Yasaklisi ( gerçek tekil )'!$C18),0) -> 28 | K18: =IFERROR(SUMIFS([1]DATA!$J:$J,[1]DATA!$G:$G,'Cek Yasaklisi ( gerçek tekil )'!K$2,[1]DATA!$H:$H,'Cek Yasaklisi ( gerçek tekil )'!$C$1,[1]DATA!$I:$I,'Cek Yasaklisi ( gerçek tekil )'!$C18),0) -> 45 | L18: =IFERROR(SUMIFS([1]DATA!$J:$J,[1]DATA!$G:$G,'Cek Yasaklisi ( gerçek tekil )'!L$2,[1]DATA!$H:$H,'Cek Yasaklisi ( gerçek tekil )'!$C$1,[1]DATA!$I:$I,'Cek Yasaklisi ( gerçek tekil )'!$C18),0) -> 24 | M18: =IFERROR(SUMIFS([1]DATA!$J:$J,[1]DATA!$G:$G,'Cek Yasaklisi ( gerçek tekil )'!M$2,[1]DATA!$H:$H,'Cek Yasaklisi ( gerçek tekil )'!$C$1,[1]DATA!$I:$I,'Cek Yasaklisi ( gerçek tekil )'!$C18),0) -> 37 | Q18: =IFERROR(SUMIFS([1]DATA!$X:$X,[1]DATA!$V:$V,'Cek Yasaklisi ( gerçek tekil )'!$C$1,[1]DATA!$W:$W,'Cek Yasaklisi ( gerçek tekil )'!$C18,[1]DATA!$U:$U,'Cek Yasaklisi ( gerçek tekil )'!$C$2),0) -> 216
C19: 64 | D19: Uşak | E19: =IFERROR(SUMIFS([1]DATA!$J:$J,[1]DATA!$G:$G,'Cek Yasaklisi ( gerçek tekil )'!E$2,[1]DATA!$H:$H,'Cek Yasaklisi ( gerçek tekil )'!$C$1,[1]DATA!$I:$I,'Cek Yasaklisi ( gerçek tekil )'!$C19),0) -> 17 | F19: =IFERROR(SUMIFS([1]DATA!$J:$J,[1]DATA!$G:$G,'Cek Yasaklisi ( gerçek tekil )'!F$2,[1]DATA!$H:$H,'Cek Yasaklisi ( gerçek tekil )'!$C$1,[1]DATA!$I:$I,'Cek Yasaklisi ( gerçek tekil )'!$C19),0) -> 9 | G19: =IFERROR(SUMIFS([1]DATA!$J:$J,[1]DATA!$G:$G,'Cek Yasaklisi ( gerçek tekil )'!G$2,[1]DATA!$H:$H,'Cek Yasaklisi ( gerçek tekil )'!$C$1,[1]DATA!$I:$I,'Cek Yasaklisi ( gerçek tekil )'!$C19),0) -> 19 | H19: =IFERROR(SUMIFS([1]DATA!$J:$J,[1]DATA!$G:$G,'Cek Yasaklisi ( gerçek tekil )'!H$2,[1]DATA!$H:$H,'Cek Yasaklisi ( gerçek tekil )'!$C$1,[1]DATA!$I:$I,'Cek Yasaklisi ( gerçek tekil )'!$C19),0) -> 19 | I19: =IFERROR(SUMIFS([1]DATA!$J:$J,[1]DATA!$G:$G,'Cek Yasaklisi ( gerçek tekil )'!I$2,[1]DATA!$H:$H,'Cek Yasaklisi ( gerçek tekil )'!$C$1,[1]DATA!$I:$I,'Cek Yasaklisi ( gerçek tekil )'!$C19),0) -> 17 | J19: =IFERROR(SUMIFS([1]DATA!$J:$J,[1]DATA!$G:$G,'Cek Yasaklisi ( gerçek tekil )'!J$2,[1]DATA!$H:$H,'Cek Yasaklisi ( gerçek tekil )'!$C$1,[1]DATA!$I:$I,'Cek Yasaklisi ( gerçek tekil )'!$C19),0) -> 22 | K19: =IFERROR(SUMIFS([1]DATA!$J:$J,[1]DATA!$G:$G,'Cek Yasaklisi ( gerçek tekil )'!K$2,[1]DATA!$H:$H,'Cek Yasaklisi ( gerçek tekil )'!$C$1,[1]DATA!$I:$I,'Cek Yasaklisi ( gerçek tekil )'!$C19),0) -> 18 | L19: =IFERROR(SUMIFS([1]DATA!$J:$J,[1]DATA!$G:$G,'Cek Yasaklisi ( gerçek tekil )'!L$2,[1]DATA!$H:$H,'Cek Yasaklisi ( gerçek tekil )'!$C$1,[1]DATA!$I:$I,'Cek Yasaklisi ( gerçek tekil )'!$C19),0) -> 24 | M19: =IFERROR(SUMIFS([1]DATA!$J:$J,[1]DATA!$G:$G,'Cek Yasaklisi ( gerçek tekil )'!M$2,[1]DATA!$H:$H,'Cek Yasaklisi ( gerçek tekil )'!$C$1,[1]DATA!$I:$I,'Cek Yasaklisi ( gerçek tekil )'!$C19),0) -> 16 | Q19: =IFERROR(SUMIFS([1]DATA!$X:$X,[1]DATA!$V:$V,'Cek Yasaklisi ( gerçek tekil )'!$C$1,[1]DATA!$W:$W,'Cek Yasaklisi ( gerçek tekil )'!$C19,[1]DATA!$U:$U,'Cek Yasaklisi ( gerçek tekil )'!$C$2),0) -> 110
C20: Dogu Marmara | D20: Doğu Marmara | E20: =IFERROR(SUMIFS([1]DATA!$Q:$Q,[1]DATA!$N:$N,'Cek Yasaklisi ( gerçek tekil )'!E$2,[1]DATA!$O:$O,'Cek Yasaklisi ( gerçek tekil )'!$C$1,[1]DATA!$P:$P,'Cek Yasaklisi ( gerçek tekil )'!$C20),0) -> 304 | F20: =IFERROR(SUMIFS([1]DATA!$Q:$Q,[1]DATA!$N:$N,'Cek Yasaklisi ( gerçek tekil )'!F$2,[1]DATA!$O:$O,'Cek Yasaklisi ( gerçek tekil )'!$C$1,[1]DATA!$P:$P,'Cek Yasaklisi ( gerçek tekil )'!$C20),0) -> 237 | G20: =IFERROR(SUMIFS([1]DATA!$Q:$Q,[1]DATA!$N:$N,'Cek Yasaklisi ( gerçek tekil )'!G$2,[1]DATA!$O:$O,'Cek Yasaklisi ( gerçek tekil )'!$C$1,[1]DATA!$P:$P,'Cek Yasaklisi ( gerçek tekil )'!$C20),0) -> 273 | H20: =IFERROR(SUMIFS([1]DATA!$Q:$Q,[1]DATA!$N:$N,'Cek Yasaklisi ( gerçek tekil )'!H$2,[1]DATA!$O:$O,'Cek Yasaklisi ( gerçek tekil )'!$C$1,[1]DATA!$P:$P,'Cek Yasaklisi ( gerçek tekil )'!$C20),0) -> 423 | I20: =IFERROR(SUMIFS([1]DATA!$Q:$Q,[1]DATA!$N:$N,'Cek Yasaklisi ( gerçek tekil )'!I$2,[1]DATA!$O:$O,'Cek Yasaklisi ( gerçek tekil )'!$C$1,[1]DATA!$P:$P,'Cek Yasaklisi ( gerçek tekil )'!$C20),0) -> 322 | J20: =IFERROR(SUMIFS([1]DATA!$Q:$Q,[1]DATA!$N:$N,'Cek Yasaklisi ( gerçek tekil )'!J$2,[1]DATA!$O:$O,'Cek Yasaklisi ( gerçek tekil )'!$C$1,[1]DATA!$P:$P,'Cek Yasaklisi ( gerçek tekil )'!$C20),0) -> 402 | K20: =IFERROR(SUMIFS([1]DATA!$Q:$Q,[1]DATA!$N:$N,'Cek Yasaklisi ( gerçek tekil )'!K$2,[1]DATA!$O:$O,'Cek Yasaklisi ( gerçek tekil )'!$C$1,[1]DATA!$P:$P,'Cek Yasaklisi ( gerçek tekil )'!$C20),0) -> 310 | L20: =IFERROR(SUMIFS([1]DATA!$Q:$Q,[1]DATA!$N:$N,'Cek Yasaklisi ( gerçek tekil )'!L$2,[1]DATA!$O:$O,'Cek Yasaklisi ( gerçek tekil )'!$C$1,[1]DATA!$P:$P,'Cek Yasaklisi ( gerçek tekil )'!$C20),0) -> 168 | M20: =IFERROR(SUMIFS([1]DATA!$Q:$Q,[1]DATA!$N:$N,'Cek Yasaklisi ( gerçek tekil )'!M$2,[1]DATA!$O:$O,'Cek Yasaklisi ( gerçek tekil )'!$C$1,[1]DATA!$P:$P,'Cek Yasaklisi ( gerçek tekil )'!$C20),0) -> 253 | Q20: =IFERROR(SUMIFS([1]DATA!$AE:$AE,[1]DATA!$AC:$AC,'Cek Yasaklisi ( gerçek tekil )'!$C$1,[1]DATA!$AD:$AD,'Cek Yasaklisi ( gerçek tekil )'!$C20,[1]DATA!$AB:$AB,'Cek Yasaklisi ( gerçek tekil )'!$C$2),0) -> 1734
C21: 11 | D21: Bilecik | E21: =IFERROR(SUMIFS([1]DATA!$J:$J,[1]DATA!$G:$G,'Cek Yasaklisi ( gerçek tekil )'!E$2,[1]DATA!$H:$H,'Cek Yasaklisi ( gerçek tekil )'!$C$1,[1]DATA!$I:$I,'Cek Yasaklisi ( gerçek tekil )'!$C21),0) -> 6 | F21: =IFERROR(SUMIFS([1]DATA!$J:$J,[1]DATA!$G:$G,'Cek Yasaklisi ( gerçek tekil )'!F$2,[1]DATA!$H:$H,'Cek Yasaklisi ( gerçek tekil )'!$C$1,[1]DATA!$I:$I,'Cek Yasaklisi ( gerçek tekil )'!$C21),0) -> 7 | G21: =IFERROR(SUMIFS([1]DATA!$J:$J,[1]DATA!$G:$G,'Cek Yasaklisi ( gerçek tekil )'!G$2,[1]DATA!$H:$H,'Cek Yasaklisi ( gerçek tekil )'!$C$1,[1]DATA!$I:$I,'Cek Yasaklisi ( gerçek tekil )'!$C21),0) -> 6 | H21: =IFERROR(SUMIFS([1]DATA!$J:$J,[1]DATA!$G:$G,'Cek Yasaklisi ( gerçek tekil )'!H$2,[1]DATA!$H:$H,'Cek Yasaklisi ( gerçek tekil )'!$C$1,[1]DATA!$I:$I,'Cek Yasaklisi ( gerçek tekil )'!$C21),0) -> 7 | I21: =IFERROR(SUMIFS([1]DATA!$J:$J,[1]DATA!$G:$G,'Cek Yasaklisi ( gerçek tekil )'!I$2,[1]DATA!$H:$H,'Cek Yasaklisi ( gerçek tekil )'!$C$1,[1]DATA!$I:$I,'Cek Yasaklisi ( gerçek tekil )'!$C21),0) -> 6 | J21: =IFERROR(SUMIFS([1]DATA!$J:$J,[1]DATA!$G:$G,'Cek Yasaklisi ( gerçek tekil )'!J$2,[1]DATA!$H:$H,'Cek Yasaklisi ( gerçek tekil )'!$C$1,[1]DATA!$I:$I,'Cek Yasaklisi ( gerçek tekil )'!$C21),0) -> 6 | K21: =IFERROR(SUMIFS([1]DATA!$J:$J,[1]DATA!$G:$G,'Cek Yasaklisi ( gerçek tekil )'!K$2,[1]DATA!$H:$H,'Cek Yasaklisi ( gerçek tekil )'!$C$1,[1]DATA!$I:$I,'Cek Yasaklisi ( gerçek tekil )'!$C21),0) -> 8 | L21: =IFERROR(SUMIFS([1]DATA!$J:$J,[1]DATA!$G:$G,'Cek Yasaklisi ( gerçek tekil )'!L$2,[1]DATA!$H:$H,'Cek Yasaklisi ( gerçek tekil )'!$C$1,[1]DATA!$I:$I,'Cek Yasaklisi ( gerçek tekil )'!$C21),0) -> 7 | M21: =IFERROR(SUMIFS([1]DATA!$J:$J,[1]DATA!$G:$G,'Cek Yasaklisi ( gerçek tekil )'!M$2,[1]DATA!$H:$H,'Cek Yasaklisi ( gerçek tekil )'!$C$1,[1]DATA!$I:$I,'Cek Yasaklisi ( gerçek tekil )'!$C21),0) -> 11 | Q21: =IFERROR(SUMIFS([1]DATA!$X:$X,[1]DATA!$V:$V,'Cek Yasaklisi ( gerçek tekil )'!$C$1,[1]DATA!$W:$W,'Cek Yasaklisi ( gerçek tekil )'!$C21,[1]DATA!$U:$U,'Cek Yasaklisi ( gerçek tekil )'!$C$2),0) -> 54
C22: 14 | D22: Bolu | E22: =IFERROR(SUMIFS([1]DATA!$J:$J,[1]DATA!$G:$G,'Cek Yasaklisi ( gerçek tekil )'!E$2,[1]DATA!$H:$H,'Cek Yasaklisi ( gerçek tekil )'!$C$1,[1]DATA!$I:$I,'Cek Yasaklisi ( gerçek tekil )'!$C22),0) -> 3 | F22: =IFERROR(SUMIFS([1]DATA!$J:$J,[1]DATA!$G:$G,'Cek Yasaklisi ( gerçek tekil )'!F$2,[1]DATA!$H:$H,'Cek Yasaklisi ( gerçek tekil )'!$C$1,[1]DATA!$I:$I,'Cek Yasaklisi ( gerçek tekil )'!$C22),0) -> 1 | G22: =IFERROR(SUMIFS([1]DATA!$J:$J,[1]DATA!$G:$G,'Cek Yasaklisi ( gerçek tekil )'!G$2,[1]DATA!$H:$H,'Cek Yasaklisi ( gerçek tekil )'!$C$1,[1]DATA!$I:$I,'Cek Yasaklisi ( gerçek tekil )'!$C22),0) -> 16 | H22: =IFERROR(SUMIFS([1]DATA!$J:$J,[1]DATA!$G:$G,'Cek Yasaklisi ( gerçek tekil )'!H$2,[1]DATA!$H:$H,'Cek Yasaklisi ( gerçek tekil )'!$C$1,[1]DATA!$I:$I,'Cek Yasaklisi ( gerçek tekil )'!$C22),0) -> 7 | I22: =IFERROR(SUMIFS([1]DATA!$J:$J,[1]DATA!$G:$G,'Cek Yasaklisi ( gerçek tekil )'!I$2,[1]DATA!$H:$H,'Cek Yasaklisi ( gerçek tekil )'!$C$1,[1]DATA!$I:$I,'Cek Yasaklisi ( gerçek tekil )'!$C22),0) -> 6 | J22: =IFERROR(SUMIFS([1]DATA!$J:$J,[1]DATA!$G:$G,'Cek Yasaklisi ( gerçek tekil )'!J$2,[1]DATA!$H:$H,'Cek Yasaklisi ( gerçek tekil )'!$C$1,[1]DATA!$I:$I,'Cek Yasaklisi ( gerçek tekil )'!$C22),0) -> 5 | K22: =IFERROR(SUMIFS([1]DATA!$J:$J,[1]DATA!$G:$G,'Cek Yasaklisi ( gerçek tekil )'!K$2,[1]DATA!$H:$H,'Cek Yasaklisi ( gerçek tekil )'!$C$1,[1]DATA!$I:$I,'Cek Yasaklisi ( gerçek tekil )'!$C22),0) -> 1 | L22: =IFERROR(SUMIFS([1]DATA!$J:$J,[1]DATA!$G:$G,'Cek Yasaklisi ( gerçek tekil )'!L$2,[1]DATA!$H:$H,'Cek Yasaklisi ( gerçek tekil )'!$C$1,[1]DATA!$I:$I,'Cek Yasaklisi ( gerçek tekil )'!$C22),0) -> 4 | M22: =IFERROR(SUMIFS([1]DATA!$J:$J,[1]DATA!$G:$G,'Cek Yasaklisi ( gerçek tekil )'!M$2,[1]DATA!$H:$H,'Cek Yasaklisi ( gerçek tekil )'!$C$1,[1]DATA!$I:$I,'Cek Yasaklisi ( gerçek tekil )'!$C22),0) -> 13 | Q22: =IFERROR(SUMIFS([1]DATA!$X:$X,[1]DATA!$V:$V,'Cek Yasaklisi ( gerçek tekil )'!$C$1,[1]DATA!$W:$W,'Cek Yasaklisi ( gerçek tekil )'!$C22,[1]DATA!$U:$U,'Cek Yasaklisi ( gerçek tekil )'!$C$2),0) -> 46
C23: 16 | D23: Bursa | E23: =IFERROR(SUMIFS([1]DATA!$J:$J,[1]DATA!$G:$G,'Cek Yasaklisi ( gerçek tekil )'!E$2,[1]DATA!$H:$H,'Cek Yasaklisi ( gerçek tekil )'!$C$1,[1]DATA!$I:$I,'Cek Yasaklisi ( gerçek tekil )'!$C23),0) -> 131 | F23: =IFERROR(SUMIFS([1]DATA!$J:$J,[1]DATA!$G:$G,'Cek Yasaklisi ( gerçek tekil )'!F$2,[1]DATA!$H:$H,'Cek Yasaklisi ( gerçek tekil )'!$C$1,[1]DATA!$I:$I,'Cek Yasaklisi ( gerçek tekil )'!$C23),0) -> 104 | G23: =IFERROR(SUMIFS([1]DATA!$J:$J,[1]DATA!$G:$G,'Cek Yasaklisi ( gerçek tekil )'!G$2,[1]DATA!$H:$H,'Cek Yasaklisi ( gerçek tekil )'!$C$1,[1]DATA!$I:$I,'Cek Yasaklisi ( gerçek tekil )'!$C23),0) -> 124 | H23: =IFERROR(SUMIFS([1]DATA!$J:$J,[1]DATA!$G:$G,'Cek Yasaklisi ( gerçek tekil )'!H$2,[1]DATA!$H:$H,'Cek Yasaklisi ( gerçek tekil )'!$C$1,[1]DATA!$I:$I,'Cek Yasaklisi ( gerçek tekil )'!$C23),0) -> 246 | I23: =IFERROR(SUMIFS([1]DATA!$J:$J,[1]DATA!$G:$G,'Cek Yasaklisi ( gerçek tekil )'!I$2,[1]DATA!$H:$H,'Cek Yasaklisi ( gerçek tekil )'!$C$1,[1]DATA!$I:$I,'Cek Yasaklisi ( gerçek tekil )'!$C23),0) -> 199 | J23: =IFERROR(SUMIFS([1]DATA!$J:$J,[1]DATA!$G:$G,'Cek Yasaklisi ( gerçek tekil )'!J$2,[1]DATA!$H:$H,'Cek Yasaklisi ( gerçek tekil )'!$C$1,[1]DATA!$I:$I,'Cek Yasaklisi ( gerçek tekil )'!$C23),0) -> 217 | K23: =IFERROR(SUMIFS([1]DATA!$J:$J,[1]DATA!$G:$G,'Cek Yasaklisi ( gerçek tekil )'!K$2,[1]DATA!$H:$H,'Cek Yasaklisi ( gerçek tekil )'!$C$1,[1]DATA!$I:$I,'Cek Yasaklisi ( gerçek tekil )'!$C23),0) -> 132 | L23: =IFERROR(SUMIFS([1]DATA!$J:$J,[1]DATA!$G:$G,'Cek Yasaklisi ( gerçek tekil )'!L$2,[1]DATA!$H:$H,'Cek Yasaklisi ( gerçek tekil )'!$C$1,[1]DATA!$I:$I,'Cek Yasaklisi ( gerçek tekil )'!$C23),0) -> 31 | M23: =IFERROR(SUMIFS([1]DATA!$J:$J,[1]DATA!$G:$G,'Cek Yasaklisi ( gerçek tekil )'!M$2,[1]DATA!$H:$H,'Cek Yasaklisi ( gerçek tekil )'!$C$1,[1]DATA!$I:$I,'Cek Yasaklisi ( gerçek tekil )'!$C23),0) -> 63 | Q23: =IFERROR(SUMIFS([1]DATA!$X:$X,[1]DATA!$V:$V,'Cek Yasaklisi ( gerçek tekil )'!$C$1,[1]DATA!$W:$W,'Cek Yasaklisi ( gerçek tekil )'!$C23,[1]DATA!$U:$U,'Cek Yasaklisi ( gerçek tekil )'!$C$2),0) -> 818
C24: 81 | D24: Düzce | E24: =IFERROR(SUMIFS([1]DATA!$J:$J,[1]DATA!$G:$G,'Cek Yasaklisi ( gerçek tekil )'!E$2,[1]DATA!$H:$H,'Cek Yasaklisi ( gerçek tekil )'!$C$1,[1]DATA!$I:$I,'Cek Yasaklisi ( gerçek tekil )'!$C24),0) -> 3 | F24: =IFERROR(SUMIFS([1]DATA!$J:$J,[1]DATA!$G:$G,'Cek Yasaklisi ( gerçek tekil )'!F$2,[1]DATA!$H:$H,'Cek Yasaklisi ( gerçek tekil )'!$C$1,[1]DATA!$I:$I,'Cek Yasaklisi ( gerçek tekil )'!$C24),0) -> 2 | G24: =IFERROR(SUMIFS([1]DATA!$J:$J,[1]DATA!$G:$G,'Cek Yasaklisi ( gerçek tekil )'!G$2,[1]DATA!$H:$H,'Cek Yasaklisi ( gerçek tekil )'!$C$1,[1]DATA!$I:$I,'Cek Yasaklisi ( gerçek tekil )'!$C24),0) -> 2 | H24: =IFERROR(SUMIFS([1]DATA!$J:$J,[1]DATA!$G:$G,'Cek Yasaklisi ( gerçek tekil )'!H$2,[1]DATA!$H:$H,'Cek Yasaklisi ( gerçek tekil )'!$C$1,[1]DATA!$I:$I,'Cek Yasaklisi ( gerçek tekil )'!$C24),0) -> 0 | I24: =IFERROR(SUMIFS([1]DATA!$J:$J,[1]DATA!$G:$G,'Cek Yasaklisi ( gerçek tekil )'!I$2,[1]DATA!$H:$H,'Cek Yasaklisi ( gerçek tekil )'!$C$1,[1]DATA!$I:$I,'Cek Yasaklisi ( gerçek tekil )'!$C24),0) -> 2 | J24: =IFERROR(SUMIFS([1]DATA!$J:$J,[1]DATA!$G:$G,'Cek Yasaklisi ( gerçek tekil )'!J$2,[1]DATA!$H:$H,'Cek Yasaklisi ( gerçek tekil )'!$C$1,[1]DATA!$I:$I,'Cek Yasaklisi ( gerçek tekil )'!$C24),0) -> 0 | K24: =IFERROR(SUMIFS([1]DATA!$J:$J,[1]DATA!$G:$G,'Cek Yasaklisi ( gerçek tekil )'!K$2,[1]DATA!$H:$H,'Cek Yasaklisi ( gerçek tekil )'!$C$1,[1]DATA!$I:$I,'Cek Yasaklisi ( gerçek tekil )'!$C24),0) -> 0 | L24: =IFERROR(SUMIFS([1]DATA!$J:$J,[1]DATA!$G:$G,'Cek Yasaklisi ( gerçek tekil )'!L$2,[1]DATA!$H:$H,'Cek Yasaklisi ( gerçek tekil )'!$C$1,[1]DATA!$I:$I,'Cek Yasaklisi ( gerçek tekil )'!$C24),0) -> 0 | M24: =IFERROR(SUMIFS([1]DATA!$J:$J,[1]DATA!$G:$G,'Cek Yasaklisi ( gerçek tekil )'!M$2,[1]DATA!$H:$H,'Cek Yasaklisi ( gerçek tekil )'!$C$1,[1]DATA!$I:$I,'Cek Yasaklisi ( gerçek tekil )'!$C24),0) -> 1 | Q24: =IFERROR(SUMIFS([1]DATA!$X:$X,[1]DATA!$V:$V,'Cek Yasaklisi ( gerçek tekil )'!$C$1,[1]DATA!$W:$W,'Cek Yasaklisi ( gerçek tekil )'!$C24,[1]DATA!$U:$U,'Cek Yasaklisi ( gerçek tekil )'!$C$2),0) -> 8
C25: 26 | D25: Eskişehir | E25: =IFERROR(SUMIFS([1]DATA!$J:$J,[1]DATA!$G:$G,'Cek Yasaklisi ( gerçek tekil )'!E$2,[1]DATA!$H:$H,'Cek Yasaklisi ( gerçek tekil )'!$C$1,[1]DATA!$I:$I,'Cek Yasaklisi ( gerçek tekil )'!$C25),0) -> 31 | F25: =IFERROR(SUMIFS([1]DATA!$J:$J,[1]DATA!$G:$G,'Cek Yasaklisi ( gerçek tekil )'!F$2,[1]DATA!$H:$H,'Cek Yasaklisi ( gerçek tekil )'!$C$1,[1]DATA!$I:$I,'Cek Yasaklisi ( gerçek tekil )'!$C25),0) -> 25 | G25: =IFERROR(SUMIFS([1]DATA!$J:$J,[1]DATA!$G:$G,'Cek Yasaklisi ( gerçek tekil )'!G$2,[1]DATA!$H:$H,'Cek Yasaklisi ( gerçek tekil )'!$C$1,[1]DATA!$I:$I,'Cek Yasaklisi ( gerçek tekil )'!$C25),0) -> 21 | H25: =IFERROR(SUMIFS([1]DATA!$J:$J,[1]DATA!$G:$G,'Cek Yasaklisi ( gerçek tekil )'!H$2,[1]DATA!$H:$H,'Cek Yasaklisi ( gerçek tekil )'!$C$1,[1]DATA!$I:$I,'Cek Yasaklisi ( gerçek tekil )'!$C25),0) -> 31 | I25: =IFERROR(SUMIFS([1]DATA!$J:$J,[1]DATA!$G:$G,'Cek Yasaklisi ( gerçek tekil )'!I$2,[1]DATA!$H:$H,'Cek Yasaklisi ( gerçek tekil )'!$C$1,[1]DATA!$I:$I,'Cek Yasaklisi ( gerçek tekil )'!$C25),0) -> 15 | J25: =IFERROR(SUMIFS([1]DATA!$J:$J,[1]DATA!$G:$G,'Cek Yasaklisi ( gerçek tekil )'!J$2,[1]DATA!$H:$H,'Cek Yasaklisi ( gerçek tekil )'!$C$1,[1]DATA!$I:$I,'Cek Yasaklisi ( gerçek tekil )'!$C25),0) -> 28 | K25: =IFERROR(SUMIFS([1]DATA!$J:$J,[1]DATA!$G:$G,'Cek Yasaklisi ( gerçek tekil )'!K$2,[1]DATA!$H:$H,'Cek Yasaklisi ( gerçek tekil )'!$C$1,[1]DATA!$I:$I,'Cek Yasaklisi ( gerçek tekil )'!$C25),0) -> 41 | L25: =IFERROR(SUMIFS([1]DATA!$J:$J,[1]DATA!$G:$G,'Cek Yasaklisi ( gerçek tekil )'!L$2,[1]DATA!$H:$H,'Cek Yasaklisi ( gerçek tekil )'!$C$1,[1]DATA!$I:$I,'Cek Yasaklisi ( gerçek tekil )'!$C25),0) -> 26 | M25: =IFERROR(SUMIFS([1]DATA!$J:$J,[1]DATA!$G:$G,'Cek Yasaklisi ( gerçek tekil )'!M$2,[1]DATA!$H:$H,'Cek Yasaklisi ( gerçek tekil )'!$C$1,[1]DATA!$I:$I,'Cek Yasaklisi ( gerçek tekil )'!$C25),0) -> 30 | Q25: =IFERROR(SUMIFS([1]DATA!$X:$X,[1]DATA!$V:$V,'Cek Yasaklisi ( gerçek tekil )'!$C$1,[1]DATA!$W:$W,'Cek Yasaklisi ( gerçek tekil )'!$C25,[1]DATA!$U:$U,'Cek Yasaklisi ( gerçek tekil )'!$C$2),0) -> 168
C26: 41 | D26: Kocaeli | E26: =IFERROR(SUMIFS([1]DATA!$J:$J,[1]DATA!$G:$G,'Cek Yasaklisi ( gerçek tekil )'!E$2,[1]DATA!$H:$H,'Cek Yasaklisi ( gerçek tekil )'!$C$1,[1]DATA!$I:$I,'Cek Yasaklisi ( gerçek tekil )'!$C26),0) -> 67 | F26: =IFERROR(SUMIFS([1]DATA!$J:$J,[1]DATA!$G:$G,'Cek Yasaklisi ( gerçek tekil )'!F$2,[1]DATA!$H:$H,'Cek Yasaklisi ( gerçek tekil )'!$C$1,[1]DATA!$I:$I,'Cek Yasaklisi ( gerçek tekil )'!$C26),0) -> 64 | G26: =IFERROR(SUMIFS([1]DATA!$J:$J,[1]DATA!$G:$G,'Cek Yasaklisi ( gerçek tekil )'!G$2,[1]DATA!$H:$H,'Cek Yasaklisi ( gerçek tekil )'!$C$1,[1]DATA!$I:$I,'Cek Yasaklisi ( gerçek tekil )'!$C26),0) -> 54 | H26: =IFERROR(SUMIFS([1]DATA!$J:$J,[1]DATA!$G:$G,'Cek Yasaklisi ( gerçek tekil )'!H$2,[1]DATA!$H:$H,'Cek Yasaklisi ( gerçek tekil )'!$C$1,[1]DATA!$I:$I,'Cek Yasaklisi ( gerçek tekil )'!$C26),0) -> 69 | I26: =IFERROR(SUMIFS([1]DATA!$J:$J,[1]DATA!$G:$G,'Cek Yasaklisi ( gerçek tekil )'!I$2,[1]DATA!$H:$H,'Cek Yasaklisi ( gerçek tekil )'!$C$1,[1]DATA!$I:$I,'Cek Yasaklisi ( gerçek tekil )'!$C26),0) -> 63 | J26: =IFERROR(SUMIFS([1]DATA!$J:$J,[1]DATA!$G:$G,'Cek Yasaklisi ( gerçek tekil )'!J$2,[1]DATA!$H:$H,'Cek Yasaklisi ( gerçek tekil )'!$C$1,[1]DATA!$I:$I,'Cek Yasaklisi ( gerçek tekil )'!$C26),0) -> 98 | K26: =IFERROR(SUMIFS([1]DATA!$J:$J,[1]DATA!$G:$G,'Cek Yasaklisi ( gerçek tekil )'!K$2,[1]DATA!$H:$H,'Cek Yasaklisi ( gerçek tekil )'!$C$1,[1]DATA!$I:$I,'Cek Yasaklisi ( gerçek tekil )'!$C26),0) -> 80 | L26: =IFERROR(SUMIFS([1]DATA!$J:$J,[1]DATA!$G:$G,'Cek Yasaklisi ( gerçek tekil )'!L$2,[1]DATA!$H:$H,'Cek Yasaklisi ( gerçek tekil )'!$C$1,[1]DATA!$I:$I,'Cek Yasaklisi ( gerçek tekil )'!$C26),0) -> 56 | M26: =IFERROR(SUMIFS([1]DATA!$J:$J,[1]DATA!$G:$G,'Cek Yasaklisi ( gerçek tekil )'!M$2,[1]DATA!$H:$H,'Cek Yasaklisi ( gerçek tekil )'!$C$1,[1]DATA!$I:$I,'Cek Yasaklisi ( gerçek tekil )'!$C26),0) -> 88 | Q26: =IFERROR(SUMIFS([1]DATA!$X:$X,[1]DATA!$V:$V,'Cek Yasaklisi ( gerçek tekil )'!$C$1,[1]DATA!$W:$W,'Cek Yasaklisi ( gerçek tekil )'!$C26,[1]DATA!$U:$U,'Cek Yasaklisi ( gerçek tekil )'!$C$2),0) -> 437
C27: 54 | D27: Sakarya | E27: =IFERROR(SUMIFS([1]DATA!$J:$J,[1]DATA!$G:$G,'Cek Yasaklisi ( gerçek tekil )'!E$2,[1]DATA!$H:$H,'Cek Yasaklisi ( gerçek tekil )'!$C$1,[1]DATA!$I:$I,'Cek Yasaklisi ( gerçek tekil )'!$C27),0) -> 63 | F27: =IFERROR(SUMIFS([1]DATA!$J:$J,[1]DATA!$G:$G,'Cek Yasaklisi ( gerçek tekil )'!F$2,[1]DATA!$H:$H,'Cek Yasaklisi ( gerçek tekil )'!$C$1,[1]DATA!$I:$I,'Cek Yasaklisi ( gerçek tekil )'!$C27),0) -> 32 | G27: =IFERROR(SUMIFS([1]DATA!$J:$J,[1]DATA!$G:$G,'Cek Yasaklisi ( gerçek tekil )'!G$2,[1]DATA!$H:$H,'Cek Yasaklisi ( gerçek tekil )'!$C$1,[1]DATA!$I:$I,'Cek Yasaklisi ( gerçek tekil )'!$C27),0) -> 44 | H27: =IFERROR(SUMIFS([1]DATA!$J:$J,[1]DATA!$G:$G,'Cek Yasaklisi ( gerçek tekil )'!H$2,[1]DATA!$H:$H,'Cek Yasaklisi ( gerçek tekil )'!$C$1,[1]DATA!$I:$I,'Cek Yasaklisi ( gerçek tekil )'!$C27),0) -> 53 | I27: =IFERROR(SUMIFS([1]DATA!$J:$J,[1]DATA!$G:$G,'Cek Yasaklisi ( gerçek tekil )'!I$2,[1]DATA!$H:$H,'Cek Yasaklisi ( gerçek tekil )'!$C$1,[1]DATA!$I:$I,'Cek Yasaklisi ( gerçek tekil )'!$C27),0) -> 24 | J27: =IFERROR(SUMIFS([1]DATA!$J:$J,[1]DATA!$G:$G,'Cek Yasaklisi ( gerçek tekil )'!J$2,[1]DATA!$H:$H,'Cek Yasaklisi ( gerçek tekil )'!$C$1,[1]DATA!$I:$I,'Cek Yasaklisi ( gerçek tekil )'!$C27),0) -> 45 | K27: =IFERROR(SUMIFS([1]DATA!$J:$J,[1]DATA!$G:$G,'Cek Yasaklisi ( gerçek tekil )'!K$2,[1]DATA!$H:$H,'Cek Yasaklisi ( gerçek tekil )'!$C$1,[1]DATA!$I:$I,'Cek Yasaklisi ( gerçek tekil )'!$C27),0) -> 43 | L27: =IFERROR(SUMIFS([1]DATA!$J:$J,[1]DATA!$G:$G,'Cek Yasaklisi ( gerçek tekil )'!L$2,[1]DATA!$H:$H,'Cek Yasaklisi ( gerçek tekil )'!$C$1,[1]DATA!$I:$I,'Cek Yasaklisi ( gerçek tekil )'!$C27),0) -> 47 | M27: =IFERROR(SUMIFS([1]DATA!$J:$J,[1]DATA!$G:$G,'Cek Yasaklisi ( gerçek tekil )'!M$2,[1]DATA!$H:$H,'Cek Yasaklisi ( gerçek tekil )'!$C$1,[1]DATA!$I:$I,'Cek Yasaklisi ( gerçek tekil )'!$C27),0) -> 51 | Q27: =IFERROR(SUMIFS([1]DATA!$X:$X,[1]DATA!$V:$V,'Cek Yasaklisi ( gerçek tekil )'!$C$1,[1]DATA!$W:$W,'Cek Yasaklisi ( gerçek tekil )'!$C27,[1]DATA!$U:$U,'Cek Yasaklisi ( gerçek tekil )'!$C$2),0) -> 276
C28: 77 | D28: Yalova | E28: =IFERROR(SUMIFS([1]DATA!$J:$J,[1]DATA!$G:$G,'Cek Yasaklisi ( gerçek tekil )'!E$2,[1]DATA!$H:$H,'Cek Yasaklisi ( gerçek tekil )'!$C$1,[1]DATA!$I:$I,'Cek Yasaklisi ( gerçek tekil )'!$C28),0) -> 4 | F28: =IFERROR(SUMIFS([1]DATA!$J:$J,[1]DATA!$G:$G,'Cek Yasaklisi ( gerçek tekil )'!F$2,[1]DATA!$H:$H,'Cek Yasaklisi ( gerçek tekil )'!$C$1,[1]DATA!$I:$I,'Cek Yasaklisi ( gerçek tekil )'!$C28),0) -> 4 | G28: =IFERROR(SUMIFS([1]DATA!$J:$J,[1]DATA!$G:$G,'Cek Yasaklisi ( gerçek tekil )'!G$2,[1]DATA!$H:$H,'Cek Yasaklisi ( gerçek tekil )'!$C$1,[1]DATA!$I:$I,'Cek Yasaklisi ( gerçek tekil )'!$C28),0) -> 11 | H28: =IFERROR(SUMIFS([1]DATA!$J:$J,[1]DATA!$G:$G,'Cek Yasaklisi ( gerçek tekil )'!H$2,[1]DATA!$H:$H,'Cek Yasaklisi ( gerçek tekil )'!$C$1,[1]DATA!$I:$I,'Cek Yasaklisi ( gerçek tekil )'!$C28),0) -> 18 | I28: =IFERROR(SUMIFS([1]DATA!$J:$J,[1]DATA!$G:$G,'Cek Yasaklisi ( gerçek tekil )'!I$2,[1]DATA!$H:$H,'Cek Yasaklisi ( gerçek tekil )'!$C$1,[1]DATA!$I:$I,'Cek Yasaklisi ( gerçek tekil )'!$C28),0) -> 9 | J28: =IFERROR(SUMIFS([1]DATA!$J:$J,[1]DATA!$G:$G,'Cek Yasaklisi ( gerçek tekil )'!J$2,[1]DATA!$H:$H,'Cek Yasaklisi ( gerçek tekil )'!$C$1,[1]DATA!$I:$I,'Cek Yasaklisi ( gerçek tekil )'!$C28),0) -> 11 | K28: =IFERROR(SUMIFS([1]DATA!$J:$J,[1]DATA!$G:$G,'Cek Yasaklisi ( gerçek tekil )'!K$2,[1]DATA!$H:$H,'Cek Yasaklisi ( gerçek tekil )'!$C$1,[1]DATA!$I:$I,'Cek Yasaklisi ( gerçek tekil )'!$C28),0) -> 9 | L28: =IFERROR(SUMIFS([1]DATA!$J:$J,[1]DATA!$G:$G,'Cek Yasaklisi ( gerçek tekil )'!L$2,[1]DATA!$H:$H,'Cek Yasaklisi ( gerçek tekil )'!$C$1,[1]DATA!$I:$I,'Cek Yasaklisi ( gerçek tekil )'!$C28),0) -> 1 | M28: =IFERROR(SUMIFS([1]DATA!$J:$J,[1]DATA!$G:$G,'Cek Yasaklisi ( gerçek tekil )'!M$2,[1]DATA!$H:$H,'Cek Yasaklisi ( gerçek tekil )'!$C$1,[1]DATA!$I:$I,'Cek Yasaklisi ( gerçek tekil )'!$C28),0) -> 2 | Q28: =IFERROR(SUMIFS([1]DATA!$X:$X,[1]DATA!$V:$V,'Cek Yasaklisi ( gerçek tekil )'!$C$1,[1]DATA!$W:$W,'Cek Yasaklisi ( gerçek tekil )'!$C28,[1]DATA!$U:$U,'Cek Yasaklisi ( gerçek tekil )'!$C$2),0) -> 54
C29: Bati Anadolu | D29: Batı Anadolu | E29: =IFERROR(SUMIFS([1]DATA!$Q:$Q,[1]DATA!$N:$N,'Cek Yasaklisi ( gerçek tekil )'!E$2,[1]DATA!$O:$O,'Cek Yasaklisi ( gerçek tekil )'!$C$1,[1]DATA!$P:$P,'Cek Yasaklisi ( gerçek tekil )'!$C29),0) -> 413 | F29: =IFERROR(SUMIFS([1]DATA!$Q:$Q,[1]DATA!$N:$N,'Cek Yasaklisi ( gerçek tekil )'!F$2,[1]DATA!$O:$O,'Cek Yasaklisi ( gerçek tekil )'!$C$1,[1]DATA!$P:$P,'Cek Yasaklisi ( gerçek tekil )'!$C29),0) -> 379 | G29: =IFERROR(SUMIFS([1]DATA!$Q:$Q,[1]DATA!$N:$N,'Cek Yasaklisi ( gerçek tekil )'!G$2,[1]DATA!$O:$O,'Cek Yasaklisi ( gerçek tekil )'!$C$1,[1]DATA!$P:$P,'Cek Yasaklisi ( gerçek tekil )'!$C29),0) -> 376 | H29: =IFERROR(SUMIFS([1]DATA!$Q:$Q,[1]DATA!$N:$N,'Cek Yasaklisi ( gerçek tekil )'!H$2,[1]DATA!$O:$O,'Cek Yasaklisi ( gerçek tekil )'!$C$1,[1]DATA!$P:$P,'Cek Yasaklisi ( gerçek tekil )'!$C29),0) -> 410 | I29: =IFERROR(SUMIFS([1]DATA!$Q:$Q,[1]DATA!$N:$N,'Cek Yasaklisi ( gerçek tekil )'!I$2,[1]DATA!$O:$O,'Cek Yasaklisi ( gerçek tekil )'!$C$1,[1]DATA!$P:$P,'Cek Yasaklisi ( gerçek tekil )'!$C29),0) -> 291 | J29: =IFERROR(SUMIFS([1]DATA!$Q:$Q,[1]DATA!$N:$N,'Cek Yasaklisi ( gerçek tekil )'!J$2,[1]DATA!$O:$O,'Cek Yasaklisi ( gerçek tekil )'!$C$1,[1]DATA!$P:$P,'Cek Yasaklisi ( gerçek tekil )'!$C29),0) -> 400 | K29: =IFERROR(SUMIFS([1]DATA!$Q:$Q,[1]DATA!$N:$N,'Cek Yasaklisi ( gerçek tekil )'!K$2,[1]DATA!$O:$O,'Cek Yasaklisi ( gerçek tekil )'!$C$1,[1]DATA!$P:$P,'Cek Yasaklisi ( gerçek tekil )'!$C29),0) -> 456 | L29: =IFERROR(SUMIFS([1]DATA!$Q:$Q,[1]DATA!$N:$N,'Cek Yasaklisi ( gerçek tekil )'!L$2,[1]DATA!$O:$O,'Cek Yasaklisi ( gerçek tekil )'!$C$1,[1]DATA!$P:$P,'Cek Yasaklisi ( gerçek tekil )'!$C29),0) -> 318 | M29: =IFERROR(SUMIFS([1]DATA!$Q:$Q,[1]DATA!$N:$N,'Cek Yasaklisi ( gerçek tekil )'!M$2,[1]DATA!$O:$O,'Cek Yasaklisi ( gerçek tekil )'!$C$1,[1]DATA!$P:$P,'Cek Yasaklisi ( gerçek tekil )'!$C29),0) -> 405 | Q29: =IFERROR(SUMIFS([1]DATA!$AE:$AE,[1]DATA!$AC:$AC,'Cek Yasaklisi ( gerçek tekil )'!$C$1,[1]DATA!$AD:$AD,'Cek Yasaklisi ( gerçek tekil )'!$C29,[1]DATA!$AB:$AB,'Cek Yasaklisi ( gerçek tekil )'!$C$2),0) -> 2209
C30: 6 | D30: Ankara | E30: =IFERROR(SUMIFS([1]DATA!$J:$J,[1]DATA!$G:$G,'Cek Yasaklisi ( gerçek tekil )'!E$2,[1]DATA!$H:$H,'Cek Yasaklisi ( gerçek tekil )'!$C$1,[1]DATA!$I:$I,'Cek Yasaklisi ( gerçek tekil )'!$C30),0) -> 222 | F30: =IFERROR(SUMIFS([1]DATA!$J:$J,[1]DATA!$G:$G,'Cek Yasaklisi ( gerçek tekil )'!F$2,[1]DATA!$H:$H,'Cek Yasaklisi ( gerçek tekil )'!$C$1,[1]DATA!$I:$I,'Cek Yasaklisi ( gerçek tekil )'!$C30),0) -> 204 | G30: =IFERROR(SUMIFS([1]DATA!$J:$J,[1]DATA!$G:$G,'Cek Yasaklisi ( gerçek tekil )'!G$2,[1]DATA!$H:$H,'Cek Yasaklisi ( gerçek tekil )'!$C$1,[1]DATA!$I:$I,'Cek Yasaklisi ( gerçek tekil )'!$C30),0) -> 238 | H30: =IFERROR(SUMIFS([1]DATA!$J:$J,[1]DATA!$G:$G,'Cek Yasaklisi ( gerçek tekil )'!H$2,[1]DATA!$H:$H,'Cek Yasaklisi ( gerçek tekil )'!$C$1,[1]DATA!$I:$I,'Cek Yasaklisi ( gerçek tekil )'!$C30),0) -> 269 | I30: =IFERROR(SUMIFS([1]DATA!$J:$J,[1]DATA!$G:$G,'Cek Yasaklisi ( gerçek tekil )'!I$2,[1]DATA!$H:$H,'Cek Yasaklisi ( gerçek tekil )'!$C$1,[1]DATA!$I:$I,'Cek Yasaklisi ( gerçek tekil )'!$C30),0) -> 182 | J30: =IFERROR(SUMIFS([1]DATA!$J:$J,[1]DATA!$G:$G,'Cek Yasaklisi ( gerçek tekil )'!J$2,[1]DATA!$H:$H,'Cek Yasaklisi ( gerçek tekil )'!$C$1,[1]DATA!$I:$I,'Cek Yasaklisi ( gerçek tekil )'!$C30),0) -> 227 | K30: =IFERROR(SUMIFS([1]DATA!$J:$J,[1]DATA!$G:$G,'Cek Yasaklisi ( gerçek tekil )'!K$2,[1]DATA!$H:$H,'Cek Yasaklisi ( gerçek tekil )'!$C$1,[1]DATA!$I:$I,'Cek Yasaklisi ( gerçek tekil )'!$C30),0) -> 274 | L30: =IFERROR(SUMIFS([1]DATA!$J:$J,[1]DATA!$G:$G,'Cek Yasaklisi ( gerçek tekil )'!L$2,[1]DATA!$H:$H,'Cek Yasaklisi ( gerçek tekil )'!$C$1,[1]DATA!$I:$I,'Cek Yasaklisi ( gerçek tekil )'!$C30),0) -> 146 | M30: =IFERROR(SUMIFS([1]DATA!$J:$J,[1]DATA!$G:$G,'Cek Yasaklisi ( gerçek tekil )'!M$2,[1]DATA!$H:$H,'Cek Yasaklisi ( gerçek tekil )'!$C$1,[1]DATA!$I:$I,'Cek Yasaklisi ( gerçek tekil )'!$C30),0) -> 239 | Q30: =IFERROR(SUMIFS([1]DATA!$X:$X,[1]DATA!$V:$V,'Cek Yasaklisi ( gerçek tekil )'!$C$1,[1]DATA!$W:$W,'Cek Yasaklisi ( gerçek tekil )'!$C30,[1]DATA!$U:$U,'Cek Yasaklisi ( gerçek tekil )'!$C$2),0) -> 1377
C31: 70 | D31: Karaman | E31: =IFERROR(SUMIFS([1]DATA!$J:$J,[1]DATA!$G:$G,'Cek Yasaklisi ( gerçek tekil )'!E$2,[1]DATA!$H:$H,'Cek Yasaklisi ( gerçek tekil )'!$C$1,[1]DATA!$I:$I,'Cek Yasaklisi ( gerçek tekil )'!$C31),0) -> 4 | F31: =IFERROR(SUMIFS([1]DATA!$J:$J,[1]DATA!$G:$G,'Cek Yasaklisi ( gerçek tekil )'!F$2,[1]DATA!$H:$H,'Cek Yasaklisi ( gerçek tekil )'!$C$1,[1]DATA!$I:$I,'Cek Yasaklisi ( gerçek tekil )'!$C31),0) -> 6 | G31: =IFERROR(SUMIFS([1]DATA!$J:$J,[1]DATA!$G:$G,'Cek Yasaklisi ( gerçek tekil )'!G$2,[1]DATA!$H:$H,'Cek Yasaklisi ( gerçek tekil )'!$C$1,[1]DATA!$I:$I,'Cek Yasaklisi ( gerçek tekil )'!$C31),0) -> 9 | H31: =IFERROR(SUMIFS([1]DATA!$J:$J,[1]DATA!$G:$G,'Cek Yasaklisi ( gerçek tekil )'!H$2,[1]DATA!$H:$H,'Cek Yasaklisi ( gerçek tekil )'!$C$1,[1]DATA!$I:$I,'Cek Yasaklisi ( gerçek tekil )'!$C31),0) -> 4 | I31: =IFERROR(SUMIFS([1]DATA!$J:$J,[1]DATA!$G:$G,'Cek Yasaklisi ( gerçek tekil )'!I$2,[1]DATA!$H:$H,'Cek Yasaklisi ( gerçek tekil )'!$C$1,[1]DATA!$I:$I,'Cek Yasaklisi ( gerçek tekil )'!$C31),0) -> 3 | J31: =IFERROR(SUMIFS([1]DATA!$J:$J,[1]DATA!$G:$G,'Cek Yasaklisi ( gerçek tekil )'!J$2,[1]DATA!$H:$H,'Cek Yasaklisi ( gerçek tekil )'!$C$1,[1]DATA!$I:$I,'Cek Yasaklisi ( gerçek tekil )'!$C31),0) -> 3 | K31: =IFERROR(SUMIFS([1]DATA!$J:$J,[1]DATA!$G:$G,'Cek Yasaklisi ( gerçek tekil )'!K$2,[1]DATA!$H:$H,'Cek Yasaklisi ( gerçek tekil )'!$C$1,[1]DATA!$I:$I,'Cek Yasaklisi ( gerçek tekil )'!$C31),0) -> 2 | L31: =IFERROR(SUMIFS([1]DATA!$J:$J,[1]DATA!$G:$G,'Cek Yasaklisi ( gerçek tekil )'!L$2,[1]DATA!$H:$H,'Cek Yasaklisi ( gerçek tekil )'!$C$1,[1]DATA!$I:$I,'Cek Yasaklisi ( gerçek tekil )'!$C31),0) -> 6 | M31: =IFERROR(SUMIFS([1]DATA!$J:$J,[1]DATA!$G:$G,'Cek Yasaklisi ( gerçek tekil )'!M$2,[1]DATA!$H:$H,'Cek Yasaklisi ( gerçek tekil )'!$C$1,[1]DATA!$I:$I,'Cek Yasaklisi ( gerçek tekil )'!$C31),0) -> 5 | Q31: =IFERROR(SUMIFS([1]DATA!$X:$X,[1]DATA!$V:$V,'Cek Yasaklisi ( gerçek tekil )'!$C$1,[1]DATA!$W:$W,'Cek Yasaklisi ( gerçek tekil )'!$C31,[1]DATA!$U:$U,'Cek Yasaklisi ( gerçek tekil )'!$C$2),0) -> 32
C32: 42 | D32: Konya | E32: =IFERROR(SUMIFS([1]DATA!$J:$J,[1]DATA!$G:$G,'Cek Yasaklisi ( gerçek tekil )'!E$2,[1]DATA!$H:$H,'Cek Yasaklisi ( gerçek tekil )'!$C$1,[1]DATA!$I:$I,'Cek Yasaklisi ( gerçek tekil )'!$C32),0) -> 194 | F32: =IFERROR(SUMIFS([1]DATA!$J:$J,[1]DATA!$G:$G,'Cek Yasaklisi ( gerçek tekil )'!F$2,[1]DATA!$H:$H,'Cek Yasaklisi ( gerçek tekil )'!$C$1,[1]DATA!$I:$I,'Cek Yasaklisi ( gerçek tekil )'!$C32),0) -> 172 | G32: =IFERROR(SUMIFS([1]DATA!$J:$J,[1]DATA!$G:$G,'Cek Yasaklisi ( gerçek tekil )'!G$2,[1]DATA!$H:$H,'Cek Yasaklisi ( gerçek tekil )'!$C$1,[1]DATA!$I:$I,'Cek Yasaklisi ( gerçek tekil )'!$C32),0) -> 136 | H32: =IFERROR(SUMIFS([1]DATA!$J:$J,[1]DATA!$G:$G,'Cek Yasaklisi ( gerçek tekil )'!H$2,[1]DATA!$H:$H,'Cek Yasaklisi ( gerçek tekil )'!$C$1,[1]DATA!$I:$I,'Cek Yasaklisi ( gerçek tekil )'!$C32),0) -> 142 | I32: =IFERROR(SUMIFS([1]DATA!$J:$J,[1]DATA!$G:$G,'Cek Yasaklisi ( gerçek tekil )'!I$2,[1]DATA!$H:$H,'Cek Yasaklisi ( gerçek tekil )'!$C$1,[1]DATA!$I:$I,'Cek Yasaklisi ( gerçek tekil )'!$C32),0) -> 109 | J32: =IFERROR(SUMIFS([1]DATA!$J:$J,[1]DATA!$G:$G,'Cek Yasaklisi ( gerçek tekil )'!J$2,[1]DATA!$H:$H,'Cek Yasaklisi ( gerçek tekil )'!$C$1,[1]DATA!$I:$I,'Cek Yasaklisi ( gerçek tekil )'!$C32),0) -> 177 | K32: =IFERROR(SUMIFS([1]DATA!$J:$J,[1]DATA!$G:$G,'Cek Yasaklisi ( gerçek tekil )'!K$2,[1]DATA!$H:$H,'Cek Yasaklisi ( gerçek tekil )'!$C$1,[1]DATA!$I:$I,'Cek Yasaklisi ( gerçek tekil )'!$C32),0) -> 187 | L32: =IFERROR(SUMIFS([1]DATA!$J:$J,[1]DATA!$G:$G,'Cek Yasaklisi ( gerçek tekil )'!L$2,[1]DATA!$H:$H,'Cek Yasaklisi ( gerçek tekil )'!$C$1,[1]DATA!$I:$I,'Cek Yasaklisi ( gerçek tekil )'!$C32),0) -> 174 | M32: =IFERROR(SUMIFS([1]DATA!$J:$J,[1]DATA!$G:$G,'Cek Yasaklisi ( gerçek tekil )'!M$2,[1]DATA!$H:$H,'Cek Yasaklisi ( gerçek tekil )'!$C$1,[1]DATA!$I:$I,'Cek Yasaklisi ( gerçek tekil )'!$C32),0) -> 166 | Q32: =IFERROR(SUMIFS([1]DATA!$X:$X,[1]DATA!$V:$V,'Cek Yasaklisi ( gerçek tekil )'!$C$1,[1]DATA!$W:$W,'Cek Yasaklisi ( gerçek tekil )'!$C32,[1]DATA!$U:$U,'Cek Yasaklisi ( gerçek tekil )'!$C$2),0) -> 888
C33: Akdeniz | D33: Akdeniz | E33: =IFERROR(SUMIFS([1]DATA!$Q:$Q,[1]DATA!$N:$N,'Cek Yasaklisi ( gerçek tekil )'!E$2,[1]DATA!$O:$O,'Cek Yasaklisi ( gerçek tekil )'!$C$1,[1]DATA!$P:$P,'Cek Yasaklisi ( gerçek tekil )'!$C33),0) -> 416 | F33: =IFERROR(SUMIFS([1]DATA!$Q:$Q,[1]DATA!$N:$N,'Cek Yasaklisi ( gerçek tekil )'!F$2,[1]DATA!$O:$O,'Cek Yasaklisi ( gerçek tekil )'!$C$1,[1]DATA!$P:$P,'Cek Yasaklisi ( gerçek tekil )'!$C33),0) -> 410 | G33: =IFERROR(SUMIFS([1]DATA!$Q:$Q,[1]DATA!$N:$N,'Cek Yasaklisi ( gerçek tekil )'!G$2,[1]DATA!$O:$O,'Cek Yasaklisi ( gerçek tekil )'!$C$1,[1]DATA!$P:$P,'Cek Yasaklisi ( gerçek tekil )'!$C33),0) -> 393 | H33: =IFERROR(SUMIFS([1]DATA!$Q:$Q,[1]DATA!$N:$N,'Cek Yasaklisi ( gerçek tekil )'!H$2,[1]DATA!$O:$O,'Cek Yasaklisi ( gerçek tekil )'!$C$1,[1]DATA!$P:$P,'Cek Yasaklisi ( gerçek tekil )'!$C33),0) -> 433 | I33: =IFERROR(SUMIFS([1]DATA!$Q:$Q,[1]DATA!$N:$N,'Cek Yasaklisi ( gerçek tekil )'!I$2,[1]DATA!$O:$O,'Cek Yasaklisi ( gerçek tekil )'!$C$1,[1]DATA!$P:$P,'Cek Yasaklisi ( gerçek tekil )'!$C33),0) -> 263 | J33: =IFERROR(SUMIFS([1]DATA!$Q:$Q,[1]DATA!$N:$N,'Cek Yasaklisi ( gerçek tekil )'!J$2,[1]DATA!$O:$O,'Cek Yasaklisi ( gerçek tekil )'!$C$1,[1]DATA!$P:$P,'Cek Yasaklisi ( gerçek tekil )'!$C33),0) -> 450 | K33: =IFERROR(SUMIFS([1]DATA!$Q:$Q,[1]DATA!$N:$N,'Cek Yasaklisi ( gerçek tekil )'!K$2,[1]DATA!$O:$O,'Cek Yasaklisi ( gerçek tekil )'!$C$1,[1]DATA!$P:$P,'Cek Yasaklisi ( gerçek tekil )'!$C33),0) -> 484 | L33: =IFERROR(SUMIFS([1]DATA!$Q:$Q,[1]DATA!$N:$N,'Cek Yasaklisi ( gerçek tekil )'!L$2,[1]DATA!$O:$O,'Cek Yasaklisi ( gerçek tekil )'!$C$1,[1]DATA!$P:$P,'Cek Yasaklisi ( gerçek tekil )'!$C33),0) -> 318 | M33: =IFERROR(SUMIFS([1]DATA!$Q:$Q,[1]DATA!$N:$N,'Cek Yasaklisi ( gerçek tekil )'!M$2,[1]DATA!$O:$O,'Cek Yasaklisi ( gerçek tekil )'!$C$1,[1]DATA!$P:$P,'Cek Yasaklisi ( gerçek tekil )'!$C33),0) -> 481 | Q33: =IFERROR(SUMIFS([1]DATA!$AE:$AE,[1]DATA!$AC:$AC,'Cek Yasaklisi ( gerçek tekil )'!$C$1,[1]DATA!$AD:$AD,'Cek Yasaklisi ( gerçek tekil )'!$C33,[1]DATA!$AB:$AB,'Cek Yasaklisi ( gerçek tekil )'!$C$2),0) -> 2368
C34: 1 | D34: Adana | E34: =IFERROR(SUMIFS([1]DATA!$J:$J,[1]DATA!$G:$G,'Cek Yasaklisi ( gerçek tekil )'!E$2,[1]DATA!$H:$H,'Cek Yasaklisi ( gerçek tekil )'!$C$1,[1]DATA!$I:$I,'Cek Yasaklisi ( gerçek tekil )'!$C34),0) -> 41 | F34: =IFERROR(SUMIFS([1]DATA!$J:$J,[1]DATA!$G:$G,'Cek Yasaklisi ( gerçek tekil )'!F$2,[1]DATA!$H:$H,'Cek Yasaklisi ( gerçek tekil )'!$C$1,[1]DATA!$I:$I,'Cek Yasaklisi ( gerçek tekil )'!$C34),0) -> 68 | G34: =IFERROR(SUMIFS([1]DATA!$J:$J,[1]DATA!$G:$G,'Cek Yasaklisi ( gerçek tekil )'!G$2,[1]DATA!$H:$H,'Cek Yasaklisi ( gerçek tekil )'!$C$1,[1]DATA!$I:$I,'Cek Yasaklisi ( gerçek tekil )'!$C34),0) -> 49 | H34: =IFERROR(SUMIFS([1]DATA!$J:$J,[1]DATA!$G:$G,'Cek Yasaklisi ( gerçek tekil )'!H$2,[1]DATA!$H:$H,'Cek Yasaklisi ( gerçek tekil )'!$C$1,[1]DATA!$I:$I,'Cek Yasaklisi ( gerçek tekil )'!$C34),0) -> 87 | I34: =IFERROR(SUMIFS([1]DATA!$J:$J,[1]DATA!$G:$G,'Cek Yasaklisi ( gerçek tekil )'!I$2,[1]DATA!$H:$H,'Cek Yasaklisi ( gerçek tekil )'!$C$1,[1]DATA!$I:$I,'Cek Yasaklisi ( gerçek tekil )'!$C34),0) -> 52 | J34: =IFERROR(SUMIFS([1]DATA!$J:$J,[1]DATA!$G:$G,'Cek Yasaklisi ( gerçek tekil )'!J$2,[1]DATA!$H:$H,'Cek Yasaklisi ( gerçek tekil )'!$C$1,[1]DATA!$I:$I,'Cek Yasaklisi ( gerçek tekil )'!$C34),0) -> 67 | K34: =IFERROR(SUMIFS([1]DATA!$J:$J,[1]DATA!$G:$G,'Cek Yasaklisi ( gerçek tekil )'!K$2,[1]DATA!$H:$H,'Cek Yasaklisi ( gerçek tekil )'!$C$1,[1]DATA!$I:$I,'Cek Yasaklisi ( gerçek tekil )'!$C34),0) -> 77 | L34: =IFERROR(SUMIFS([1]DATA!$J:$J,[1]DATA!$G:$G,'Cek Yasaklisi ( gerçek tekil )'!L$2,[1]DATA!$H:$H,'Cek Yasaklisi ( gerçek tekil )'!$C$1,[1]DATA!$I:$I,'Cek Yasaklisi ( gerçek tekil )'!$C34),0) -> 17 | M34: =IFERROR(SUMIFS([1]DATA!$J:$J,[1]DATA!$G:$G,'Cek Yasaklisi ( gerçek tekil )'!M$2,[1]DATA!$H:$H,'Cek Yasaklisi ( gerçek tekil )'!$C$1,[1]DATA!$I:$I,'Cek Yasaklisi ( gerçek tekil )'!$C34),0) -> 59 | Q34: =IFERROR(SUMIFS([1]DATA!$X:$X,[1]DATA!$V:$V,'Cek Yasaklisi ( gerçek tekil )'!$C$1,[1]DATA!$W:$W,'Cek Yasaklisi ( gerçek tekil )'!$C34,[1]DATA!$U:$U,'Cek Yasaklisi ( gerçek tekil )'!$C$2),0) -> 391
C35: 7 | D35: Antalya | E35: =IFERROR(SUMIFS([1]DATA!$J:$J,[1]DATA!$G:$G,'Cek Yasaklisi ( gerçek tekil )'!E$2,[1]DATA!$H:$H,'Cek Yasaklisi ( gerçek tekil )'!$C$1,[1]DATA!$I:$I,'Cek Yasaklisi ( gerçek tekil )'!$C35),0) -> 183 | F35: =IFERROR(SUMIFS([1]DATA!$J:$J,[1]DATA!$G:$G,'Cek Yasaklisi ( gerçek tekil )'!F$2,[1]DATA!$H:$H,'Cek Yasaklisi ( gerçek tekil )'!$C$1,[1]DATA!$I:$I,'Cek Yasaklisi ( gerçek tekil )'!$C35),0) -> 163 | G35: =IFERROR(SUMIFS([1]DATA!$J:$J,[1]DATA!$G:$G,'Cek Yasaklisi ( gerçek tekil )'!G$2,[1]DATA!$H:$H,'Cek Yasaklisi ( gerçek tekil )'!$C$1,[1]DATA!$I:$I,'Cek Yasaklisi ( gerçek tekil )'!$C35),0) -> 123 | H35: =IFERROR(SUMIFS([1]DATA!$J:$J,[1]DATA!$G:$G,'Cek Yasaklisi ( gerçek tekil )'!H$2,[1]DATA!$H:$H,'Cek Yasaklisi ( gerçek tekil )'!$C$1,[1]DATA!$I:$I,'Cek Yasaklisi ( gerçek tekil )'!$C35),0) -> 154 | I35: =IFERROR(SUMIFS([1]DATA!$J:$J,[1]DATA!$G:$G,'Cek Yasaklisi ( gerçek tekil )'!I$2,[1]DATA!$H:$H,'Cek Yasaklisi ( gerçek tekil )'!$C$1,[1]DATA!$I:$I,'Cek Yasaklisi ( gerçek tekil )'!$C35),0) -> 93 | J35: =IFERROR(SUMIFS([1]DATA!$J:$J,[1]DATA!$G:$G,'Cek Yasaklisi ( gerçek tekil )'!J$2,[1]DATA!$H:$H,'Cek Yasaklisi ( gerçek tekil )'!$C$1,[1]DATA!$I:$I,'Cek Yasaklisi ( gerçek tekil )'!$C35),0) -> 198 | K35: =IFERROR(SUMIFS([1]DATA!$J:$J,[1]DATA!$G:$G,'Cek Yasaklisi ( gerçek tekil )'!K$2,[1]DATA!$H:$H,'Cek Yasaklisi ( gerçek tekil )'!$C$1,[1]DATA!$I:$I,'Cek Yasaklisi ( gerçek tekil )'!$C35),0) -> 180 | L35: =IFERROR(SUMIFS([1]DATA!$J:$J,[1]DATA!$G:$G,'Cek Yasaklisi ( gerçek tekil )'!L$2,[1]DATA!$H:$H,'Cek Yasaklisi ( gerçek tekil )'!$C$1,[1]DATA!$I:$I,'Cek Yasaklisi ( gerçek tekil )'!$C35),0) -> 126 | M35: =IFERROR(SUMIFS([1]DATA!$J:$J,[1]DATA!$G:$G,'Cek Yasaklisi ( gerçek tekil )'!M$2,[1]DATA!$H:$H,'Cek Yasaklisi ( gerçek tekil )'!$C$1,[1]DATA!$I:$I,'Cek Yasaklisi ( gerçek tekil )'!$C35),0) -> 225 | Q35: =IFERROR(SUMIFS([1]DATA!$X:$X,[1]DATA!$V:$V,'Cek Yasaklisi ( gerçek tekil )'!$C$1,[1]DATA!$W:$W,'Cek Yasaklisi ( gerçek tekil )'!$C35,[1]DATA!$U:$U,'Cek Yasaklisi ( gerçek tekil )'!$C$2),0) -> 946
C36: 15 | D36: Burdur | E36: =IFERROR(SUMIFS([1]DATA!$J:$J,[1]DATA!$G:$G,'Cek Yasaklisi ( gerçek tekil )'!E$2,[1]DATA!$H:$H,'Cek Yasaklisi ( gerçek tekil )'!$C$1,[1]DATA!$I:$I,'Cek Yasaklisi ( gerçek tekil )'!$C36),0) -> 14 | F36: =IFERROR(SUMIFS([1]DATA!$J:$J,[1]DATA!$G:$G,'Cek Yasaklisi ( gerçek tekil )'!F$2,[1]DATA!$H:$H,'Cek Yasaklisi ( gerçek tekil )'!$C$1,[1]DATA!$I:$I,'Cek Yasaklisi ( gerçek tekil )'!$C36),0) -> 5 | G36: =IFERROR(SUMIFS([1]DATA!$J:$J,[1]DATA!$G:$G,'Cek Yasaklisi ( gerçek tekil )'!G$2,[1]DATA!$H:$H,'Cek Yasaklisi ( gerçek tekil )'!$C$1,[1]DATA!$I:$I,'Cek Yasaklisi ( gerçek tekil )'!$C36),0) -> 2 | H36: =IFERROR(SUMIFS([1]DATA!$J:$J,[1]DATA!$G:$G,'Cek Yasaklisi ( gerçek tekil )'!H$2,[1]DATA!$H:$H,'Cek Yasaklisi ( gerçek tekil )'!$C$1,[1]DATA!$I:$I,'Cek Yasaklisi ( gerçek tekil )'!$C36),0) -> 16 | I36: =IFERROR(SUMIFS([1]DATA!$J:$J,[1]DATA!$G:$G,'Cek Yasaklisi ( gerçek tekil )'!I$2,[1]DATA!$H:$H,'Cek Yasaklisi ( gerçek tekil )'!$C$1,[1]DATA!$I:$I,'Cek Yasaklisi ( gerçek tekil )'!$C36),0) -> 0 | J36: =IFERROR(SUMIFS([1]DATA!$J:$J,[1]DATA!$G:$G,'Cek Yasaklisi ( gerçek tekil )'!J$2,[1]DATA!$H:$H,'Cek Yasaklisi ( gerçek tekil )'!$C$1,[1]DATA!$I:$I,'Cek Yasaklisi ( gerçek tekil )'!$C36),0) -> 10 | K36: =IFERROR(SUMIFS([1]DATA!$J:$J,[1]DATA!$G:$G,'Cek Yasaklisi ( gerçek tekil )'!K$2,[1]DATA!$H:$H,'Cek Yasaklisi ( gerçek tekil )'!$C$1,[1]DATA!$I:$I,'Cek Yasaklisi ( gerçek tekil )'!$C36),0) -> 8 | L36: =IFERROR(SUMIFS([1]DATA!$J:$J,[1]DATA!$G:$G,'Cek Yasaklisi ( gerçek tekil )'!L$2,[1]DATA!$H:$H,'Cek Yasaklisi ( gerçek tekil )'!$C$1,[1]DATA!$I:$I,'Cek Yasaklisi ( gerçek tekil )'!$C36),0) -> 2 | M36: =IFERROR(SUMIFS([1]DATA!$J:$J,[1]DATA!$G:$G,'Cek Yasaklisi ( gerçek tekil )'!M$2,[1]DATA!$H:$H,'Cek Yasaklisi ( gerçek tekil )'!$C$1,[1]DATA!$I:$I,'Cek Yasaklisi ( gerçek tekil )'!$C36),0) -> 6 | Q36: =IFERROR(SUMIFS([1]DATA!$X:$X,[1]DATA!$V:$V,'Cek Yasaklisi ( gerçek tekil )'!$C$1,[1]DATA!$W:$W,'Cek Yasaklisi ( gerçek tekil )'!$C36,[1]DATA!$U:$U,'Cek Yasaklisi ( gerçek tekil )'!$C$2),0) -> 47
C37: 31 | D37: Hatay | E37: =IFERROR(SUMIFS([1]DATA!$J:$J,[1]DATA!$G:$G,'Cek Yasaklisi ( gerçek tekil )'!E$2,[1]DATA!$H:$H,'Cek Yasaklisi ( gerçek tekil )'!$C$1,[1]DATA!$I:$I,'Cek Yasaklisi ( gerçek tekil )'!$C37),0) -> 39 | F37: =IFERROR(SUMIFS([1]DATA!$J:$J,[1]DATA!$G:$G,'Cek Yasaklisi ( gerçek tekil )'!F$2,[1]DATA!$H:$H,'Cek Yasaklisi ( gerçek tekil )'!$C$1,[1]DATA!$I:$I,'Cek Yasaklisi ( gerçek tekil )'!$C37),0) -> 33 | G37: =IFERROR(SUMIFS([1]DATA!$J:$J,[1]DATA!$G:$G,'Cek Yasaklisi ( gerçek tekil )'!G$2,[1]DATA!$H:$H,'Cek Yasaklisi ( gerçek tekil )'!$C$1,[1]DATA!$I:$I,'Cek Yasaklisi ( gerçek tekil )'!$C37),0) -> 38 | H37: =IFERROR(SUMIFS([1]DATA!$J:$J,[1]DATA!$G:$G,'Cek Yasaklisi ( gerçek tekil )'!H$2,[1]DATA!$H:$H,'Cek Yasaklisi ( gerçek tekil )'!$C$1,[1]DATA!$I:$I,'Cek Yasaklisi ( gerçek tekil )'!$C37),0) -> 37 | I37: =IFERROR(SUMIFS([1]DATA!$J:$J,[1]DATA!$G:$G,'Cek Yasaklisi ( gerçek tekil )'!I$2,[1]DATA!$H:$H,'Cek Yasaklisi ( gerçek tekil )'!$C$1,[1]DATA!$I:$I,'Cek Yasaklisi ( gerçek tekil )'!$C37),0) -> 42 | J37: =IFERROR(SUMIFS([1]DATA!$J:$J,[1]DATA!$G:$G,'Cek Yasaklisi ( gerçek tekil )'!J$2,[1]DATA!$H:$H,'Cek Yasaklisi ( gerçek tekil )'!$C$1,[1]DATA!$I:$I,'Cek Yasaklisi ( gerçek tekil )'!$C37),0) -> 40 | K37: =IFERROR(SUMIFS([1]DATA!$J:$J,[1]DATA!$G:$G,'Cek Yasaklisi ( gerçek tekil )'!K$2,[1]DATA!$H:$H,'Cek Yasaklisi ( gerçek tekil )'!$C$1,[1]DATA!$I:$I,'Cek Yasaklisi ( gerçek tekil )'!$C37),0) -> 49 | L37: =IFERROR(SUMIFS([1]DATA!$J:$J,[1]DATA!$G:$G,'Cek Yasaklisi ( gerçek tekil )'!L$2,[1]DATA!$H:$H,'Cek Yasaklisi ( gerçek tekil )'!$C$1,[1]DATA!$I:$I,'Cek Yasaklisi ( gerçek tekil )'!$C37),0) -> 65 | M37: =IFERROR(SUMIFS([1]DATA!$J:$J,[1]DATA!$G:$G,'Cek Yasaklisi ( gerçek tekil )'!M$2,[1]DATA!$H:$H,'Cek Yasaklisi ( gerçek tekil )'!$C$1,[1]DATA!$I:$I,'Cek Yasaklisi ( gerçek tekil )'!$C37),0) -> 52 | Q37: =IFERROR(SUMIFS([1]DATA!$X:$X,[1]DATA!$V:$V,'Cek Yasaklisi ( gerçek tekil )'!$C$1,[1]DATA!$W:$W,'Cek Yasaklisi ( gerçek tekil )'!$C37,[1]DATA!$U:$U,'Cek Yasaklisi ( gerçek tekil )'!$C$2),0) -> 288
C38: 32 | D38: Isparta | E38: =IFERROR(SUMIFS([1]DATA!$J:$J,[1]DATA!$G:$G,'Cek Yasaklisi ( gerçek tekil )'!E$2,[1]DATA!$H:$H,'Cek Yasaklisi ( gerçek tekil )'!$C$1,[1]DATA!$I:$I,'Cek Yasaklisi ( gerçek tekil )'!$C38),0) -> 15 | F38: =IFERROR(SUMIFS([1]DATA!$J:$J,[1]DATA!$G:$G,'Cek Yasaklisi ( gerçek tekil )'!F$2,[1]DATA!$H:$H,'Cek Yasaklisi ( gerçek tekil )'!$C$1,[1]DATA!$I:$I,'Cek Yasaklisi ( gerçek tekil )'!$C38),0) -> 2 | G38: =IFERROR(SUMIFS([1]DATA!$J:$J,[1]DATA!$G:$G,'Cek Yasaklisi ( gerçek tekil )'!G$2,[1]DATA!$H:$H,'Cek Yasaklisi ( gerçek tekil )'!$C$1,[1]DATA!$I:$I,'Cek Yasaklisi ( gerçek tekil )'!$C38),0) -> 8 | H38: =IFERROR(SUMIFS([1]DATA!$J:$J,[1]DATA!$G:$G,'Cek Yasaklisi ( gerçek tekil )'!H$2,[1]DATA!$H:$H,'Cek Yasaklisi ( gerçek tekil )'!$C$1,[1]DATA!$I:$I,'Cek Yasaklisi ( gerçek tekil )'!$C38),0) -> 12 | I38: =IFERROR(SUMIFS([1]DATA!$J:$J,[1]DATA!$G:$G,'Cek Yasaklisi ( gerçek tekil )'!I$2,[1]DATA!$H:$H,'Cek Yasaklisi ( gerçek tekil )'!$C$1,[1]DATA!$I:$I,'Cek Yasaklisi ( gerçek tekil )'!$C38),0) -> 0 | J38: =IFERROR(SUMIFS([1]DATA!$J:$J,[1]DATA!$G:$G,'Cek Yasaklisi ( gerçek tekil )'!J$2,[1]DATA!$H:$H,'Cek Yasaklisi ( gerçek tekil )'!$C$1,[1]DATA!$I:$I,'Cek Yasaklisi ( gerçek tekil )'!$C38),0) -> 13 | K38: =IFERROR(SUMIFS([1]DATA!$J:$J,[1]DATA!$G:$G,'Cek Yasaklisi ( gerçek tekil )'!K$2,[1]DATA!$H:$H,'Cek Yasaklisi ( gerçek tekil )'!$C$1,[1]DATA!$I:$I,'Cek Yasaklisi ( gerçek tekil )'!$C38),0) -> 19 | L38: =IFERROR(SUMIFS([1]DATA!$J:$J,[1]DATA!$G:$G,'Cek Yasaklisi ( gerçek tekil )'!L$2,[1]DATA!$H:$H,'Cek Yasaklisi ( gerçek tekil )'!$C$1,[1]DATA!$I:$I,'Cek Yasaklisi ( gerçek tekil )'!$C38),0) -> 3 | M38: =IFERROR(SUMIFS([1]DATA!$J:$J,[1]DATA!$G:$G,'Cek Yasaklisi ( gerçek tekil )'!M$2,[1]DATA!$H:$H,'Cek Yasaklisi ( gerçek tekil )'!$C$1,[1]DATA!$I:$I,'Cek Yasaklisi ( gerçek tekil )'!$C38),0) -> 14 | Q38: =IFERROR(SUMIFS([1]DATA!$X:$X,[1]DATA!$V:$V,'Cek Yasaklisi ( gerçek tekil )'!$C$1,[1]DATA!$W:$W,'Cek Yasaklisi ( gerçek tekil )'!$C38,[1]DATA!$U:$U,'Cek Yasaklisi ( gerçek tekil )'!$C$2),0) -> 72
C39: 33 | D39: Mersin | E39: =IFERROR(SUMIFS([1]DATA!$J:$J,[1]DATA!$G:$G,'Cek Yasaklisi ( gerçek tekil )'!E$2,[1]DATA!$H:$H,'Cek Yasaklisi ( gerçek tekil )'!$C$1,[1]DATA!$I:$I,'Cek Yasaklisi ( gerçek tekil )'!$C39),0) -> 84 | F39: =IFERROR(SUMIFS([1]DATA!$J:$J,[1]DATA!$G:$G,'Cek Yasaklisi ( gerçek tekil )'!F$2,[1]DATA!$H:$H,'Cek Yasaklisi ( gerçek tekil )'!$C$1,[1]DATA!$I:$I,'Cek Yasaklisi ( gerçek tekil )'!$C39),0) -> 106 | G39: =IFERROR(SUMIFS([1]DATA!$J:$J,[1]DATA!$G:$G,'Cek Yasaklisi ( gerçek tekil )'!G$2,[1]DATA!$H:$H,'Cek Yasaklisi ( gerçek tekil )'!$C$1,[1]DATA!$I:$I,'Cek Yasaklisi ( gerçek tekil )'!$C39),0) -> 109 | H39: =IFERROR(SUMIFS([1]DATA!$J:$J,[1]DATA!$G:$G,'Cek Yasaklisi ( gerçek tekil )'!H$2,[1]DATA!$H:$H,'Cek Yasaklisi ( gerçek tekil )'!$C$1,[1]DATA!$I:$I,'Cek Yasaklisi ( gerçek tekil )'!$C39),0) -> 91 | I39: =IFERROR(SUMIFS([1]DATA!$J:$J,[1]DATA!$G:$G,'Cek Yasaklisi ( gerçek tekil )'!I$2,[1]DATA!$H:$H,'Cek Yasaklisi ( gerçek tekil )'!$C$1,[1]DATA!$I:$I,'Cek Yasaklisi ( gerçek tekil )'!$C39),0) -> 55 | J39: =IFERROR(SUMIFS([1]DATA!$J:$J,[1]DATA!$G:$G,'Cek Yasaklisi ( gerçek tekil )'!J$2,[1]DATA!$H:$H,'Cek Yasaklisi ( gerçek tekil )'!$C$1,[1]DATA!$I:$I,'Cek Yasaklisi ( gerçek tekil )'!$C39),0) -> 74 | K39: =IFERROR(SUMIFS([1]DATA!$J:$J,[1]DATA!$G:$G,'Cek Yasaklisi ( gerçek tekil )'!K$2,[1]DATA!$H:$H,'Cek Yasaklisi ( gerçek tekil )'!$C$1,[1]DATA!$I:$I,'Cek Yasaklisi ( gerçek tekil )'!$C39),0) -> 117 | L39: =IFERROR(SUMIFS([1]DATA!$J:$J,[1]DATA!$G:$G,'Cek Yasaklisi ( gerçek tekil )'!L$2,[1]DATA!$H:$H,'Cek Yasaklisi ( gerçek tekil )'!$C$1,[1]DATA!$I:$I,'Cek Yasaklisi ( gerçek tekil )'!$C39),0) -> 89 | M39: =IFERROR(SUMIFS([1]DATA!$J:$J,[1]DATA!$G:$G,'Cek Yasaklisi ( gerçek tekil )'!M$2,[1]DATA!$H:$H,'Cek Yasaklisi ( gerçek tekil )'!$C$1,[1]DATA!$I:$I,'Cek Yasaklisi ( gerçek tekil )'!$C39),0) -> 96 | Q39: =IFERROR(SUMIFS([1]DATA!$X:$X,[1]DATA!$V:$V,'Cek Yasaklisi ( gerçek tekil )'!$C$1,[1]DATA!$W:$W,'Cek Yasaklisi ( gerçek tekil )'!$C39,[1]DATA!$U:$U,'Cek Yasaklisi ( gerçek tekil )'!$C$2),0) -> 546
C40: 46 | D40: Kahramanmaraş | E40: =IFERROR(SUMIFS([1]DATA!$J:$J,[1]DATA!$G:$G,'Cek Yasaklisi ( gerçek tekil )'!E$2,[1]DATA!$H:$H,'Cek Yasaklisi ( gerçek tekil )'!$C$1,[1]DATA!$I:$I,'Cek Yasaklisi ( gerçek tekil )'!$C40),0) -> 42 | F40: =IFERROR(SUMIFS([1]DATA!$J:$J,[1]DATA!$G:$G,'Cek Yasaklisi ( gerçek tekil )'!F$2,[1]DATA!$H:$H,'Cek Yasaklisi ( gerçek tekil )'!$C$1,[1]DATA!$I:$I,'Cek Yasaklisi ( gerçek tekil )'!$C40),0) -> 34 | G40: =IFERROR(SUMIFS([1]DATA!$J:$J,[1]DATA!$G:$G,'Cek Yasaklisi ( gerçek tekil )'!G$2,[1]DATA!$H:$H,'Cek Yasaklisi ( gerçek tekil )'!$C$1,[1]DATA!$I:$I,'Cek Yasaklisi ( gerçek tekil )'!$C40),0) -> 59 | H40: =IFERROR(SUMIFS([1]DATA!$J:$J,[1]DATA!$G:$G,'Cek Yasaklisi ( gerçek tekil )'!H$2,[1]DATA!$H:$H,'Cek Yasaklisi ( gerçek tekil )'!$C$1,[1]DATA!$I:$I,'Cek Yasaklisi ( gerçek tekil )'!$C40),0) -> 32 | I40: =IFERROR(SUMIFS([1]DATA!$J:$J,[1]DATA!$G:$G,'Cek Yasaklisi ( gerçek tekil )'!I$2,[1]DATA!$H:$H,'Cek Yasaklisi ( gerçek tekil )'!$C$1,[1]DATA!$I:$I,'Cek Yasaklisi ( gerçek tekil )'!$C40),0) -> 26 | J40: =IFERROR(SUMIFS([1]DATA!$J:$J,[1]DATA!$G:$G,'Cek Yasaklisi ( gerçek tekil )'!J$2,[1]DATA!$H:$H,'Cek Yasaklisi ( gerçek tekil )'!$C$1,[1]DATA!$I:$I,'Cek Yasaklisi ( gerçek tekil )'!$C40),0) -> 52 | K40: =IFERROR(SUMIFS([1]DATA!$J:$J,[1]DATA!$G:$G,'Cek Yasaklisi ( gerçek tekil )'!K$2,[1]DATA!$H:$H,'Cek Yasaklisi ( gerçek tekil )'!$C$1,[1]DATA!$I:$I,'Cek Yasaklisi ( gerçek tekil )'!$C40),0) -> 51 | L40: =IFERROR(SUMIFS([1]DATA!$J:$J,[1]DATA!$G:$G,'Cek Yasaklisi ( gerçek tekil )'!L$2,[1]DATA!$H:$H,'Cek Yasaklisi ( gerçek tekil )'!$C$1,[1]DATA!$I:$I,'Cek Yasaklisi ( gerçek tekil )'!$C40),0) -> 29 | M40: =IFERROR(SUMIFS([1]DATA!$J:$J,[1]DATA!$G:$G,'Cek Yasaklisi ( gerçek tekil )'!M$2,[1]DATA!$H:$H,'Cek Yasaklisi ( gerçek tekil )'!$C$1,[1]DATA!$I:$I,'Cek Yasaklisi ( gerçek tekil )'!$C40),0) -> 48 | Q40: =IFERROR(SUMIFS([1]DATA!$X:$X,[1]DATA!$V:$V,'Cek Yasaklisi ( gerçek tekil )'!$C$1,[1]DATA!$W:$W,'Cek Yasaklisi ( gerçek tekil )'!$C40,[1]DATA!$U:$U,'Cek Yasaklisi ( gerçek tekil )'!$C$2),0) -> 260
C41: 80 | D41: Osmaniye | E41: =IFERROR(SUMIFS([1]DATA!$J:$J,[1]DATA!$G:$G,'Cek Yasaklisi ( gerçek tekil )'!E$2,[1]DATA!$H:$H,'Cek Yasaklisi ( gerçek tekil )'!$C$1,[1]DATA!$I:$I,'Cek Yasaklisi ( gerçek tekil )'!$C41),0) -> 7 | F41: =IFERROR(SUMIFS([1]DATA!$J:$J,[1]DATA!$G:$G,'Cek Yasaklisi ( gerçek tekil )'!F$2,[1]DATA!$H:$H,'Cek Yasaklisi ( gerçek tekil )'!$C$1,[1]DATA!$I:$I,'Cek Yasaklisi ( gerçek tekil )'!$C41),0) -> 9 | G41: =IFERROR(SUMIFS([1]DATA!$J:$J,[1]DATA!$G:$G,'Cek Yasaklisi ( gerçek tekil )'!G$2,[1]DATA!$H:$H,'Cek Yasaklisi ( gerçek tekil )'!$C$1,[1]DATA!$I:$I,'Cek Yasaklisi ( gerçek tekil )'!$C41),0) -> 10 | H41: =IFERROR(SUMIFS([1]DATA!$J:$J,[1]DATA!$G:$G,'Cek Yasaklisi ( gerçek tekil )'!H$2,[1]DATA!$H:$H,'Cek Yasaklisi ( gerçek tekil )'!$C$1,[1]DATA!$I:$I,'Cek Yasaklisi ( gerçek tekil )'!$C41),0) -> 12 | I41: =IFERROR(SUMIFS([1]DATA!$J:$J,[1]DATA!$G:$G,'Cek Yasaklisi ( gerçek tekil )'!I$2,[1]DATA!$H:$H,'Cek Yasaklisi ( gerçek tekil )'!$C$1,[1]DATA!$I:$I,'Cek Yasaklisi ( gerçek tekil )'!$C41),0) -> 4 | J41: =IFERROR(SUMIFS([1]DATA!$J:$J,[1]DATA!$G:$G,'Cek Yasaklisi ( gerçek tekil )'!J$2,[1]DATA!$H:$H,'Cek Yasaklisi ( gerçek tekil )'!$C$1,[1]DATA!$I:$I,'Cek Yasaklisi ( gerçek tekil )'!$C41),0) -> 10 | K41: =IFERROR(SUMIFS([1]DATA!$J:$J,[1]DATA!$G:$G,'Cek Yasaklisi ( gerçek tekil )'!K$2,[1]DATA!$H:$H,'Cek Yasaklisi ( gerçek tekil )'!$C$1,[1]DATA!$I:$I,'Cek Yasaklisi ( gerçek tekil )'!$C41),0) -> 9 | L41: =IFERROR(SUMIFS([1]DATA!$J:$J,[1]DATA!$G:$G,'Cek Yasaklisi ( gerçek tekil )'!L$2,[1]DATA!$H:$H,'Cek Yasaklisi ( gerçek tekil )'!$C$1,[1]DATA!$I:$I,'Cek Yasaklisi ( gerçek tekil )'!$C41),0) -> 1 | M41: =IFERROR(SUMIFS([1]DATA!$J:$J,[1]DATA!$G:$G,'Cek Yasaklisi ( gerçek tekil )'!M$2,[1]DATA!$H:$H,'Cek Yasaklisi ( gerçek tekil )'!$C$1,[1]DATA!$I:$I,'Cek Yasaklisi ( gerçek tekil )'!$C41),0) -> 0 | Q41: =IFERROR(SUMIFS([1]DATA!$X:$X,[1]DATA!$V:$V,'Cek Yasaklisi ( gerçek tekil )'!$C$1,[1]DATA!$W:$W,'Cek Yasaklisi ( gerçek tekil )'!$C41,[1]DATA!$U:$U,'Cek Yasaklisi ( gerçek tekil )'!$C$2),0) -> 49
C42: Orta Anadolu | D42: Orta Anadolu | E42: =IFERROR(SUMIFS([1]DATA!$Q:$Q,[1]DATA!$N:$N,'Cek Yasaklisi ( gerçek tekil )'!E$2,[1]DATA!$O:$O,'Cek Yasaklisi ( gerçek tekil )'!$C$1,[1]DATA!$P:$P,'Cek Yasaklisi ( gerçek tekil )'!$C42),0) -> 161 | F42: =IFERROR(SUMIFS([1]DATA!$Q:$Q,[1]DATA!$N:$N,'Cek Yasaklisi ( gerçek tekil )'!F$2,[1]DATA!$O:$O,'Cek Yasaklisi ( gerçek tekil )'!$C$1,[1]DATA!$P:$P,'Cek Yasaklisi ( gerçek tekil )'!$C42),0) -> 162 | G42: =IFERROR(SUMIFS([1]DATA!$Q:$Q,[1]DATA!$N:$N,'Cek Yasaklisi ( gerçek tekil )'!G$2,[1]DATA!$O:$O,'Cek Yasaklisi ( gerçek tekil )'!$C$1,[1]DATA!$P:$P,'Cek Yasaklisi ( gerçek tekil )'!$C42),0) -> 135 | H42: =IFERROR(SUMIFS([1]DATA!$Q:$Q,[1]DATA!$N:$N,'Cek Yasaklisi ( gerçek tekil )'!H$2,[1]DATA!$O:$O,'Cek Yasaklisi ( gerçek tekil )'!$C$1,[1]DATA!$P:$P,'Cek Yasaklisi ( gerçek tekil )'!$C42),0) -> 174 | I42: =IFERROR(SUMIFS([1]DATA!$Q:$Q,[1]DATA!$N:$N,'Cek Yasaklisi ( gerçek tekil )'!I$2,[1]DATA!$O:$O,'Cek Yasaklisi ( gerçek tekil )'!$C$1,[1]DATA!$P:$P,'Cek Yasaklisi ( gerçek tekil )'!$C42),0) -> 143 | J42: =IFERROR(SUMIFS([1]DATA!$Q:$Q,[1]DATA!$N:$N,'Cek Yasaklisi ( gerçek tekil )'!J$2,[1]DATA!$O:$O,'Cek Yasaklisi ( gerçek tekil )'!$C$1,[1]DATA!$P:$P,'Cek Yasaklisi ( gerçek tekil )'!$C42),0) -> 181 | K42: =IFERROR(SUMIFS([1]DATA!$Q:$Q,[1]DATA!$N:$N,'Cek Yasaklisi ( gerçek tekil )'!K$2,[1]DATA!$O:$O,'Cek Yasaklisi ( gerçek tekil )'!$C$1,[1]DATA!$P:$P,'Cek Yasaklisi ( gerçek tekil )'!$C42),0) -> 160 | L42: =IFERROR(SUMIFS([1]DATA!$Q:$Q,[1]DATA!$N:$N,'Cek Yasaklisi ( gerçek tekil )'!L$2,[1]DATA!$O:$O,'Cek Yasaklisi ( gerçek tekil )'!$C$1,[1]DATA!$P:$P,'Cek Yasaklisi ( gerçek tekil )'!$C42),0) -> 130 | M42: =IFERROR(SUMIFS([1]DATA!$Q:$Q,[1]DATA!$N:$N,'Cek Yasaklisi ( gerçek tekil )'!M$2,[1]DATA!$O:$O,'Cek Yasaklisi ( gerçek tekil )'!$C$1,[1]DATA!$P:$P,'Cek Yasaklisi ( gerçek tekil )'!$C42),0) -> 158 | Q42: =IFERROR(SUMIFS([1]DATA!$AE:$AE,[1]DATA!$AC:$AC,'Cek Yasaklisi ( gerçek tekil )'!$C$1,[1]DATA!$AD:$AD,'Cek Yasaklisi ( gerçek tekil )'!$C42,[1]DATA!$AB:$AB,'Cek Yasaklisi ( gerçek tekil )'!$C$2),0) -> 926
C43: 68 | D43: Aksaray | E43: =IFERROR(SUMIFS([1]DATA!$J:$J,[1]DATA!$G:$G,'Cek Yasaklisi ( gerçek tekil )'!E$2,[1]DATA!$H:$H,'Cek Yasaklisi ( gerçek tekil )'!$C$1,[1]DATA!$I:$I,'Cek Yasaklisi ( gerçek tekil )'!$C43),0) -> 23 | F43: =IFERROR(SUMIFS([1]DATA!$J:$J,[1]DATA!$G:$G,'Cek Yasaklisi ( gerçek tekil )'!F$2,[1]DATA!$H:$H,'Cek Yasaklisi ( gerçek tekil )'!$C$1,[1]DATA!$I:$I,'Cek Yasaklisi ( gerçek tekil )'!$C43),0) -> 15 | G43: =IFERROR(SUMIFS([1]DATA!$J:$J,[1]DATA!$G:$G,'Cek Yasaklisi ( gerçek tekil )'!G$2,[1]DATA!$H:$H,'Cek Yasaklisi ( gerçek tekil )'!$C$1,[1]DATA!$I:$I,'Cek Yasaklisi ( gerçek tekil )'!$C43),0) -> 12 | H43: =IFERROR(SUMIFS([1]DATA!$J:$J,[1]DATA!$G:$G,'Cek Yasaklisi ( gerçek tekil )'!H$2,[1]DATA!$H:$H,'Cek Yasaklisi ( gerçek tekil )'!$C$1,[1]DATA!$I:$I,'Cek Yasaklisi ( gerçek tekil )'!$C43),0) -> 16 | I43: =IFERROR(SUMIFS([1]DATA!$J:$J,[1]DATA!$G:$G,'Cek Yasaklisi ( gerçek tekil )'!I$2,[1]DATA!$H:$H,'Cek Yasaklisi ( gerçek tekil )'!$C$1,[1]DATA!$I:$I,'Cek Yasaklisi ( gerçek tekil )'!$C43),0) -> 15 | J43: =IFERROR(SUMIFS([1]DATA!$J:$J,[1]DATA!$G:$G,'Cek Yasaklisi ( gerçek tekil )'!J$2,[1]DATA!$H:$H,'Cek Yasaklisi ( gerçek tekil )'!$C$1,[1]DATA!$I:$I,'Cek Yasaklisi ( gerçek tekil )'!$C43),0) -> 19 | K43: =IFERROR(SUMIFS([1]DATA!$J:$J,[1]DATA!$G:$G,'Cek Yasaklisi ( gerçek tekil )'!K$2,[1]DATA!$H:$H,'Cek Yasaklisi ( gerçek tekil )'!$C$1,[1]DATA!$I:$I,'Cek Yasaklisi ( gerçek tekil )'!$C43),0) -> 20 | L43: =IFERROR(SUMIFS([1]DATA!$J:$J,[1]DATA!$G:$G,'Cek Yasaklisi ( gerçek tekil )'!L$2,[1]DATA!$H:$H,'Cek Yasaklisi ( gerçek tekil )'!$C$1,[1]DATA!$I:$I,'Cek Yasaklisi ( gerçek tekil )'!$C43),0) -> 25 | M43: =IFERROR(SUMIFS([1]DATA!$J:$J,[1]DATA!$G:$G,'Cek Yasaklisi ( gerçek tekil )'!M$2,[1]DATA!$H:$H,'Cek Yasaklisi ( gerçek tekil )'!$C$1,[1]DATA!$I:$I,'Cek Yasaklisi ( gerçek tekil )'!$C43),0) -> 16 | Q43: =IFERROR(SUMIFS([1]DATA!$X:$X,[1]DATA!$V:$V,'Cek Yasaklisi ( gerçek tekil )'!$C$1,[1]DATA!$W:$W,'Cek Yasaklisi ( gerçek tekil )'!$C43,[1]DATA!$U:$U,'Cek Yasaklisi ( gerçek tekil )'!$C$2),0) -> 111
C44: 38 | D44: Kayseri | E44: =IFERROR(SUMIFS([1]DATA!$J:$J,[1]DATA!$G:$G,'Cek Yasaklisi ( gerçek tekil )'!E$2,[1]DATA!$H:$H,'Cek Yasaklisi ( gerçek tekil )'!$C$1,[1]DATA!$I:$I,'Cek Yasaklisi ( gerçek tekil )'!$C44),0) -> 91 | F44: =IFERROR(SUMIFS([1]DATA!$J:$J,[1]DATA!$G:$G,'Cek Yasaklisi ( gerçek tekil )'!F$2,[1]DATA!$H:$H,'Cek Yasaklisi ( gerçek tekil )'!$C$1,[1]DATA!$I:$I,'Cek Yasaklisi ( gerçek tekil )'!$C44),0) -> 91 | G44: =IFERROR(SUMIFS([1]DATA!$J:$J,[1]DATA!$G:$G,'Cek Yasaklisi ( gerçek tekil )'!G$2,[1]DATA!$H:$H,'Cek Yasaklisi ( gerçek tekil )'!$C$1,[1]DATA!$I:$I,'Cek Yasaklisi ( gerçek tekil )'!$C44),0) -> 91 | H44: =IFERROR(SUMIFS([1]DATA!$J:$J,[1]DATA!$G:$G,'Cek Yasaklisi ( gerçek tekil )'!H$2,[1]DATA!$H:$H,'Cek Yasaklisi ( gerçek tekil )'!$C$1,[1]DATA!$I:$I,'Cek Yasaklisi ( gerçek tekil )'!$C44),0) -> 106 | I44: =IFERROR(SUMIFS([1]DATA!$J:$J,[1]DATA!$G:$G,'Cek Yasaklisi ( gerçek tekil )'!I$2,[1]DATA!$H:$H,'Cek Yasaklisi ( gerçek tekil )'!$C$1,[1]DATA!$I:$I,'Cek Yasaklisi ( gerçek tekil )'!$C44),0) -> 65 | J44: =IFERROR(SUMIFS([1]DATA!$J:$J,[1]DATA!$G:$G,'Cek Yasaklisi ( gerçek tekil )'!J$2,[1]DATA!$H:$H,'Cek Yasaklisi ( gerçek tekil )'!$C$1,[1]DATA!$I:$I,'Cek Yasaklisi ( gerçek tekil )'!$C44),0) -> 104 | K44: =IFERROR(SUMIFS([1]DATA!$J:$J,[1]DATA!$G:$G,'Cek Yasaklisi ( gerçek tekil )'!K$2,[1]DATA!$H:$H,'Cek Yasaklisi ( gerçek tekil )'!$C$1,[1]DATA!$I:$I,'Cek Yasaklisi ( gerçek tekil )'!$C44),0) -> 92 | L44: =IFERROR(SUMIFS([1]DATA!$J:$J,[1]DATA!$G:$G,'Cek Yasaklisi ( gerçek tekil )'!L$2,[1]DATA!$H:$H,'Cek Yasaklisi ( gerçek tekil )'!$C$1,[1]DATA!$I:$I,'Cek Yasaklisi ( gerçek tekil )'!$C44),0) -> 90 | M44: =IFERROR(SUMIFS([1]DATA!$J:$J,[1]DATA!$G:$G,'Cek Yasaklisi ( gerçek tekil )'!M$2,[1]DATA!$H:$H,'Cek Yasaklisi ( gerçek tekil )'!$C$1,[1]DATA!$I:$I,'Cek Yasaklisi ( gerçek tekil )'!$C44),0) -> 101 | Q44: =IFERROR(SUMIFS([1]DATA!$X:$X,[1]DATA!$V:$V,'Cek Yasaklisi ( gerçek tekil )'!$C$1,[1]DATA!$W:$W,'Cek Yasaklisi ( gerçek tekil )'!$C44,[1]DATA!$U:$U,'Cek Yasaklisi ( gerçek tekil )'!$C$2),0) -> 556
C45: 71 | D45: Kırıkkale | E45: =IFERROR(SUMIFS([1]DATA!$J:$J,[1]DATA!$G:$G,'Cek Yasaklisi ( gerçek tekil )'!E$2,[1]DATA!$H:$H,'Cek Yasaklisi ( gerçek tekil )'!$C$1,[1]DATA!$I:$I,'Cek Yasaklisi ( gerçek tekil )'!$C45),0) -> 3 | F45: =IFERROR(SUMIFS([1]DATA!$J:$J,[1]DATA!$G:$G,'Cek Yasaklisi ( gerçek tekil )'!F$2,[1]DATA!$H:$H,'Cek Yasaklisi ( gerçek tekil )'!$C$1,[1]DATA!$I:$I,'Cek Yasaklisi ( gerçek tekil )'!$C45),0) -> 4 | G45: =IFERROR(SUMIFS([1]DATA!$J:$J,[1]DATA!$G:$G,'Cek Yasaklisi ( gerçek tekil )'!G$2,[1]DATA!$H:$H,'Cek Yasaklisi ( gerçek tekil )'!$C$1,[1]DATA!$I:$I,'Cek Yasaklisi ( gerçek tekil )'!$C45),0) -> 0 | H45: =IFERROR(SUMIFS([1]DATA!$J:$J,[1]DATA!$G:$G,'Cek Yasaklisi ( gerçek tekil )'!H$2,[1]DATA!$H:$H,'Cek Yasaklisi ( gerçek tekil )'!$C$1,[1]DATA!$I:$I,'Cek Yasaklisi ( gerçek tekil )'!$C45),0) -> 1 | I45: =IFERROR(SUMIFS([1]DATA!$J:$J,[1]DATA!$G:$G,'Cek Yasaklisi ( gerçek tekil )'!I$2,[1]DATA!$H:$H,'Cek Yasaklisi ( gerçek tekil )'!$C$1,[1]DATA!$I:$I,'Cek Yasaklisi ( gerçek tekil )'!$C45),0) -> 3 | J45: =IFERROR(SUMIFS([1]DATA!$J:$J,[1]DATA!$G:$G,'Cek Yasaklisi ( gerçek tekil )'!J$2,[1]DATA!$H:$H,'Cek Yasaklisi ( gerçek tekil )'!$C$1,[1]DATA!$I:$I,'Cek Yasaklisi ( gerçek tekil )'!$C45),0) -> 4 | K45: =IFERROR(SUMIFS([1]DATA!$J:$J,[1]DATA!$G:$G,'Cek Yasaklisi ( gerçek tekil )'!K$2,[1]DATA!$H:$H,'Cek Yasaklisi ( gerçek tekil )'!$C$1,[1]DATA!$I:$I,'Cek Yasaklisi ( gerçek tekil )'!$C45),0) -> 2 | L45: =IFERROR(SUMIFS([1]DATA!$J:$J,[1]DATA!$G:$G,'Cek Yasaklisi ( gerçek tekil )'!L$2,[1]DATA!$H:$H,'Cek Yasaklisi ( gerçek tekil )'!$C$1,[1]DATA!$I:$I,'Cek Yasaklisi ( gerçek tekil )'!$C45),0) -> 0 | M45: =IFERROR(SUMIFS([1]DATA!$J:$J,[1]DATA!$G:$G,'Cek Yasaklisi ( gerçek tekil )'!M$2,[1]DATA!$H:$H,'Cek Yasaklisi ( gerçek tekil )'!$C$1,[1]DATA!$I:$I,'Cek Yasaklisi ( gerçek tekil )'!$C45),0) -> 3 | Q45: =IFERROR(SUMIFS([1]DATA!$X:$X,[1]DATA!$V:$V,'Cek Yasaklisi ( gerçek tekil )'!$C$1,[1]DATA!$W:$W,'Cek Yasaklisi ( gerçek tekil )'!$C45,[1]DATA!$U:$U,'Cek Yasaklisi ( gerçek tekil )'!$C$2),0) -> 15
C46: 40 | D46: Kırşehir | E46: =IFERROR(SUMIFS([1]DATA!$J:$J,[1]DATA!$G:$G,'Cek Yasaklisi ( gerçek tekil )'!E$2,[1]DATA!$H:$H,'Cek Yasaklisi ( gerçek tekil )'!$C$1,[1]DATA!$I:$I,'Cek Yasaklisi ( gerçek tekil )'!$C46),0) -> 3 | F46: =IFERROR(SUMIFS([1]DATA!$J:$J,[1]DATA!$G:$G,'Cek Yasaklisi ( gerçek tekil )'!F$2,[1]DATA!$H:$H,'Cek Yasaklisi ( gerçek tekil )'!$C$1,[1]DATA!$I:$I,'Cek Yasaklisi ( gerçek tekil )'!$C46),0) -> 3 | G46: =IFERROR(SUMIFS([1]DATA!$J:$J,[1]DATA!$G:$G,'Cek Yasaklisi ( gerçek tekil )'!G$2,[1]DATA!$H:$H,'Cek Yasaklisi ( gerçek tekil )'!$C$1,[1]DATA!$I:$I,'Cek Yasaklisi ( gerçek tekil )'!$C46),0) -> 4 | H46: =IFERROR(SUMIFS([1]DATA!$J:$J,[1]DATA!$G:$G,'Cek Yasaklisi ( gerçek tekil )'!H$2,[1]DATA!$H:$H,'Cek Yasaklisi ( gerçek tekil )'!$C$1,[1]DATA!$I:$I,'Cek Yasaklisi ( gerçek tekil )'!$C46),0) -> 4 | I46: =IFERROR(SUMIFS([1]DATA!$J:$J,[1]DATA!$G:$G,'Cek Yasaklisi ( gerçek tekil )'!I$2,[1]DATA!$H:$H,'Cek Yasaklisi ( gerçek tekil )'!$C$1,[1]DATA!$I:$I,'Cek Yasaklisi ( gerçek tekil )'!$C46),0) -> 2 | J46: =IFERROR(SUMIFS([1]DATA!$J:$J,[1]DATA!$G:$G,'Cek Yasaklisi ( gerçek tekil )'!J$2,[1]DATA!$H:$H,'Cek Yasaklisi ( gerçek tekil )'!$C$1,[1]DATA!$I:$I,'Cek Yasaklisi ( gerçek tekil )'!$C46),0) -> 2 | K46: =IFERROR(SUMIFS([1]DATA!$J:$J,[1]DATA!$G:$G,'Cek Yasaklisi ( gerçek tekil )'!K$2,[1]DATA!$H:$H,'Cek Yasaklisi ( gerçek tekil )'!$C$1,[1]DATA!$I:$I,'Cek Yasaklisi ( gerçek tekil )'!$C46),0) -> 1 | L46: =IFERROR(SUMIFS([1]DATA!$J:$J,[1]DATA!$G:$G,'Cek Yasaklisi ( gerçek tekil )'!L$2,[1]DATA!$H:$H,'Cek Yasaklisi ( gerçek tekil )'!$C$1,[1]DATA!$I:$I,'Cek Yasaklisi ( gerçek tekil )'!$C46),0) -> 1 | M46: =IFERROR(SUMIFS([1]DATA!$J:$J,[1]DATA!$G:$G,'Cek Yasaklisi ( gerçek tekil )'!M$2,[1]DATA!$H:$H,'Cek Yasaklisi ( gerçek tekil )'!$C$1,[1]DATA!$I:$I,'Cek Yasaklisi ( gerçek tekil )'!$C46),0) -> 7 | Q46: =IFERROR(SUMIFS([1]DATA!$X:$X,[1]DATA!$V:$V,'Cek Yasaklisi ( gerçek tekil )'!$C$1,[1]DATA!$W:$W,'Cek Yasaklisi ( gerçek tekil )'!$C46,[1]DATA!$U:$U,'Cek Yasaklisi ( gerçek tekil )'!$C$2),0) -> 23
C47: 50 | D47: Nevşehir | E47: =IFERROR(SUMIFS([1]DATA!$J:$J,[1]DATA!$G:$G,'Cek Yasaklisi ( gerçek tekil )'!E$2,[1]DATA!$H:$H,'Cek Yasaklisi ( gerçek tekil )'!$C$1,[1]DATA!$I:$I,'Cek Yasaklisi ( gerçek tekil )'!$C47),0) -> 4 | F47: =IFERROR(SUMIFS([1]DATA!$J:$J,[1]DATA!$G:$G,'Cek Yasaklisi ( gerçek tekil )'!F$2,[1]DATA!$H:$H,'Cek Yasaklisi ( gerçek tekil )'!$C$1,[1]DATA!$I:$I,'Cek Yasaklisi ( gerçek tekil )'!$C47),0) -> 7 | G47: =IFERROR(SUMIFS([1]DATA!$J:$J,[1]DATA!$G:$G,'Cek Yasaklisi ( gerçek tekil )'!G$2,[1]DATA!$H:$H,'Cek Yasaklisi ( gerçek tekil )'!$C$1,[1]DATA!$I:$I,'Cek Yasaklisi ( gerçek tekil )'!$C47),0) -> 8 | H47: =IFERROR(SUMIFS([1]DATA!$J:$J,[1]DATA!$G:$G,'Cek Yasaklisi ( gerçek tekil )'!H$2,[1]DATA!$H:$H,'Cek Yasaklisi ( gerçek tekil )'!$C$1,[1]DATA!$I:$I,'Cek Yasaklisi ( gerçek tekil )'!$C47),0) -> 8 | I47: =IFERROR(SUMIFS([1]DATA!$J:$J,[1]DATA!$G:$G,'Cek Yasaklisi ( gerçek tekil )'!I$2,[1]DATA!$H:$H,'Cek Yasaklisi ( gerçek tekil )'!$C$1,[1]DATA!$I:$I,'Cek Yasaklisi ( gerçek tekil )'!$C47),0) -> 17 | J47: =IFERROR(SUMIFS([1]DATA!$J:$J,[1]DATA!$G:$G,'Cek Yasaklisi ( gerçek tekil )'!J$2,[1]DATA!$H:$H,'Cek Yasaklisi ( gerçek tekil )'!$C$1,[1]DATA!$I:$I,'Cek Yasaklisi ( gerçek tekil )'!$C47),0) -> 16 | K47: =IFERROR(SUMIFS([1]DATA!$J:$J,[1]DATA!$G:$G,'Cek Yasaklisi ( gerçek tekil )'!K$2,[1]DATA!$H:$H,'Cek Yasaklisi ( gerçek tekil )'!$C$1,[1]DATA!$I:$I,'Cek Yasaklisi ( gerçek tekil )'!$C47),0) -> 8 | L47: =IFERROR(SUMIFS([1]DATA!$J:$J,[1]DATA!$G:$G,'Cek Yasaklisi ( gerçek tekil )'!L$2,[1]DATA!$H:$H,'Cek Yasaklisi ( gerçek tekil )'!$C$1,[1]DATA!$I:$I,'Cek Yasaklisi ( gerçek tekil )'!$C47),0) -> 3 | M47: =IFERROR(SUMIFS([1]DATA!$J:$J,[1]DATA!$G:$G,'Cek Yasaklisi ( gerçek tekil )'!M$2,[1]DATA!$H:$H,'Cek Yasaklisi ( gerçek tekil )'!$C$1,[1]DATA!$I:$I,'Cek Yasaklisi ( gerçek tekil )'!$C47),0) -> 12 | Q47: =IFERROR(SUMIFS([1]DATA!$X:$X,[1]DATA!$V:$V,'Cek Yasaklisi ( gerçek tekil )'!$C$1,[1]DATA!$W:$W,'Cek Yasaklisi ( gerçek tekil )'!$C47,[1]DATA!$U:$U,'Cek Yasaklisi ( gerçek tekil )'!$C$2),0) -> 68
C48: 51 | D48: Niğde | E48: =IFERROR(SUMIFS([1]DATA!$J:$J,[1]DATA!$G:$G,'Cek Yasaklisi ( gerçek tekil )'!E$2,[1]DATA!$H:$H,'Cek Yasaklisi ( gerçek tekil )'!$C$1,[1]DATA!$I:$I,'Cek Yasaklisi ( gerçek tekil )'!$C48),0) -> 22 | F48: =IFERROR(SUMIFS([1]DATA!$J:$J,[1]DATA!$G:$G,'Cek Yasaklisi ( gerçek tekil )'!F$2,[1]DATA!$H:$H,'Cek Yasaklisi ( gerçek tekil )'!$C$1,[1]DATA!$I:$I,'Cek Yasaklisi ( gerçek tekil )'!$C48),0) -> 23 | G48: =IFERROR(SUMIFS([1]DATA!$J:$J,[1]DATA!$G:$G,'Cek Yasaklisi ( gerçek tekil )'!G$2,[1]DATA!$H:$H,'Cek Yasaklisi ( gerçek tekil )'!$C$1,[1]DATA!$I:$I,'Cek Yasaklisi ( gerçek tekil )'!$C48),0) -> 13 | H48: =IFERROR(SUMIFS([1]DATA!$J:$J,[1]DATA!$G:$G,'Cek Yasaklisi ( gerçek tekil )'!H$2,[1]DATA!$H:$H,'Cek Yasaklisi ( gerçek tekil )'!$C$1,[1]DATA!$I:$I,'Cek Yasaklisi ( gerçek tekil )'!$C48),0) -> 23 | I48: =IFERROR(SUMIFS([1]DATA!$J:$J,[1]DATA!$G:$G,'Cek Yasaklisi ( gerçek tekil )'!I$2,[1]DATA!$H:$H,'Cek Yasaklisi ( gerçek tekil )'!$C$1,[1]DATA!$I:$I,'Cek Yasaklisi ( gerçek tekil )'!$C48),0) -> 18 | J48: =IFERROR(SUMIFS([1]DATA!$J:$J,[1]DATA!$G:$G,'Cek Yasaklisi ( gerçek tekil )'!J$2,[1]DATA!$H:$H,'Cek Yasaklisi ( gerçek tekil )'!$C$1,[1]DATA!$I:$I,'Cek Yasaklisi ( gerçek tekil )'!$C48),0) -> 24 | K48: =IFERROR(SUMIFS([1]DATA!$J:$J,[1]DATA!$G:$G,'Cek Yasaklisi ( gerçek tekil )'!K$2,[1]DATA!$H:$H,'Cek Yasaklisi ( gerçek tekil )'!$C$1,[1]DATA!$I:$I,'Cek Yasaklisi ( gerçek tekil )'!$C48),0) -> 23 | L48: =IFERROR(SUMIFS([1]DATA!$J:$J,[1]DATA!$G:$G,'Cek Yasaklisi ( gerçek tekil )'!L$2,[1]DATA!$H:$H,'Cek Yasaklisi ( gerçek tekil )'!$C$1,[1]DATA!$I:$I,'Cek Yasaklisi ( gerçek tekil )'!$C48),0) -> 11 | M48: =IFERROR(SUMIFS([1]DATA!$J:$J,[1]DATA!$G:$G,'Cek Yasaklisi ( gerçek tekil )'!M$2,[1]DATA!$H:$H,'Cek Yasaklisi ( gerçek tekil )'!$C$1,[1]DATA!$I:$I,'Cek Yasaklisi ( gerçek tekil )'!$C48),0) -> 10 | Q48: =IFERROR(SUMIFS([1]DATA!$X:$X,[1]DATA!$V:$V,'Cek Yasaklisi ( gerçek tekil )'!$C$1,[1]DATA!$W:$W,'Cek Yasaklisi ( gerçek tekil )'!$C48,[1]DATA!$U:$U,'Cek Yasaklisi ( gerçek tekil )'!$C$2),0) -> 125
C49: 58 | D49: Sivas | E49: =IFERROR(SUMIFS([1]DATA!$J:$J,[1]DATA!$G:$G,'Cek Yasaklisi ( gerçek tekil )'!E$2,[1]DATA!$H:$H,'Cek Yasaklisi ( gerçek tekil )'!$C$1,[1]DATA!$I:$I,'Cek Yasaklisi ( gerçek tekil )'!$C49),0) -> 16 | F49: =IFERROR(SUMIFS([1]DATA!$J:$J,[1]DATA!$G:$G,'Cek Yasaklisi ( gerçek tekil )'!F$2,[1]DATA!$H:$H,'Cek Yasaklisi ( gerçek tekil )'!$C$1,[1]DATA!$I:$I,'Cek Yasaklisi ( gerçek tekil )'!$C49),0) -> 18 | G49: =IFERROR(SUMIFS([1]DATA!$J:$J,[1]DATA!$G:$G,'Cek Yasaklisi ( gerçek tekil )'!G$2,[1]DATA!$H:$H,'Cek Yasaklisi ( gerçek tekil )'!$C$1,[1]DATA!$I:$I,'Cek Yasaklisi ( gerçek tekil )'!$C49),0) -> 8 | H49: =IFERROR(SUMIFS([1]DATA!$J:$J,[1]DATA!$G:$G,'Cek Yasaklisi ( gerçek tekil )'!H$2,[1]DATA!$H:$H,'Cek Yasaklisi ( gerçek tekil )'!$C$1,[1]DATA!$I:$I,'Cek Yasaklisi ( gerçek tekil )'!$C49),0) -> 14 | I49: =IFERROR(SUMIFS([1]DATA!$J:$J,[1]DATA!$G:$G,'Cek Yasaklisi ( gerçek tekil )'!I$2,[1]DATA!$H:$H,'Cek Yasaklisi ( gerçek tekil )'!$C$1,[1]DATA!$I:$I,'Cek Yasaklisi ( gerçek tekil )'!$C49),0) -> 23 | J49: =IFERROR(SUMIFS([1]DATA!$J:$J,[1]DATA!$G:$G,'Cek Yasaklisi ( gerçek tekil )'!J$2,[1]DATA!$H:$H,'Cek Yasaklisi ( gerçek tekil )'!$C$1,[1]DATA!$I:$I,'Cek Yasaklisi ( gerçek tekil )'!$C49),0) -> 12 | K49: =IFERROR(SUMIFS([1]DATA!$J:$J,[1]DATA!$G:$G,'Cek Yasaklisi ( gerçek tekil )'!K$2,[1]DATA!$H:$H,'Cek Yasaklisi ( gerçek tekil )'!$C$1,[1]DATA!$I:$I,'Cek Yasaklisi ( gerçek tekil )'!$C49),0) -> 13 | L49: =IFERROR(SUMIFS([1]DATA!$J:$J,[1]DATA!$G:$G,'Cek Yasaklisi ( gerçek tekil )'!L$2,[1]DATA!$H:$H,'Cek Yasaklisi ( gerçek tekil )'!$C$1,[1]DATA!$I:$I,'Cek Yasaklisi ( gerçek tekil )'!$C49),0) -> 0 | M49: =IFERROR(SUMIFS([1]DATA!$J:$J,[1]DATA!$G:$G,'Cek Yasaklisi ( gerçek tekil )'!M$2,[1]DATA!$H:$H,'Cek Yasaklisi ( gerçek tekil )'!$C$1,[1]DATA!$I:$I,'Cek Yasaklisi ( gerçek tekil )'!$C49),0) -> 4 | Q49: =IFERROR(SUMIFS([1]DATA!$X:$X,[1]DATA!$V:$V,'Cek Yasaklisi ( gerçek tekil )'!$C$1,[1]DATA!$W:$W,'Cek Yasaklisi ( gerçek tekil )'!$C49,[1]DATA!$U:$U,'Cek Yasaklisi ( gerçek tekil )'!$C$2),0) -> 75
C50: 66 | D50: Yozgat | E50: =IFERROR(SUMIFS([1]DATA!$J:$J,[1]DATA!$G:$G,'Cek Yasaklisi ( gerçek tekil )'!E$2,[1]DATA!$H:$H,'Cek Yasaklisi ( gerçek tekil )'!$C$1,[1]DATA!$I:$I,'Cek Yasaklisi ( gerçek tekil )'!$C50),0) -> 3 | F50: =IFERROR(SUMIFS([1]DATA!$J:$J,[1]DATA!$G:$G,'Cek Yasaklisi ( gerçek tekil )'!F$2,[1]DATA!$H:$H,'Cek Yasaklisi ( gerçek tekil )'!$C$1,[1]DATA!$I:$I,'Cek Yasaklisi ( gerçek tekil )'!$C50),0) -> 7 | G50: =IFERROR(SUMIFS([1]DATA!$J:$J,[1]DATA!$G:$G,'Cek Yasaklisi ( gerçek tekil )'!G$2,[1]DATA!$H:$H,'Cek Yasaklisi ( gerçek tekil )'!$C$1,[1]DATA!$I:$I,'Cek Yasaklisi ( gerçek tekil )'!$C50),0) -> 1 | H50: =IFERROR(SUMIFS([1]DATA!$J:$J,[1]DATA!$G:$G,'Cek Yasaklisi ( gerçek tekil )'!H$2,[1]DATA!$H:$H,'Cek Yasaklisi ( gerçek tekil )'!$C$1,[1]DATA!$I:$I,'Cek Yasaklisi ( gerçek tekil )'!$C50),0) -> 5 | I50: =IFERROR(SUMIFS([1]DATA!$J:$J,[1]DATA!$G:$G,'Cek Yasaklisi ( gerçek tekil )'!I$2,[1]DATA!$H:$H,'Cek Yasaklisi ( gerçek tekil )'!$C$1,[1]DATA!$I:$I,'Cek Yasaklisi ( gerçek tekil )'!$C50),0) -> 1 | J50: =IFERROR(SUMIFS([1]DATA!$J:$J,[1]DATA!$G:$G,'Cek Yasaklisi ( gerçek tekil )'!J$2,[1]DATA!$H:$H,'Cek Yasaklisi ( gerçek tekil )'!$C$1,[1]DATA!$I:$I,'Cek Yasaklisi ( gerçek tekil )'!$C50),0) -> 5 | K50: =IFERROR(SUMIFS([1]DATA!$J:$J,[1]DATA!$G:$G,'Cek Yasaklisi ( gerçek tekil )'!K$2,[1]DATA!$H:$H,'Cek Yasaklisi ( gerçek tekil )'!$C$1,[1]DATA!$I:$I,'Cek Yasaklisi ( gerçek tekil )'!$C50),0) -> 2 | L50: =IFERROR(SUMIFS([1]DATA!$J:$J,[1]DATA!$G:$G,'Cek Yasaklisi ( gerçek tekil )'!L$2,[1]DATA!$H:$H,'Cek Yasaklisi ( gerçek tekil )'!$C$1,[1]DATA!$I:$I,'Cek Yasaklisi ( gerçek tekil )'!$C50),0) -> 1 | M50: =IFERROR(SUMIFS([1]DATA!$J:$J,[1]DATA!$G:$G,'Cek Yasaklisi ( gerçek tekil )'!M$2,[1]DATA!$H:$H,'Cek Yasaklisi ( gerçek tekil )'!$C$1,[1]DATA!$I:$I,'Cek Yasaklisi ( gerçek tekil )'!$C50),0) -> 7 | Q50: =IFERROR(SUMIFS([1]DATA!$X:$X,[1]DATA!$V:$V,'Cek Yasaklisi ( gerçek tekil )'!$C$1,[1]DATA!$W:$W,'Cek Yasaklisi ( gerçek tekil )'!$C50,[1]DATA!$U:$U,'Cek Yasaklisi ( gerçek tekil )'!$C$2),0) -> 25
C51: Bati Karadeniz | D51: Batı Karadeniz | E51: =IFERROR(SUMIFS([1]DATA!$Q:$Q,[1]DATA!$N:$N,'Cek Yasaklisi ( gerçek tekil )'!E$2,[1]DATA!$O:$O,'Cek Yasaklisi ( gerçek tekil )'!$C$1,[1]DATA!$P:$P,'Cek Yasaklisi ( gerçek tekil )'!$C51),0) -> 82 | F51: =IFERROR(SUMIFS([1]DATA!$Q:$Q,[1]DATA!$N:$N,'Cek Yasaklisi ( gerçek tekil )'!F$2,[1]DATA!$O:$O,'Cek Yasaklisi ( gerçek tekil )'!$C$1,[1]DATA!$P:$P,'Cek Yasaklisi ( gerçek tekil )'!$C51),0) -> 79 | G51: =IFERROR(SUMIFS([1]DATA!$Q:$Q,[1]DATA!$N:$N,'Cek Yasaklisi ( gerçek tekil )'!G$2,[1]DATA!$O:$O,'Cek Yasaklisi ( gerçek tekil )'!$C$1,[1]DATA!$P:$P,'Cek Yasaklisi ( gerçek tekil )'!$C51),0) -> 77 | H51: =IFERROR(SUMIFS([1]DATA!$Q:$Q,[1]DATA!$N:$N,'Cek Yasaklisi ( gerçek tekil )'!H$2,[1]DATA!$O:$O,'Cek Yasaklisi ( gerçek tekil )'!$C$1,[1]DATA!$P:$P,'Cek Yasaklisi ( gerçek tekil )'!$C51),0) -> 104 | I51: =IFERROR(SUMIFS([1]DATA!$Q:$Q,[1]DATA!$N:$N,'Cek Yasaklisi ( gerçek tekil )'!I$2,[1]DATA!$O:$O,'Cek Yasaklisi ( gerçek tekil )'!$C$1,[1]DATA!$P:$P,'Cek Yasaklisi ( gerçek tekil )'!$C51),0) -> 75 | J51: =IFERROR(SUMIFS([1]DATA!$Q:$Q,[1]DATA!$N:$N,'Cek Yasaklisi ( gerçek tekil )'!J$2,[1]DATA!$O:$O,'Cek Yasaklisi ( gerçek tekil )'!$C$1,[1]DATA!$P:$P,'Cek Yasaklisi ( gerçek tekil )'!$C51),0) -> 106 | K51: =IFERROR(SUMIFS([1]DATA!$Q:$Q,[1]DATA!$N:$N,'Cek Yasaklisi ( gerçek tekil )'!K$2,[1]DATA!$O:$O,'Cek Yasaklisi ( gerçek tekil )'!$C$1,[1]DATA!$P:$P,'Cek Yasaklisi ( gerçek tekil )'!$C51),0) -> 106 | L51: =IFERROR(SUMIFS([1]DATA!$Q:$Q,[1]DATA!$N:$N,'Cek Yasaklisi ( gerçek tekil )'!L$2,[1]DATA!$O:$O,'Cek Yasaklisi ( gerçek tekil )'!$C$1,[1]DATA!$P:$P,'Cek Yasaklisi ( gerçek tekil )'!$C51),0) -> 78 | M51: =IFERROR(SUMIFS([1]DATA!$Q:$Q,[1]DATA!$N:$N,'Cek Yasaklisi ( gerçek tekil )'!M$2,[1]DATA!$O:$O,'Cek Yasaklisi ( gerçek tekil )'!$C$1,[1]DATA!$P:$P,'Cek Yasaklisi ( gerçek tekil )'!$C51),0) -> 111 | Q51: =IFERROR(SUMIFS([1]DATA!$AE:$AE,[1]DATA!$AC:$AC,'Cek Yasaklisi ( gerçek tekil )'!$C$1,[1]DATA!$AD:$AD,'Cek Yasaklisi ( gerçek tekil )'!$C51,[1]DATA!$AB:$AB,'Cek Yasaklisi ( gerçek tekil )'!$C$2),0) -> 563
C52: 5 | D52: Amasya | E52: =IFERROR(SUMIFS([1]DATA!$J:$J,[1]DATA!$G:$G,'Cek Yasaklisi ( gerçek tekil )'!E$2,[1]DATA!$H:$H,'Cek Yasaklisi ( gerçek tekil )'!$C$1,[1]DATA!$I:$I,'Cek Yasaklisi ( gerçek tekil )'!$C52),0) -> 13 | F52: =IFERROR(SUMIFS([1]DATA!$J:$J,[1]DATA!$G:$G,'Cek Yasaklisi ( gerçek tekil )'!F$2,[1]DATA!$H:$H,'Cek Yasaklisi ( gerçek tekil )'!$C$1,[1]DATA!$I:$I,'Cek Yasaklisi ( gerçek tekil )'!$C52),0) -> 7 | G52: =IFERROR(SUMIFS([1]DATA!$J:$J,[1]DATA!$G:$G,'Cek Yasaklisi ( gerçek tekil )'!G$2,[1]DATA!$H:$H,'Cek Yasaklisi ( gerçek tekil )'!$C$1,[1]DATA!$I:$I,'Cek Yasaklisi ( gerçek tekil )'!$C52),0) -> 6 | H52: =IFERROR(SUMIFS([1]DATA!$J:$J,[1]DATA!$G:$G,'Cek Yasaklisi ( gerçek tekil )'!H$2,[1]DATA!$H:$H,'Cek Yasaklisi ( gerçek tekil )'!$C$1,[1]DATA!$I:$I,'Cek Yasaklisi ( gerçek tekil )'!$C52),0) -> 7 | I52: =IFERROR(SUMIFS([1]DATA!$J:$J,[1]DATA!$G:$G,'Cek Yasaklisi ( gerçek tekil )'!I$2,[1]DATA!$H:$H,'Cek Yasaklisi ( gerçek tekil )'!$C$1,[1]DATA!$I:$I,'Cek Yasaklisi ( gerçek tekil )'!$C52),0) -> 3 | J52: =IFERROR(SUMIFS([1]DATA!$J:$J,[1]DATA!$G:$G,'Cek Yasaklisi ( gerçek tekil )'!J$2,[1]DATA!$H:$H,'Cek Yasaklisi ( gerçek tekil )'!$C$1,[1]DATA!$I:$I,'Cek Yasaklisi ( gerçek tekil )'!$C52),0) -> 8 | K52: =IFERROR(SUMIFS([1]DATA!$J:$J,[1]DATA!$G:$G,'Cek Yasaklisi ( gerçek tekil )'!K$2,[1]DATA!$H:$H,'Cek Yasaklisi ( gerçek tekil )'!$C$1,[1]DATA!$I:$I,'Cek Yasaklisi ( gerçek tekil )'!$C52),0) -> 9 | L52: =IFERROR(SUMIFS([1]DATA!$J:$J,[1]DATA!$G:$G,'Cek Yasaklisi ( gerçek tekil )'!L$2,[1]DATA!$H:$H,'Cek Yasaklisi ( gerçek tekil )'!$C$1,[1]DATA!$I:$I,'Cek Yasaklisi ( gerçek tekil )'!$C52),0) -> 0 | M52: =IFERROR(SUMIFS([1]DATA!$J:$J,[1]DATA!$G:$G,'Cek Yasaklisi ( gerçek tekil )'!M$2,[1]DATA!$H:$H,'Cek Yasaklisi ( gerçek tekil )'!$C$1,[1]DATA!$I:$I,'Cek Yasaklisi ( gerçek tekil )'!$C52),0) -> 12 | Q52: =IFERROR(SUMIFS([1]DATA!$X:$X,[1]DATA!$V:$V,'Cek Yasaklisi ( gerçek tekil )'!$C$1,[1]DATA!$W:$W,'Cek Yasaklisi ( gerçek tekil )'!$C52,[1]DATA!$U:$U,'Cek Yasaklisi ( gerçek tekil )'!$C$2),0) -> 58
C53: 74 | D53: Bartın | E53: =IFERROR(SUMIFS([1]DATA!$J:$J,[1]DATA!$G:$G,'Cek Yasaklisi ( gerçek tekil )'!E$2,[1]DATA!$H:$H,'Cek Yasaklisi ( gerçek tekil )'!$C$1,[1]DATA!$I:$I,'Cek Yasaklisi ( gerçek tekil )'!$C53),0) -> 0 | F53: =IFERROR(SUMIFS([1]DATA!$J:$J,[1]DATA!$G:$G,'Cek Yasaklisi ( gerçek tekil )'!F$2,[1]DATA!$H:$H,'Cek Yasaklisi ( gerçek tekil )'!$C$1,[1]DATA!$I:$I,'Cek Yasaklisi ( gerçek tekil )'!$C53),0) -> 5 | G53: =IFERROR(SUMIFS([1]DATA!$J:$J,[1]DATA!$G:$G,'Cek Yasaklisi ( gerçek tekil )'!G$2,[1]DATA!$H:$H,'Cek Yasaklisi ( gerçek tekil )'!$C$1,[1]DATA!$I:$I,'Cek Yasaklisi ( gerçek tekil )'!$C53),0) -> 6 | H53: =IFERROR(SUMIFS([1]DATA!$J:$J,[1]DATA!$G:$G,'Cek Yasaklisi ( gerçek tekil )'!H$2,[1]DATA!$H:$H,'Cek Yasaklisi ( gerçek tekil )'!$C$1,[1]DATA!$I:$I,'Cek Yasaklisi ( gerçek tekil )'!$C53),0) -> 0 | I53: =IFERROR(SUMIFS([1]DATA!$J:$J,[1]DATA!$G:$G,'Cek Yasaklisi ( gerçek tekil )'!I$2,[1]DATA!$H:$H,'Cek Yasaklisi ( gerçek tekil )'!$C$1,[1]DATA!$I:$I,'Cek Yasaklisi ( gerçek tekil )'!$C53),0) -> 3 | J53: =IFERROR(SUMIFS([1]DATA!$J:$J,[1]DATA!$G:$G,'Cek Yasaklisi ( gerçek tekil )'!J$2,[1]DATA!$H:$H,'Cek Yasaklisi ( gerçek tekil )'!$C$1,[1]DATA!$I:$I,'Cek Yasaklisi ( gerçek tekil )'!$C53),0) -> 2 | K53: =IFERROR(SUMIFS([1]DATA!$J:$J,[1]DATA!$G:$G,'Cek Yasaklisi ( gerçek tekil )'!K$2,[1]DATA!$H:$H,'Cek Yasaklisi ( gerçek tekil )'!$C$1,[1]DATA!$I:$I,'Cek Yasaklisi ( gerçek tekil )'!$C53),0) -> 1 | L53: =IFERROR(SUMIFS([1]DATA!$J:$J,[1]DATA!$G:$G,'Cek Yasaklisi ( gerçek tekil )'!L$2,[1]DATA!$H:$H,'Cek Yasaklisi ( gerçek tekil )'!$C$1,[1]DATA!$I:$I,'Cek Yasaklisi ( gerçek tekil )'!$C53),0) -> 0 | M53: =IFERROR(SUMIFS([1]DATA!$J:$J,[1]DATA!$G:$G,'Cek Yasaklisi ( gerçek tekil )'!M$2,[1]DATA!$H:$H,'Cek Yasaklisi ( gerçek tekil )'!$C$1,[1]DATA!$I:$I,'Cek Yasaklisi ( gerçek tekil )'!$C53),0) -> 2 | Q53: =IFERROR(SUMIFS([1]DATA!$X:$X,[1]DATA!$V:$V,'Cek Yasaklisi ( gerçek tekil )'!$C$1,[1]DATA!$W:$W,'Cek Yasaklisi ( gerçek tekil )'!$C53,[1]DATA!$U:$U,'Cek Yasaklisi ( gerçek tekil )'!$C$2),0) -> 11
C54: 18 | D54: Çankırı | E54: =IFERROR(SUMIFS([1]DATA!$J:$J,[1]DATA!$G:$G,'Cek Yasaklisi ( gerçek tekil )'!E$2,[1]DATA!$H:$H,'Cek Yasaklisi ( gerçek tekil )'!$C$1,[1]DATA!$I:$I,'Cek Yasaklisi ( gerçek tekil )'!$C54),0) -> 1 | F54: =IFERROR(SUMIFS([1]DATA!$J:$J,[1]DATA!$G:$G,'Cek Yasaklisi ( gerçek tekil )'!F$2,[1]DATA!$H:$H,'Cek Yasaklisi ( gerçek tekil )'!$C$1,[1]DATA!$I:$I,'Cek Yasaklisi ( gerçek tekil )'!$C54),0) -> 5 | G54: =IFERROR(SUMIFS([1]DATA!$J:$J,[1]DATA!$G:$G,'Cek Yasaklisi ( gerçek tekil )'!G$2,[1]DATA!$H:$H,'Cek Yasaklisi ( gerçek tekil )'!$C$1,[1]DATA!$I:$I,'Cek Yasaklisi ( gerçek tekil )'!$C54),0) -> 3 | H54: =IFERROR(SUMIFS([1]DATA!$J:$J,[1]DATA!$G:$G,'Cek Yasaklisi ( gerçek tekil )'!H$2,[1]DATA!$H:$H,'Cek Yasaklisi ( gerçek tekil )'!$C$1,[1]DATA!$I:$I,'Cek Yasaklisi ( gerçek tekil )'!$C54),0) -> 0 | I54: =IFERROR(SUMIFS([1]DATA!$J:$J,[1]DATA!$G:$G,'Cek Yasaklisi ( gerçek tekil )'!I$2,[1]DATA!$H:$H,'Cek Yasaklisi ( gerçek tekil )'!$C$1,[1]DATA!$I:$I,'Cek Yasaklisi ( gerçek tekil )'!$C54),0) -> 8 | J54: =IFERROR(SUMIFS([1]DATA!$J:$J,[1]DATA!$G:$G,'Cek Yasaklisi ( gerçek tekil )'!J$2,[1]DATA!$H:$H,'Cek Yasaklisi ( gerçek tekil )'!$C$1,[1]DATA!$I:$I,'Cek Yasaklisi ( gerçek tekil )'!$C54),0) -> 2 | K54: =IFERROR(SUMIFS([1]DATA!$J:$J,[1]DATA!$G:$G,'Cek Yasaklisi ( gerçek tekil )'!K$2,[1]DATA!$H:$H,'Cek Yasaklisi ( gerçek tekil )'!$C$1,[1]DATA!$I:$I,'Cek Yasaklisi ( gerçek tekil )'!$C54),0) -> 2 | L54: =IFERROR(SUMIFS([1]DATA!$J:$J,[1]DATA!$G:$G,'Cek Yasaklisi ( gerçek tekil )'!L$2,[1]DATA!$H:$H,'Cek Yasaklisi ( gerçek tekil )'!$C$1,[1]DATA!$I:$I,'Cek Yasaklisi ( gerçek tekil )'!$C54),0) -> 3 | M54: =IFERROR(SUMIFS([1]DATA!$J:$J,[1]DATA!$G:$G,'Cek Yasaklisi ( gerçek tekil )'!M$2,[1]DATA!$H:$H,'Cek Yasaklisi ( gerçek tekil )'!$C$1,[1]DATA!$I:$I,'Cek Yasaklisi ( gerçek tekil )'!$C54),0) -> 2 | Q54: =IFERROR(SUMIFS([1]DATA!$X:$X,[1]DATA!$V:$V,'Cek Yasaklisi ( gerçek tekil )'!$C$1,[1]DATA!$W:$W,'Cek Yasaklisi ( gerçek tekil )'!$C54,[1]DATA!$U:$U,'Cek Yasaklisi ( gerçek tekil )'!$C$2),0) -> 16
C55: 19 | D55: Çorum | E55: =IFERROR(SUMIFS([1]DATA!$J:$J,[1]DATA!$G:$G,'Cek Yasaklisi ( gerçek tekil )'!E$2,[1]DATA!$H:$H,'Cek Yasaklisi ( gerçek tekil )'!$C$1,[1]DATA!$I:$I,'Cek Yasaklisi ( gerçek tekil )'!$C55),0) -> 6 | F55: =IFERROR(SUMIFS([1]DATA!$J:$J,[1]DATA!$G:$G,'Cek Yasaklisi ( gerçek tekil )'!F$2,[1]DATA!$H:$H,'Cek Yasaklisi ( gerçek tekil )'!$C$1,[1]DATA!$I:$I,'Cek Yasaklisi ( gerçek tekil )'!$C55),0) -> 4 | G55: =IFERROR(SUMIFS([1]DATA!$J:$J,[1]DATA!$G:$G,'Cek Yasaklisi ( gerçek tekil )'!G$2,[1]DATA!$H:$H,'Cek Yasaklisi ( gerçek tekil )'!$C$1,[1]DATA!$I:$I,'Cek Yasaklisi ( gerçek tekil )'!$C55),0) -> 9 | H55: =IFERROR(SUMIFS([1]DATA!$J:$J,[1]DATA!$G:$G,'Cek Yasaklisi ( gerçek tekil )'!H$2,[1]DATA!$H:$H,'Cek Yasaklisi ( gerçek tekil )'!$C$1,[1]DATA!$I:$I,'Cek Yasaklisi ( gerçek tekil )'!$C55),0) -> 7 | I55: =IFERROR(SUMIFS([1]DATA!$J:$J,[1]DATA!$G:$G,'Cek Yasaklisi ( gerçek tekil )'!I$2,[1]DATA!$H:$H,'Cek Yasaklisi ( gerçek tekil )'!$C$1,[1]DATA!$I:$I,'Cek Yasaklisi ( gerçek tekil )'!$C55),0) -> 8 | J55: =IFERROR(SUMIFS([1]DATA!$J:$J,[1]DATA!$G:$G,'Cek Yasaklisi ( gerçek tekil )'!J$2,[1]DATA!$H:$H,'Cek Yasaklisi ( gerçek tekil )'!$C$1,[1]DATA!$I:$I,'Cek Yasaklisi ( gerçek tekil )'!$C55),0) -> 8 | K55: =IFERROR(SUMIFS([1]DATA!$J:$J,[1]DATA!$G:$G,'Cek Yasaklisi ( gerçek tekil )'!K$2,[1]DATA!$H:$H,'Cek Yasaklisi ( gerçek tekil )'!$C$1,[1]DATA!$I:$I,'Cek Yasaklisi ( gerçek tekil )'!$C55),0) -> 7 | L55: =IFERROR(SUMIFS([1]DATA!$J:$J,[1]DATA!$G:$G,'Cek Yasaklisi ( gerçek tekil )'!L$2,[1]DATA!$H:$H,'Cek Yasaklisi ( gerçek tekil )'!$C$1,[1]DATA!$I:$I,'Cek Yasaklisi ( gerçek tekil )'!$C55),0) -> 1 | M55: =IFERROR(SUMIFS([1]DATA!$J:$J,[1]DATA!$G:$G,'Cek Yasaklisi ( gerçek tekil )'!M$2,[1]DATA!$H:$H,'Cek Yasaklisi ( gerçek tekil )'!$C$1,[1]DATA!$I:$I,'Cek Yasaklisi ( gerçek tekil )'!$C55),0) -> 4 | Q55: =IFERROR(SUMIFS([1]DATA!$X:$X,[1]DATA!$V:$V,'Cek Yasaklisi ( gerçek tekil )'!$C$1,[1]DATA!$W:$W,'Cek Yasaklisi ( gerçek tekil )'!$C55,[1]DATA!$U:$U,'Cek Yasaklisi ( gerçek tekil )'!$C$2),0) -> 38
C56: 78 | D56: Karabük | E56: =IFERROR(SUMIFS([1]DATA!$J:$J,[1]DATA!$G:$G,'Cek Yasaklisi ( gerçek tekil )'!E$2,[1]DATA!$H:$H,'Cek Yasaklisi ( gerçek tekil )'!$C$1,[1]DATA!$I:$I,'Cek Yasaklisi ( gerçek tekil )'!$C56),0) -> 5 | F56: =IFERROR(SUMIFS([1]DATA!$J:$J,[1]DATA!$G:$G,'Cek Yasaklisi ( gerçek tekil )'!F$2,[1]DATA!$H:$H,'Cek Yasaklisi ( gerçek tekil )'!$C$1,[1]DATA!$I:$I,'Cek Yasaklisi ( gerçek tekil )'!$C56),0) -> 4 | G56: =IFERROR(SUMIFS([1]DATA!$J:$J,[1]DATA!$G:$G,'Cek Yasaklisi ( gerçek tekil )'!G$2,[1]DATA!$H:$H,'Cek Yasaklisi ( gerçek tekil )'!$C$1,[1]DATA!$I:$I,'Cek Yasaklisi ( gerçek tekil )'!$C56),0) -> 5 | H56: =IFERROR(SUMIFS([1]DATA!$J:$J,[1]DATA!$G:$G,'Cek Yasaklisi ( gerçek tekil )'!H$2,[1]DATA!$H:$H,'Cek Yasaklisi ( gerçek tekil )'!$C$1,[1]DATA!$I:$I,'Cek Yasaklisi ( gerçek tekil )'!$C56),0) -> 5 | I56: =IFERROR(SUMIFS([1]DATA!$J:$J,[1]DATA!$G:$G,'Cek Yasaklisi ( gerçek tekil )'!I$2,[1]DATA!$H:$H,'Cek Yasaklisi ( gerçek tekil )'!$C$1,[1]DATA!$I:$I,'Cek Yasaklisi ( gerçek tekil )'!$C56),0) -> 8 | J56: =IFERROR(SUMIFS([1]DATA!$J:$J,[1]DATA!$G:$G,'Cek Yasaklisi ( gerçek tekil )'!J$2,[1]DATA!$H:$H,'Cek Yasaklisi ( gerçek tekil )'!$C$1,[1]DATA!$I:$I,'Cek Yasaklisi ( gerçek tekil )'!$C56),0) -> 4 | K56: =IFERROR(SUMIFS([1]DATA!$J:$J,[1]DATA!$G:$G,'Cek Yasaklisi ( gerçek tekil )'!K$2,[1]DATA!$H:$H,'Cek Yasaklisi ( gerçek tekil )'!$C$1,[1]DATA!$I:$I,'Cek Yasaklisi ( gerçek tekil )'!$C56),0) -> 11 | L56: =IFERROR(SUMIFS([1]DATA!$J:$J,[1]DATA!$G:$G,'Cek Yasaklisi ( gerçek tekil )'!L$2,[1]DATA!$H:$H,'Cek Yasaklisi ( gerçek tekil )'!$C$1,[1]DATA!$I:$I,'Cek Yasaklisi ( gerçek tekil )'!$C56),0) -> 5 | M56: =IFERROR(SUMIFS([1]DATA!$J:$J,[1]DATA!$G:$G,'Cek Yasaklisi ( gerçek tekil )'!M$2,[1]DATA!$H:$H,'Cek Yasaklisi ( gerçek tekil )'!$C$1,[1]DATA!$I:$I,'Cek Yasaklisi ( gerçek tekil )'!$C56),0) -> 6 | Q56: =IFERROR(SUMIFS([1]DATA!$X:$X,[1]DATA!$V:$V,'Cek Yasaklisi ( gerçek tekil )'!$C$1,[1]DATA!$W:$W,'Cek Yasaklisi ( gerçek tekil )'!$C56,[1]DATA!$U:$U,'Cek Yasaklisi ( gerçek tekil )'!$C$2),0) -> 41
C57: 37 | D57: Kastamonu | E57: =IFERROR(SUMIFS([1]DATA!$J:$J,[1]DATA!$G:$G,'Cek Yasaklisi ( gerçek tekil )'!E$2,[1]DATA!$H:$H,'Cek Yasaklisi ( gerçek tekil )'!$C$1,[1]DATA!$I:$I,'Cek Yasaklisi ( gerçek tekil )'!$C57),0) -> 3 | F57: =IFERROR(SUMIFS([1]DATA!$J:$J,[1]DATA!$G:$G,'Cek Yasaklisi ( gerçek tekil )'!F$2,[1]DATA!$H:$H,'Cek Yasaklisi ( gerçek tekil )'!$C$1,[1]DATA!$I:$I,'Cek Yasaklisi ( gerçek tekil )'!$C57),0) -> 7 | G57: =IFERROR(SUMIFS([1]DATA!$J:$J,[1]DATA!$G:$G,'Cek Yasaklisi ( gerçek tekil )'!G$2,[1]DATA!$H:$H,'Cek Yasaklisi ( gerçek tekil )'!$C$1,[1]DATA!$I:$I,'Cek Yasaklisi ( gerçek tekil )'!$C57),0) -> 7 | H57: =IFERROR(SUMIFS([1]DATA!$J:$J,[1]DATA!$G:$G,'Cek Yasaklisi ( gerçek tekil )'!H$2,[1]DATA!$H:$H,'Cek Yasaklisi ( gerçek tekil )'!$C$1,[1]DATA!$I:$I,'Cek Yasaklisi ( gerçek tekil )'!$C57),0) -> 5 | I57: =IFERROR(SUMIFS([1]DATA!$J:$J,[1]DATA!$G:$G,'Cek Yasaklisi ( gerçek tekil )'!I$2,[1]DATA!$H:$H,'Cek Yasaklisi ( gerçek tekil )'!$C$1,[1]DATA!$I:$I,'Cek Yasaklisi ( gerçek tekil )'!$C57),0) -> 2 | J57: =IFERROR(SUMIFS([1]DATA!$J:$J,[1]DATA!$G:$G,'Cek Yasaklisi ( gerçek tekil )'!J$2,[1]DATA!$H:$H,'Cek Yasaklisi ( gerçek tekil )'!$C$1,[1]DATA!$I:$I,'Cek Yasaklisi ( gerçek tekil )'!$C57),0) -> 6 | K57: =IFERROR(SUMIFS([1]DATA!$J:$J,[1]DATA!$G:$G,'Cek Yasaklisi ( gerçek tekil )'!K$2,[1]DATA!$H:$H,'Cek Yasaklisi ( gerçek tekil )'!$C$1,[1]DATA!$I:$I,'Cek Yasaklisi ( gerçek tekil )'!$C57),0) -> 9 | L57: =IFERROR(SUMIFS([1]DATA!$J:$J,[1]DATA!$G:$G,'Cek Yasaklisi ( gerçek tekil )'!L$2,[1]DATA!$H:$H,'Cek Yasaklisi ( gerçek tekil )'!$C$1,[1]DATA!$I:$I,'Cek Yasaklisi ( gerçek tekil )'!$C57),0) -> 1 | M57: =IFERROR(SUMIFS([1]DATA!$J:$J,[1]DATA!$G:$G,'Cek Yasaklisi ( gerçek tekil )'!M$2,[1]DATA!$H:$H,'Cek Yasaklisi ( gerçek tekil )'!$C$1,[1]DATA!$I:$I,'Cek Yasaklisi ( gerçek tekil )'!$C57),0) -> 2 | Q57: =IFERROR(SUMIFS([1]DATA!$X:$X,[1]DATA!$V:$V,'Cek Yasaklisi ( gerçek tekil )'!$C$1,[1]DATA!$W:$W,'Cek Yasaklisi ( gerçek tekil )'!$C57,[1]DATA!$U:$U,'Cek Yasaklisi ( gerçek tekil )'!$C$2),0) -> 31
C58: 55 | D58: Samsun | E58: =IFERROR(SUMIFS([1]DATA!$J:$J,[1]DATA!$G:$G,'Cek Yasaklisi ( gerçek tekil )'!E$2,[1]DATA!$H:$H,'Cek Yasaklisi ( gerçek tekil )'!$C$1,[1]DATA!$I:$I,'Cek Yasaklisi ( gerçek tekil )'!$C58),0) -> 35 | F58: =IFERROR(SUMIFS([1]DATA!$J:$J,[1]DATA!$G:$G,'Cek Yasaklisi ( gerçek tekil )'!F$2,[1]DATA!$H:$H,'Cek Yasaklisi ( gerçek tekil )'!$C$1,[1]DATA!$I:$I,'Cek Yasaklisi ( gerçek tekil )'!$C58),0) -> 34 | G58: =IFERROR(SUMIFS([1]DATA!$J:$J,[1]DATA!$G:$G,'Cek Yasaklisi ( gerçek tekil )'!G$2,[1]DATA!$H:$H,'Cek Yasaklisi ( gerçek tekil )'!$C$1,[1]DATA!$I:$I,'Cek Yasaklisi ( gerçek tekil )'!$C58),0) -> 31 | H58: =IFERROR(SUMIFS([1]DATA!$J:$J,[1]DATA!$G:$G,'Cek Yasaklisi ( gerçek tekil )'!H$2,[1]DATA!$H:$H,'Cek Yasaklisi ( gerçek tekil )'!$C$1,[1]DATA!$I:$I,'Cek Yasaklisi ( gerçek tekil )'!$C58),0) -> 56 | I58: =IFERROR(SUMIFS([1]DATA!$J:$J,[1]DATA!$G:$G,'Cek Yasaklisi ( gerçek tekil )'!I$2,[1]DATA!$H:$H,'Cek Yasaklisi ( gerçek tekil )'!$C$1,[1]DATA!$I:$I,'Cek Yasaklisi ( gerçek tekil )'!$C58),0) -> 27 | J58: =IFERROR(SUMIFS([1]DATA!$J:$J,[1]DATA!$G:$G,'Cek Yasaklisi ( gerçek tekil )'!J$2,[1]DATA!$H:$H,'Cek Yasaklisi ( gerçek tekil )'!$C$1,[1]DATA!$I:$I,'Cek Yasaklisi ( gerçek tekil )'!$C58),0) -> 47 | K58: =IFERROR(SUMIFS([1]DATA!$J:$J,[1]DATA!$G:$G,'Cek Yasaklisi ( gerçek tekil )'!K$2,[1]DATA!$H:$H,'Cek Yasaklisi ( gerçek tekil )'!$C$1,[1]DATA!$I:$I,'Cek Yasaklisi ( gerçek tekil )'!$C58),0) -> 45 | L58: =IFERROR(SUMIFS([1]DATA!$J:$J,[1]DATA!$G:$G,'Cek Yasaklisi ( gerçek tekil )'!L$2,[1]DATA!$H:$H,'Cek Yasaklisi ( gerçek tekil )'!$C$1,[1]DATA!$I:$I,'Cek Yasaklisi ( gerçek tekil )'!$C58),0) -> 54 | M58: =IFERROR(SUMIFS([1]DATA!$J:$J,[1]DATA!$G:$G,'Cek Yasaklisi ( gerçek tekil )'!M$2,[1]DATA!$H:$H,'Cek Yasaklisi ( gerçek tekil )'!$C$1,[1]DATA!$I:$I,'Cek Yasaklisi ( gerçek tekil )'!$C58),0) -> 52 | Q58: =IFERROR(SUMIFS([1]DATA!$X:$X,[1]DATA!$V:$V,'Cek Yasaklisi ( gerçek tekil )'!$C$1,[1]DATA!$W:$W,'Cek Yasaklisi ( gerçek tekil )'!$C58,[1]DATA!$U:$U,'Cek Yasaklisi ( gerçek tekil )'!$C$2),0) -> 257
C59: 57 | D59: Sinop | E59: =IFERROR(SUMIFS([1]DATA!$J:$J,[1]DATA!$G:$G,'Cek Yasaklisi ( gerçek tekil )'!E$2,[1]DATA!$H:$H,'Cek Yasaklisi ( gerçek tekil )'!$C$1,[1]DATA!$I:$I,'Cek Yasaklisi ( gerçek tekil )'!$C59),0) -> 3 | F59: =IFERROR(SUMIFS([1]DATA!$J:$J,[1]DATA!$G:$G,'Cek Yasaklisi ( gerçek tekil )'!F$2,[1]DATA!$H:$H,'Cek Yasaklisi ( gerçek tekil )'!$C$1,[1]DATA!$I:$I,'Cek Yasaklisi ( gerçek tekil )'!$C59),0) -> 2 | G59: =IFERROR(SUMIFS([1]DATA!$J:$J,[1]DATA!$G:$G,'Cek Yasaklisi ( gerçek tekil )'!G$2,[1]DATA!$H:$H,'Cek Yasaklisi ( gerçek tekil )'!$C$1,[1]DATA!$I:$I,'Cek Yasaklisi ( gerçek tekil )'!$C59),0) -> 3 | H59: =IFERROR(SUMIFS([1]DATA!$J:$J,[1]DATA!$G:$G,'Cek Yasaklisi ( gerçek tekil )'!H$2,[1]DATA!$H:$H,'Cek Yasaklisi ( gerçek tekil )'!$C$1,[1]DATA!$I:$I,'Cek Yasaklisi ( gerçek tekil )'!$C59),0) -> 3 | I59: =IFERROR(SUMIFS([1]DATA!$J:$J,[1]DATA!$G:$G,'Cek Yasaklisi ( gerçek tekil )'!I$2,[1]DATA!$H:$H,'Cek Yasaklisi ( gerçek tekil )'!$C$1,[1]DATA!$I:$I,'Cek Yasaklisi ( gerçek tekil )'!$C59),0) -> 2 | J59: =IFERROR(SUMIFS([1]DATA!$J:$J,[1]DATA!$G:$G,'Cek Yasaklisi ( gerçek tekil )'!J$2,[1]DATA!$H:$H,'Cek Yasaklisi ( gerçek tekil )'!$C$1,[1]DATA!$I:$I,'Cek Yasaklisi ( gerçek tekil )'!$C59),0) -> 3 | K59: =IFERROR(SUMIFS([1]DATA!$J:$J,[1]DATA!$G:$G,'Cek Yasaklisi ( gerçek tekil )'!K$2,[1]DATA!$H:$H,'Cek Yasaklisi ( gerçek tekil )'!$C$1,[1]DATA!$I:$I,'Cek Yasaklisi ( gerçek tekil )'!$C59),0) -> 3 | L59: =IFERROR(SUMIFS([1]DATA!$J:$J,[1]DATA!$G:$G,'Cek Yasaklisi ( gerçek tekil )'!L$2,[1]DATA!$H:$H,'Cek Yasaklisi ( gerçek tekil )'!$C$1,[1]DATA!$I:$I,'Cek Yasaklisi ( gerçek tekil )'!$C59),0) -> 1 | M59: =IFERROR(SUMIFS([1]DATA!$J:$J,[1]DATA!$G:$G,'Cek Yasaklisi ( gerçek tekil )'!M$2,[1]DATA!$H:$H,'Cek Yasaklisi ( gerçek tekil )'!$C$1,[1]DATA!$I:$I,'Cek Yasaklisi ( gerçek tekil )'!$C59),0) -> 4 | Q59: =IFERROR(SUMIFS([1]DATA!$X:$X,[1]DATA!$V:$V,'Cek Yasaklisi ( gerçek tekil )'!$C$1,[1]DATA!$W:$W,'Cek Yasaklisi ( gerçek tekil )'!$C59,[1]DATA!$U:$U,'Cek Yasaklisi ( gerçek tekil )'!$C$2),0) -> 21
C60: 60 | D60: Tokat | E60: =IFERROR(SUMIFS([1]DATA!$J:$J,[1]DATA!$G:$G,'Cek Yasaklisi ( gerçek tekil )'!E$2,[1]DATA!$H:$H,'Cek Yasaklisi ( gerçek tekil )'!$C$1,[1]DATA!$I:$I,'Cek Yasaklisi ( gerçek tekil )'!$C60),0) -> 9 | F60: =IFERROR(SUMIFS([1]DATA!$J:$J,[1]DATA!$G:$G,'Cek Yasaklisi ( gerçek tekil )'!F$2,[1]DATA!$H:$H,'Cek Yasaklisi ( gerçek tekil )'!$C$1,[1]DATA!$I:$I,'Cek Yasaklisi ( gerçek tekil )'!$C60),0) -> 5 | G60: =IFERROR(SUMIFS([1]DATA!$J:$J,[1]DATA!$G:$G,'Cek Yasaklisi ( gerçek tekil )'!G$2,[1]DATA!$H:$H,'Cek Yasaklisi ( gerçek tekil )'!$C$1,[1]DATA!$I:$I,'Cek Yasaklisi ( gerçek tekil )'!$C60),0) -> 5 | H60: =IFERROR(SUMIFS([1]DATA!$J:$J,[1]DATA!$G:$G,'Cek Yasaklisi ( gerçek tekil )'!H$2,[1]DATA!$H:$H,'Cek Yasaklisi ( gerçek tekil )'!$C$1,[1]DATA!$I:$I,'Cek Yasaklisi ( gerçek tekil )'!$C60),0) -> 8 | I60: =IFERROR(SUMIFS([1]DATA!$J:$J,[1]DATA!$G:$G,'Cek Yasaklisi ( gerçek tekil )'!I$2,[1]DATA!$H:$H,'Cek Yasaklisi ( gerçek tekil )'!$C$1,[1]DATA!$I:$I,'Cek Yasaklisi ( gerçek tekil )'!$C60),0) -> 7 | J60: =IFERROR(SUMIFS([1]DATA!$J:$J,[1]DATA!$G:$G,'Cek Yasaklisi ( gerçek tekil )'!J$2,[1]DATA!$H:$H,'Cek Yasaklisi ( gerçek tekil )'!$C$1,[1]DATA!$I:$I,'Cek Yasaklisi ( gerçek tekil )'!$C60),0) -> 10 | K60: =IFERROR(SUMIFS([1]DATA!$J:$J,[1]DATA!$G:$G,'Cek Yasaklisi ( gerçek tekil )'!K$2,[1]DATA!$H:$H,'Cek Yasaklisi ( gerçek tekil )'!$C$1,[1]DATA!$I:$I,'Cek Yasaklisi ( gerçek tekil )'!$C60),0) -> 5 | L60: =IFERROR(SUMIFS([1]DATA!$J:$J,[1]DATA!$G:$G,'Cek Yasaklisi ( gerçek tekil )'!L$2,[1]DATA!$H:$H,'Cek Yasaklisi ( gerçek tekil )'!$C$1,[1]DATA!$I:$I,'Cek Yasaklisi ( gerçek tekil )'!$C60),0) -> 3 | M60: =IFERROR(SUMIFS([1]DATA!$J:$J,[1]DATA!$G:$G,'Cek Yasaklisi ( gerçek tekil )'!M$2,[1]DATA!$H:$H,'Cek Yasaklisi ( gerçek tekil )'!$C$1,[1]DATA!$I:$I,'Cek Yasaklisi ( gerçek tekil )'!$C60),0) -> 11 | Q60: =IFERROR(SUMIFS([1]DATA!$X:$X,[1]DATA!$V:$V,'Cek Yasaklisi ( gerçek tekil )'!$C$1,[1]DATA!$W:$W,'Cek Yasaklisi ( gerçek tekil )'!$C60,[1]DATA!$U:$U,'Cek Yasaklisi ( gerçek tekil )'!$C$2),0) -> 43
C61: 67 | D61: Zonguldak | E61: =IFERROR(SUMIFS([1]DATA!$J:$J,[1]DATA!$G:$G,'Cek Yasaklisi ( gerçek tekil )'!E$2,[1]DATA!$H:$H,'Cek Yasaklisi ( gerçek tekil )'!$C$1,[1]DATA!$I:$I,'Cek Yasaklisi ( gerçek tekil )'!$C61),0) -> 9 | F61: =IFERROR(SUMIFS([1]DATA!$J:$J,[1]DATA!$G:$G,'Cek Yasaklisi ( gerçek tekil )'!F$2,[1]DATA!$H:$H,'Cek Yasaklisi ( gerçek tekil )'!$C$1,[1]DATA!$I:$I,'Cek Yasaklisi ( gerçek tekil )'!$C61),0) -> 6 | G61: =IFERROR(SUMIFS([1]DATA!$J:$J,[1]DATA!$G:$G,'Cek Yasaklisi ( gerçek tekil )'!G$2,[1]DATA!$H:$H,'Cek Yasaklisi ( gerçek tekil )'!$C$1,[1]DATA!$I:$I,'Cek Yasaklisi ( gerçek tekil )'!$C61),0) -> 3 | H61: =IFERROR(SUMIFS([1]DATA!$J:$J,[1]DATA!$G:$G,'Cek Yasaklisi ( gerçek tekil )'!H$2,[1]DATA!$H:$H,'Cek Yasaklisi ( gerçek tekil )'!$C$1,[1]DATA!$I:$I,'Cek Yasaklisi ( gerçek tekil )'!$C61),0) -> 13 | I61: =IFERROR(SUMIFS([1]DATA!$J:$J,[1]DATA!$G:$G,'Cek Yasaklisi ( gerçek tekil )'!I$2,[1]DATA!$H:$H,'Cek Yasaklisi ( gerçek tekil )'!$C$1,[1]DATA!$I:$I,'Cek Yasaklisi ( gerçek tekil )'!$C61),0) -> 8 | J61: =IFERROR(SUMIFS([1]DATA!$J:$J,[1]DATA!$G:$G,'Cek Yasaklisi ( gerçek tekil )'!J$2,[1]DATA!$H:$H,'Cek Yasaklisi ( gerçek tekil )'!$C$1,[1]DATA!$I:$I,'Cek Yasaklisi ( gerçek tekil )'!$C61),0) -> 17 | K61: =IFERROR(SUMIFS([1]DATA!$J:$J,[1]DATA!$G:$G,'Cek Yasaklisi ( gerçek tekil )'!K$2,[1]DATA!$H:$H,'Cek Yasaklisi ( gerçek tekil )'!$C$1,[1]DATA!$I:$I,'Cek Yasaklisi ( gerçek tekil )'!$C61),0) -> 14 | L61: =IFERROR(SUMIFS([1]DATA!$J:$J,[1]DATA!$G:$G,'Cek Yasaklisi ( gerçek tekil )'!L$2,[1]DATA!$H:$H,'Cek Yasaklisi ( gerçek tekil )'!$C$1,[1]DATA!$I:$I,'Cek Yasaklisi ( gerçek tekil )'!$C61),0) -> 11 | M61: =IFERROR(SUMIFS([1]DATA!$J:$J,[1]DATA!$G:$G,'Cek Yasaklisi ( gerçek tekil )'!M$2,[1]DATA!$H:$H,'Cek Yasaklisi ( gerçek tekil )'!$C$1,[1]DATA!$I:$I,'Cek Yasaklisi ( gerçek tekil )'!$C61),0) -> 17 | Q61: =IFERROR(SUMIFS([1]DATA!$X:$X,[1]DATA!$V:$V,'Cek Yasaklisi ( gerçek tekil )'!$C$1,[1]DATA!$W:$W,'Cek Yasaklisi ( gerçek tekil )'!$C61,[1]DATA!$U:$U,'Cek Yasaklisi ( gerçek tekil )'!$C$2),0) -> 74
C62: Dogu Karadeniz | D62: Doğu Karadeniz | E62: =IFERROR(SUMIFS([1]DATA!$Q:$Q,[1]DATA!$N:$N,'Cek Yasaklisi ( gerçek tekil )'!E$2,[1]DATA!$O:$O,'Cek Yasaklisi ( gerçek tekil )'!$C$1,[1]DATA!$P:$P,'Cek Yasaklisi ( gerçek tekil )'!$C62),0) -> 43 | F62: =IFERROR(SUMIFS([1]DATA!$Q:$Q,[1]DATA!$N:$N,'Cek Yasaklisi ( gerçek tekil )'!F$2,[1]DATA!$O:$O,'Cek Yasaklisi ( gerçek tekil )'!$C$1,[1]DATA!$P:$P,'Cek Yasaklisi ( gerçek tekil )'!$C62),0) -> 76 | G62: =IFERROR(SUMIFS([1]DATA!$Q:$Q,[1]DATA!$N:$N,'Cek Yasaklisi ( gerçek tekil )'!G$2,[1]DATA!$O:$O,'Cek Yasaklisi ( gerçek tekil )'!$C$1,[1]DATA!$P:$P,'Cek Yasaklisi ( gerçek tekil )'!$C62),0) -> 78 | H62: =IFERROR(SUMIFS([1]DATA!$Q:$Q,[1]DATA!$N:$N,'Cek Yasaklisi ( gerçek tekil )'!H$2,[1]DATA!$O:$O,'Cek Yasaklisi ( gerçek tekil )'!$C$1,[1]DATA!$P:$P,'Cek Yasaklisi ( gerçek tekil )'!$C62),0) -> 69 | I62: =IFERROR(SUMIFS([1]DATA!$Q:$Q,[1]DATA!$N:$N,'Cek Yasaklisi ( gerçek tekil )'!I$2,[1]DATA!$O:$O,'Cek Yasaklisi ( gerçek tekil )'!$C$1,[1]DATA!$P:$P,'Cek Yasaklisi ( gerçek tekil )'!$C62),0) -> 44 | J62: =IFERROR(SUMIFS([1]DATA!$Q:$Q,[1]DATA!$N:$N,'Cek Yasaklisi ( gerçek tekil )'!J$2,[1]DATA!$O:$O,'Cek Yasaklisi ( gerçek tekil )'!$C$1,[1]DATA!$P:$P,'Cek Yasaklisi ( gerçek tekil )'!$C62),0) -> 84 | K62: =IFERROR(SUMIFS([1]DATA!$Q:$Q,[1]DATA!$N:$N,'Cek Yasaklisi ( gerçek tekil )'!K$2,[1]DATA!$O:$O,'Cek Yasaklisi ( gerçek tekil )'!$C$1,[1]DATA!$P:$P,'Cek Yasaklisi ( gerçek tekil )'!$C62),0) -> 76 | L62: =IFERROR(SUMIFS([1]DATA!$Q:$Q,[1]DATA!$N:$N,'Cek Yasaklisi ( gerçek tekil )'!L$2,[1]DATA!$O:$O,'Cek Yasaklisi ( gerçek tekil )'!$C$1,[1]DATA!$P:$P,'Cek Yasaklisi ( gerçek tekil )'!$C62),0) -> 43 | M62: =IFERROR(SUMIFS([1]DATA!$Q:$Q,[1]DATA!$N:$N,'Cek Yasaklisi ( gerçek tekil )'!M$2,[1]DATA!$O:$O,'Cek Yasaklisi ( gerçek tekil )'!$C$1,[1]DATA!$P:$P,'Cek Yasaklisi ( gerçek tekil )'!$C62),0) -> 63 | Q62: =IFERROR(SUMIFS([1]DATA!$AE:$AE,[1]DATA!$AC:$AC,'Cek Yasaklisi ( gerçek tekil )'!$C$1,[1]DATA!$AD:$AD,'Cek Yasaklisi ( gerçek tekil )'!$C62,[1]DATA!$AB:$AB,'Cek Yasaklisi ( gerçek tekil )'!$C$2),0) -> 384
C63: 8 | D63: Artvin | E63: =IFERROR(SUMIFS([1]DATA!$J:$J,[1]DATA!$G:$G,'Cek Yasaklisi ( gerçek tekil )'!E$2,[1]DATA!$H:$H,'Cek Yasaklisi ( gerçek tekil )'!$C$1,[1]DATA!$I:$I,'Cek Yasaklisi ( gerçek tekil )'!$C63),0) -> 1 | F63: =IFERROR(SUMIFS([1]DATA!$J:$J,[1]DATA!$G:$G,'Cek Yasaklisi ( gerçek tekil )'!F$2,[1]DATA!$H:$H,'Cek Yasaklisi ( gerçek tekil )'!$C$1,[1]DATA!$I:$I,'Cek Yasaklisi ( gerçek tekil )'!$C63),0) -> 8 | G63: =IFERROR(SUMIFS([1]DATA!$J:$J,[1]DATA!$G:$G,'Cek Yasaklisi ( gerçek tekil )'!G$2,[1]DATA!$H:$H,'Cek Yasaklisi ( gerçek tekil )'!$C$1,[1]DATA!$I:$I,'Cek Yasaklisi ( gerçek tekil )'!$C63),0) -> 4 | H63: =IFERROR(SUMIFS([1]DATA!$J:$J,[1]DATA!$G:$G,'Cek Yasaklisi ( gerçek tekil )'!H$2,[1]DATA!$H:$H,'Cek Yasaklisi ( gerçek tekil )'!$C$1,[1]DATA!$I:$I,'Cek Yasaklisi ( gerçek tekil )'!$C63),0) -> 0 | I63: =IFERROR(SUMIFS([1]DATA!$J:$J,[1]DATA!$G:$G,'Cek Yasaklisi ( gerçek tekil )'!I$2,[1]DATA!$H:$H,'Cek Yasaklisi ( gerçek tekil )'!$C$1,[1]DATA!$I:$I,'Cek Yasaklisi ( gerçek tekil )'!$C63),0) -> 5 | J63: =IFERROR(SUMIFS([1]DATA!$J:$J,[1]DATA!$G:$G,'Cek Yasaklisi ( gerçek tekil )'!J$2,[1]DATA!$H:$H,'Cek Yasaklisi ( gerçek tekil )'!$C$1,[1]DATA!$I:$I,'Cek Yasaklisi ( gerçek tekil )'!$C63),0) -> 6 | K63: =IFERROR(SUMIFS([1]DATA!$J:$J,[1]DATA!$G:$G,'Cek Yasaklisi ( gerçek tekil )'!K$2,[1]DATA!$H:$H,'Cek Yasaklisi ( gerçek tekil )'!$C$1,[1]DATA!$I:$I,'Cek Yasaklisi ( gerçek tekil )'!$C63),0) -> 2 | L63: =IFERROR(SUMIFS([1]DATA!$J:$J,[1]DATA!$G:$G,'Cek Yasaklisi ( gerçek tekil )'!L$2,[1]DATA!$H:$H,'Cek Yasaklisi ( gerçek tekil )'!$C$1,[1]DATA!$I:$I,'Cek Yasaklisi ( gerçek tekil )'!$C63),0) -> 2 | M63: =IFERROR(SUMIFS([1]DATA!$J:$J,[1]DATA!$G:$G,'Cek Yasaklisi ( gerçek tekil )'!M$2,[1]DATA!$H:$H,'Cek Yasaklisi ( gerçek tekil )'!$C$1,[1]DATA!$I:$I,'Cek Yasaklisi ( gerçek tekil )'!$C63),0) -> 3 | Q63: =IFERROR(SUMIFS([1]DATA!$X:$X,[1]DATA!$V:$V,'Cek Yasaklisi ( gerçek tekil )'!$C$1,[1]DATA!$W:$W,'Cek Yasaklisi ( gerçek tekil )'!$C63,[1]DATA!$U:$U,'Cek Yasaklisi ( gerçek tekil )'!$C$2),0) -> 24
C64: 28 | D64: Giresun | E64: =IFERROR(SUMIFS([1]DATA!$J:$J,[1]DATA!$G:$G,'Cek Yasaklisi ( gerçek tekil )'!E$2,[1]DATA!$H:$H,'Cek Yasaklisi ( gerçek tekil )'!$C$1,[1]DATA!$I:$I,'Cek Yasaklisi ( gerçek tekil )'!$C64),0) -> 14 | F64: =IFERROR(SUMIFS([1]DATA!$J:$J,[1]DATA!$G:$G,'Cek Yasaklisi ( gerçek tekil )'!F$2,[1]DATA!$H:$H,'Cek Yasaklisi ( gerçek tekil )'!$C$1,[1]DATA!$I:$I,'Cek Yasaklisi ( gerçek tekil )'!$C64),0) -> 20 | G64: =IFERROR(SUMIFS([1]DATA!$J:$J,[1]DATA!$G:$G,'Cek Yasaklisi ( gerçek tekil )'!G$2,[1]DATA!$H:$H,'Cek Yasaklisi ( gerçek tekil )'!$C$1,[1]DATA!$I:$I,'Cek Yasaklisi ( gerçek tekil )'!$C64),0) -> 22 | H64: =IFERROR(SUMIFS([1]DATA!$J:$J,[1]DATA!$G:$G,'Cek Yasaklisi ( gerçek tekil )'!H$2,[1]DATA!$H:$H,'Cek Yasaklisi ( gerçek tekil )'!$C$1,[1]DATA!$I:$I,'Cek Yasaklisi ( gerçek tekil )'!$C64),0) -> 11 | I64: =IFERROR(SUMIFS([1]DATA!$J:$J,[1]DATA!$G:$G,'Cek Yasaklisi ( gerçek tekil )'!I$2,[1]DATA!$H:$H,'Cek Yasaklisi ( gerçek tekil )'!$C$1,[1]DATA!$I:$I,'Cek Yasaklisi ( gerçek tekil )'!$C64),0) -> 6 | J64: =IFERROR(SUMIFS([1]DATA!$J:$J,[1]DATA!$G:$G,'Cek Yasaklisi ( gerçek tekil )'!J$2,[1]DATA!$H:$H,'Cek Yasaklisi ( gerçek tekil )'!$C$1,[1]DATA!$I:$I,'Cek Yasaklisi ( gerçek tekil )'!$C64),0) -> 20 | K64: =IFERROR(SUMIFS([1]DATA!$J:$J,[1]DATA!$G:$G,'Cek Yasaklisi ( gerçek tekil )'!K$2,[1]DATA!$H:$H,'Cek Yasaklisi ( gerçek tekil )'!$C$1,[1]DATA!$I:$I,'Cek Yasaklisi ( gerçek tekil )'!$C64),0) -> 16 | L64: =IFERROR(SUMIFS([1]DATA!$J:$J,[1]DATA!$G:$G,'Cek Yasaklisi ( gerçek tekil )'!L$2,[1]DATA!$H:$H,'Cek Yasaklisi ( gerçek tekil )'!$C$1,[1]DATA!$I:$I,'Cek Yasaklisi ( gerçek tekil )'!$C64),0) -> 8 | M64: =IFERROR(SUMIFS([1]DATA!$J:$J,[1]DATA!$G:$G,'Cek Yasaklisi ( gerçek tekil )'!M$2,[1]DATA!$H:$H,'Cek Yasaklisi ( gerçek tekil )'!$C$1,[1]DATA!$I:$I,'Cek Yasaklisi ( gerçek tekil )'!$C64),0) -> 10 | Q64: =IFERROR(SUMIFS([1]DATA!$X:$X,[1]DATA!$V:$V,'Cek Yasaklisi ( gerçek tekil )'!$C$1,[1]DATA!$W:$W,'Cek Yasaklisi ( gerçek tekil )'!$C64,[1]DATA!$U:$U,'Cek Yasaklisi ( gerçek tekil )'!$C$2),0) -> 73
C65: 29 | D65: Gümüşhane | E65: =IFERROR(SUMIFS([1]DATA!$J:$J,[1]DATA!$G:$G,'Cek Yasaklisi ( gerçek tekil )'!E$2,[1]DATA!$H:$H,'Cek Yasaklisi ( gerçek tekil )'!$C$1,[1]DATA!$I:$I,'Cek Yasaklisi ( gerçek tekil )'!$C65),0) -> 0 | F65: =IFERROR(SUMIFS([1]DATA!$J:$J,[1]DATA!$G:$G,'Cek Yasaklisi ( gerçek tekil )'!F$2,[1]DATA!$H:$H,'Cek Yasaklisi ( gerçek tekil )'!$C$1,[1]DATA!$I:$I,'Cek Yasaklisi ( gerçek tekil )'!$C65),0) -> 1 | G65: =IFERROR(SUMIFS([1]DATA!$J:$J,[1]DATA!$G:$G,'Cek Yasaklisi ( gerçek tekil )'!G$2,[1]DATA!$H:$H,'Cek Yasaklisi ( gerçek tekil )'!$C$1,[1]DATA!$I:$I,'Cek Yasaklisi ( gerçek tekil )'!$C65),0) -> 1 | H65: =IFERROR(SUMIFS([1]DATA!$J:$J,[1]DATA!$G:$G,'Cek Yasaklisi ( gerçek tekil )'!H$2,[1]DATA!$H:$H,'Cek Yasaklisi ( gerçek tekil )'!$C$1,[1]DATA!$I:$I,'Cek Yasaklisi ( gerçek tekil )'!$C65),0) -> 0 | I65: =IFERROR(SUMIFS([1]DATA!$J:$J,[1]DATA!$G:$G,'Cek Yasaklisi ( gerçek tekil )'!I$2,[1]DATA!$H:$H,'Cek Yasaklisi ( gerçek tekil )'!$C$1,[1]DATA!$I:$I,'Cek Yasaklisi ( gerçek tekil )'!$C65),0) -> 0 | J65: =IFERROR(SUMIFS([1]DATA!$J:$J,[1]DATA!$G:$G,'Cek Yasaklisi ( gerçek tekil )'!J$2,[1]DATA!$H:$H,'Cek Yasaklisi ( gerçek tekil )'!$C$1,[1]DATA!$I:$I,'Cek Yasaklisi ( gerçek tekil )'!$C65),0) -> 0 | K65: =IFERROR(SUMIFS([1]DATA!$J:$J,[1]DATA!$G:$G,'Cek Yasaklisi ( gerçek tekil )'!K$2,[1]DATA!$H:$H,'Cek Yasaklisi ( gerçek tekil )'!$C$1,[1]DATA!$I:$I,'Cek Yasaklisi ( gerçek tekil )'!$C65),0) -> 2 | L65: =IFERROR(SUMIFS([1]DATA!$J:$J,[1]DATA!$G:$G,'Cek Yasaklisi ( gerçek tekil )'!L$2,[1]DATA!$H:$H,'Cek Yasaklisi ( gerçek tekil )'!$C$1,[1]DATA!$I:$I,'Cek Yasaklisi ( gerçek tekil )'!$C65),0) -> 1 | M65: =IFERROR(SUMIFS([1]DATA!$J:$J,[1]DATA!$G:$G,'Cek Yasaklisi ( gerçek tekil )'!M$2,[1]DATA!$H:$H,'Cek Yasaklisi ( gerçek tekil )'!$C$1,[1]DATA!$I:$I,'Cek Yasaklisi ( gerçek tekil )'!$C65),0) -> 4 | Q65: =IFERROR(SUMIFS([1]DATA!$X:$X,[1]DATA!$V:$V,'Cek Yasaklisi ( gerçek tekil )'!$C$1,[1]DATA!$W:$W,'Cek Yasaklisi ( gerçek tekil )'!$C65,[1]DATA!$U:$U,'Cek Yasaklisi ( gerçek tekil )'!$C$2),0) -> 7
C66: 52 | D66: Ordu | E66: =IFERROR(SUMIFS([1]DATA!$J:$J,[1]DATA!$G:$G,'Cek Yasaklisi ( gerçek tekil )'!E$2,[1]DATA!$H:$H,'Cek Yasaklisi ( gerçek tekil )'!$C$1,[1]DATA!$I:$I,'Cek Yasaklisi ( gerçek tekil )'!$C66),0) -> 6 | F66: =IFERROR(SUMIFS([1]DATA!$J:$J,[1]DATA!$G:$G,'Cek Yasaklisi ( gerçek tekil )'!F$2,[1]DATA!$H:$H,'Cek Yasaklisi ( gerçek tekil )'!$C$1,[1]DATA!$I:$I,'Cek Yasaklisi ( gerçek tekil )'!$C66),0) -> 11 | G66: =IFERROR(SUMIFS([1]DATA!$J:$J,[1]DATA!$G:$G,'Cek Yasaklisi ( gerçek tekil )'!G$2,[1]DATA!$H:$H,'Cek Yasaklisi ( gerçek tekil )'!$C$1,[1]DATA!$I:$I,'Cek Yasaklisi ( gerçek tekil )'!$C66),0) -> 12 | H66: =IFERROR(SUMIFS([1]DATA!$J:$J,[1]DATA!$G:$G,'Cek Yasaklisi ( gerçek tekil )'!H$2,[1]DATA!$H:$H,'Cek Yasaklisi ( gerçek tekil )'!$C$1,[1]DATA!$I:$I,'Cek Yasaklisi ( gerçek tekil )'!$C66),0) -> 19 | I66: =IFERROR(SUMIFS([1]DATA!$J:$J,[1]DATA!$G:$G,'Cek Yasaklisi ( gerçek tekil )'!I$2,[1]DATA!$H:$H,'Cek Yasaklisi ( gerçek tekil )'!$C$1,[1]DATA!$I:$I,'Cek Yasaklisi ( gerçek tekil )'!$C66),0) -> 12 | J66: =IFERROR(SUMIFS([1]DATA!$J:$J,[1]DATA!$G:$G,'Cek Yasaklisi ( gerçek tekil )'!J$2,[1]DATA!$H:$H,'Cek Yasaklisi ( gerçek tekil )'!$C$1,[1]DATA!$I:$I,'Cek Yasaklisi ( gerçek tekil )'!$C66),0) -> 7 | K66: =IFERROR(SUMIFS([1]DATA!$J:$J,[1]DATA!$G:$G,'Cek Yasaklisi ( gerçek tekil )'!K$2,[1]DATA!$H:$H,'Cek Yasaklisi ( gerçek tekil )'!$C$1,[1]DATA!$I:$I,'Cek Yasaklisi ( gerçek tekil )'!$C66),0) -> 18 | L66: =IFERROR(SUMIFS([1]DATA!$J:$J,[1]DATA!$G:$G,'Cek Yasaklisi ( gerçek tekil )'!L$2,[1]DATA!$H:$H,'Cek Yasaklisi ( gerçek tekil )'!$C$1,[1]DATA!$I:$I,'Cek Yasaklisi ( gerçek tekil )'!$C66),0) -> 12 | M66: =IFERROR(SUMIFS([1]DATA!$J:$J,[1]DATA!$G:$G,'Cek Yasaklisi ( gerçek tekil )'!M$2,[1]DATA!$H:$H,'Cek Yasaklisi ( gerçek tekil )'!$C$1,[1]DATA!$I:$I,'Cek Yasaklisi ( gerçek tekil )'!$C66),0) -> 19 | Q66: =IFERROR(SUMIFS([1]DATA!$X:$X,[1]DATA!$V:$V,'Cek Yasaklisi ( gerçek tekil )'!$C$1,[1]DATA!$W:$W,'Cek Yasaklisi ( gerçek tekil )'!$C66,[1]DATA!$U:$U,'Cek Yasaklisi ( gerçek tekil )'!$C$2),0) -> 82
C67: 53 | D67: Rize | E67: =IFERROR(SUMIFS([1]DATA!$J:$J,[1]DATA!$G:$G,'Cek Yasaklisi ( gerçek tekil )'!E$2,[1]DATA!$H:$H,'Cek Yasaklisi ( gerçek tekil )'!$C$1,[1]DATA!$I:$I,'Cek Yasaklisi ( gerçek tekil )'!$C67),0) -> 6 | F67: =IFERROR(SUMIFS([1]DATA!$J:$J,[1]DATA!$G:$G,'Cek Yasaklisi ( gerçek tekil )'!F$2,[1]DATA!$H:$H,'Cek Yasaklisi ( gerçek tekil )'!$C$1,[1]DATA!$I:$I,'Cek Yasaklisi ( gerçek tekil )'!$C67),0) -> 9 | G67: =IFERROR(SUMIFS([1]DATA!$J:$J,[1]DATA!$G:$G,'Cek Yasaklisi ( gerçek tekil )'!G$2,[1]DATA!$H:$H,'Cek Yasaklisi ( gerçek tekil )'!$C$1,[1]DATA!$I:$I,'Cek Yasaklisi ( gerçek tekil )'!$C67),0) -> 7 | H67: =IFERROR(SUMIFS([1]DATA!$J:$J,[1]DATA!$G:$G,'Cek Yasaklisi ( gerçek tekil )'!H$2,[1]DATA!$H:$H,'Cek Yasaklisi ( gerçek tekil )'!$C$1,[1]DATA!$I:$I,'Cek Yasaklisi ( gerçek tekil )'!$C67),0) -> 8 | I67: =IFERROR(SUMIFS([1]DATA!$J:$J,[1]DATA!$G:$G,'Cek Yasaklisi ( gerçek tekil )'!I$2,[1]DATA!$H:$H,'Cek Yasaklisi ( gerçek tekil )'!$C$1,[1]DATA!$I:$I,'Cek Yasaklisi ( gerçek tekil )'!$C67),0) -> 6 | J67: =IFERROR(SUMIFS([1]DATA!$J:$J,[1]DATA!$G:$G,'Cek Yasaklisi ( gerçek tekil )'!J$2,[1]DATA!$H:$H,'Cek Yasaklisi ( gerçek tekil )'!$C$1,[1]DATA!$I:$I,'Cek Yasaklisi ( gerçek tekil )'!$C67),0) -> 6 | K67: =IFERROR(SUMIFS([1]DATA!$J:$J,[1]DATA!$G:$G,'Cek Yasaklisi ( gerçek tekil )'!K$2,[1]DATA!$H:$H,'Cek Yasaklisi ( gerçek tekil )'!$C$1,[1]DATA!$I:$I,'Cek Yasaklisi ( gerçek tekil )'!$C67),0) -> 3 | L67: =IFERROR(SUMIFS([1]DATA!$J:$J,[1]DATA!$G:$G,'Cek Yasaklisi ( gerçek tekil )'!L$2,[1]DATA!$H:$H,'Cek Yasaklisi ( gerçek tekil )'!$C$1,[1]DATA!$I:$I,'Cek Yasaklisi ( gerçek tekil )'!$C67),0) -> 0 | M67: =IFERROR(SUMIFS([1]DATA!$J:$J,[1]DATA!$G:$G,'Cek Yasaklisi ( gerçek tekil )'!M$2,[1]DATA!$H:$H,'Cek Yasaklisi ( gerçek tekil )'!$C$1,[1]DATA!$I:$I,'Cek Yasaklisi ( gerçek tekil )'!$C67),0) -> 5 | Q67: =IFERROR(SUMIFS([1]DATA!$X:$X,[1]DATA!$V:$V,'Cek Yasaklisi ( gerçek tekil )'!$C$1,[1]DATA!$W:$W,'Cek Yasaklisi ( gerçek tekil )'!$C67,[1]DATA!$U:$U,'Cek Yasaklisi ( gerçek tekil )'!$C$2),0) -> 36
C68: 61 | D68: Trabzon | E68: =IFERROR(SUMIFS([1]DATA!$J:$J,[1]DATA!$G:$G,'Cek Yasaklisi ( gerçek tekil )'!E$2,[1]DATA!$H:$H,'Cek Yasaklisi ( gerçek tekil )'!$C$1,[1]DATA!$I:$I,'Cek Yasaklisi ( gerçek tekil )'!$C68),0) -> 16 | F68: =IFERROR(SUMIFS([1]DATA!$J:$J,[1]DATA!$G:$G,'Cek Yasaklisi ( gerçek tekil )'!F$2,[1]DATA!$H:$H,'Cek Yasaklisi ( gerçek tekil )'!$C$1,[1]DATA!$I:$I,'Cek Yasaklisi ( gerçek tekil )'!$C68),0) -> 29 | G68: =IFERROR(SUMIFS([1]DATA!$J:$J,[1]DATA!$G:$G,'Cek Yasaklisi ( gerçek tekil )'!G$2,[1]DATA!$H:$H,'Cek Yasaklisi ( gerçek tekil )'!$C$1,[1]DATA!$I:$I,'Cek Yasaklisi ( gerçek tekil )'!$C68),0) -> 32 | H68: =IFERROR(SUMIFS([1]DATA!$J:$J,[1]DATA!$G:$G,'Cek Yasaklisi ( gerçek tekil )'!H$2,[1]DATA!$H:$H,'Cek Yasaklisi ( gerçek tekil )'!$C$1,[1]DATA!$I:$I,'Cek Yasaklisi ( gerçek tekil )'!$C68),0) -> 32 | I68: =IFERROR(SUMIFS([1]DATA!$J:$J,[1]DATA!$G:$G,'Cek Yasaklisi ( gerçek tekil )'!I$2,[1]DATA!$H:$H,'Cek Yasaklisi ( gerçek tekil )'!$C$1,[1]DATA!$I:$I,'Cek Yasaklisi ( gerçek tekil )'!$C68),0) -> 15 | J68: =IFERROR(SUMIFS([1]DATA!$J:$J,[1]DATA!$G:$G,'Cek Yasaklisi ( gerçek tekil )'!J$2,[1]DATA!$H:$H,'Cek Yasaklisi ( gerçek tekil )'!$C$1,[1]DATA!$I:$I,'Cek Yasaklisi ( gerçek tekil )'!$C68),0) -> 45 | K68: =IFERROR(SUMIFS([1]DATA!$J:$J,[1]DATA!$G:$G,'Cek Yasaklisi ( gerçek tekil )'!K$2,[1]DATA!$H:$H,'Cek Yasaklisi ( gerçek tekil )'!$C$1,[1]DATA!$I:$I,'Cek Yasaklisi ( gerçek tekil )'!$C68),0) -> 36 | L68: =IFERROR(SUMIFS([1]DATA!$J:$J,[1]DATA!$G:$G,'Cek Yasaklisi ( gerçek tekil )'!L$2,[1]DATA!$H:$H,'Cek Yasaklisi ( gerçek tekil )'!$C$1,[1]DATA!$I:$I,'Cek Yasaklisi ( gerçek tekil )'!$C68),0) -> 22 | M68: =IFERROR(SUMIFS([1]DATA!$J:$J,[1]DATA!$G:$G,'Cek Yasaklisi ( gerçek tekil )'!M$2,[1]DATA!$H:$H,'Cek Yasaklisi ( gerçek tekil )'!$C$1,[1]DATA!$I:$I,'Cek Yasaklisi ( gerçek tekil )'!$C68),0) -> 25 | Q68: =IFERROR(SUMIFS([1]DATA!$X:$X,[1]DATA!$V:$V,'Cek Yasaklisi ( gerçek tekil )'!$C$1,[1]DATA!$W:$W,'Cek Yasaklisi ( gerçek tekil )'!$C68,[1]DATA!$U:$U,'Cek Yasaklisi ( gerçek tekil )'!$C$2),0) -> 181
C69: Kuzeydogu Anadolu | D69: Kuzeydoğu Anadolu | E69: =IFERROR(SUMIFS([1]DATA!$Q:$Q,[1]DATA!$N:$N,'Cek Yasaklisi ( gerçek tekil )'!E$2,[1]DATA!$O:$O,'Cek Yasaklisi ( gerçek tekil )'!$C$1,[1]DATA!$P:$P,'Cek Yasaklisi ( gerçek tekil )'!$C69),0) -> 31 | F69: =IFERROR(SUMIFS([1]DATA!$Q:$Q,[1]DATA!$N:$N,'Cek Yasaklisi ( gerçek tekil )'!F$2,[1]DATA!$O:$O,'Cek Yasaklisi ( gerçek tekil )'!$C$1,[1]DATA!$P:$P,'Cek Yasaklisi ( gerçek tekil )'!$C69),0) -> 15 | G69: =IFERROR(SUMIFS([1]DATA!$Q:$Q,[1]DATA!$N:$N,'Cek Yasaklisi ( gerçek tekil )'!G$2,[1]DATA!$O:$O,'Cek Yasaklisi ( gerçek tekil )'!$C$1,[1]DATA!$P:$P,'Cek Yasaklisi ( gerçek tekil )'!$C69),0) -> 17 | H69: =IFERROR(SUMIFS([1]DATA!$Q:$Q,[1]DATA!$N:$N,'Cek Yasaklisi ( gerçek tekil )'!H$2,[1]DATA!$O:$O,'Cek Yasaklisi ( gerçek tekil )'!$C$1,[1]DATA!$P:$P,'Cek Yasaklisi ( gerçek tekil )'!$C69),0) -> 26 | I69: =IFERROR(SUMIFS([1]DATA!$Q:$Q,[1]DATA!$N:$N,'Cek Yasaklisi ( gerçek tekil )'!I$2,[1]DATA!$O:$O,'Cek Yasaklisi ( gerçek tekil )'!$C$1,[1]DATA!$P:$P,'Cek Yasaklisi ( gerçek tekil )'!$C69),0) -> 33 | J69: =IFERROR(SUMIFS([1]DATA!$Q:$Q,[1]DATA!$N:$N,'Cek Yasaklisi ( gerçek tekil )'!J$2,[1]DATA!$O:$O,'Cek Yasaklisi ( gerçek tekil )'!$C$1,[1]DATA!$P:$P,'Cek Yasaklisi ( gerçek tekil )'!$C69),0) -> 37 | K69: =IFERROR(SUMIFS([1]DATA!$Q:$Q,[1]DATA!$N:$N,'Cek Yasaklisi ( gerçek tekil )'!K$2,[1]DATA!$O:$O,'Cek Yasaklisi ( gerçek tekil )'!$C$1,[1]DATA!$P:$P,'Cek Yasaklisi ( gerçek tekil )'!$C69),0) -> 16 | L69: =IFERROR(SUMIFS([1]DATA!$Q:$Q,[1]DATA!$N:$N,'Cek Yasaklisi ( gerçek tekil )'!L$2,[1]DATA!$O:$O,'Cek Yasaklisi ( gerçek tekil )'!$C$1,[1]DATA!$P:$P,'Cek Yasaklisi ( gerçek tekil )'!$C69),0) -> 11 | M69: =IFERROR(SUMIFS([1]DATA!$Q:$Q,[1]DATA!$N:$N,'Cek Yasaklisi ( gerçek tekil )'!M$2,[1]DATA!$O:$O,'Cek Yasaklisi ( gerçek tekil )'!$C$1,[1]DATA!$P:$P,'Cek Yasaklisi ( gerçek tekil )'!$C69),0) -> 14 | Q69: =IFERROR(SUMIFS([1]DATA!$AE:$AE,[1]DATA!$AC:$AC,'Cek Yasaklisi ( gerçek tekil )'!$C$1,[1]DATA!$AD:$AD,'Cek Yasaklisi ( gerçek tekil )'!$C69,[1]DATA!$AB:$AB,'Cek Yasaklisi ( gerçek tekil )'!$C$2),0) -> 158
C70: 4 | D70: Ağrı | E70: =IFERROR(SUMIFS([1]DATA!$J:$J,[1]DATA!$G:$G,'Cek Yasaklisi ( gerçek tekil )'!E$2,[1]DATA!$H:$H,'Cek Yasaklisi ( gerçek tekil )'!$C$1,[1]DATA!$I:$I,'Cek Yasaklisi ( gerçek tekil )'!$C70),0) -> 9 | F70: =IFERROR(SUMIFS([1]DATA!$J:$J,[1]DATA!$G:$G,'Cek Yasaklisi ( gerçek tekil )'!F$2,[1]DATA!$H:$H,'Cek Yasaklisi ( gerçek tekil )'!$C$1,[1]DATA!$I:$I,'Cek Yasaklisi ( gerçek tekil )'!$C70),0) -> 4 | G70: =IFERROR(SUMIFS([1]DATA!$J:$J,[1]DATA!$G:$G,'Cek Yasaklisi ( gerçek tekil )'!G$2,[1]DATA!$H:$H,'Cek Yasaklisi ( gerçek tekil )'!$C$1,[1]DATA!$I:$I,'Cek Yasaklisi ( gerçek tekil )'!$C70),0) -> 4 | H70: =IFERROR(SUMIFS([1]DATA!$J:$J,[1]DATA!$G:$G,'Cek Yasaklisi ( gerçek tekil )'!H$2,[1]DATA!$H:$H,'Cek Yasaklisi ( gerçek tekil )'!$C$1,[1]DATA!$I:$I,'Cek Yasaklisi ( gerçek tekil )'!$C70),0) -> 2 | I70: =IFERROR(SUMIFS([1]DATA!$J:$J,[1]DATA!$G:$G,'Cek Yasaklisi ( gerçek tekil )'!I$2,[1]DATA!$H:$H,'Cek Yasaklisi ( gerçek tekil )'!$C$1,[1]DATA!$I:$I,'Cek Yasaklisi ( gerçek tekil )'!$C70),0) -> 8 | J70: =IFERROR(SUMIFS([1]DATA!$J:$J,[1]DATA!$G:$G,'Cek Yasaklisi ( gerçek tekil )'!J$2,[1]DATA!$H:$H,'Cek Yasaklisi ( gerçek tekil )'!$C$1,[1]DATA!$I:$I,'Cek Yasaklisi ( gerçek tekil )'!$C70),0) -> 4 | K70: =IFERROR(SUMIFS([1]DATA!$J:$J,[1]DATA!$G:$G,'Cek Yasaklisi ( gerçek tekil )'!K$2,[1]DATA!$H:$H,'Cek Yasaklisi ( gerçek tekil )'!$C$1,[1]DATA!$I:$I,'Cek Yasaklisi ( gerçek tekil )'!$C70),0) -> 2 | L70: =IFERROR(SUMIFS([1]DATA!$J:$J,[1]DATA!$G:$G,'Cek Yasaklisi ( gerçek tekil )'!L$2,[1]DATA!$H:$H,'Cek Yasaklisi ( gerçek tekil )'!$C$1,[1]DATA!$I:$I,'Cek Yasaklisi ( gerçek tekil )'!$C70),0) -> 1 | M70: =IFERROR(SUMIFS([1]DATA!$J:$J,[1]DATA!$G:$G,'Cek Yasaklisi ( gerçek tekil )'!M$2,[1]DATA!$H:$H,'Cek Yasaklisi ( gerçek tekil )'!$C$1,[1]DATA!$I:$I,'Cek Yasaklisi ( gerçek tekil )'!$C70),0) -> 7 | Q70: =IFERROR(SUMIFS([1]DATA!$X:$X,[1]DATA!$V:$V,'Cek Yasaklisi ( gerçek tekil )'!$C$1,[1]DATA!$W:$W,'Cek Yasaklisi ( gerçek tekil )'!$C70,[1]DATA!$U:$U,'Cek Yasaklisi ( gerçek tekil )'!$C$2),0) -> 32
C71: 75 | D71: Ardahan | E71: =IFERROR(SUMIFS([1]DATA!$J:$J,[1]DATA!$G:$G,'Cek Yasaklisi ( gerçek tekil )'!E$2,[1]DATA!$H:$H,'Cek Yasaklisi ( gerçek tekil )'!$C$1,[1]DATA!$I:$I,'Cek Yasaklisi ( gerçek tekil )'!$C71),0) -> 0 | F71: =IFERROR(SUMIFS([1]DATA!$J:$J,[1]DATA!$G:$G,'Cek Yasaklisi ( gerçek tekil )'!F$2,[1]DATA!$H:$H,'Cek Yasaklisi ( gerçek tekil )'!$C$1,[1]DATA!$I:$I,'Cek Yasaklisi ( gerçek tekil )'!$C71),0) -> 2 | G71: =IFERROR(SUMIFS([1]DATA!$J:$J,[1]DATA!$G:$G,'Cek Yasaklisi ( gerçek tekil )'!G$2,[1]DATA!$H:$H,'Cek Yasaklisi ( gerçek tekil )'!$C$1,[1]DATA!$I:$I,'Cek Yasaklisi ( gerçek tekil )'!$C71),0) -> 2 | H71: =IFERROR(SUMIFS([1]DATA!$J:$J,[1]DATA!$G:$G,'Cek Yasaklisi ( gerçek tekil )'!H$2,[1]DATA!$H:$H,'Cek Yasaklisi ( gerçek tekil )'!$C$1,[1]DATA!$I:$I,'Cek Yasaklisi ( gerçek tekil )'!$C71),0) -> 2 | I71: =IFERROR(SUMIFS([1]DATA!$J:$J,[1]DATA!$G:$G,'Cek Yasaklisi ( gerçek tekil )'!I$2,[1]DATA!$H:$H,'Cek Yasaklisi ( gerçek tekil )'!$C$1,[1]DATA!$I:$I,'Cek Yasaklisi ( gerçek tekil )'!$C71),0) -> 4 | J71: =IFERROR(SUMIFS([1]DATA!$J:$J,[1]DATA!$G:$G,'Cek Yasaklisi ( gerçek tekil )'!J$2,[1]DATA!$H:$H,'Cek Yasaklisi ( gerçek tekil )'!$C$1,[1]DATA!$I:$I,'Cek Yasaklisi ( gerçek tekil )'!$C71),0) -> 0 | K71: =IFERROR(SUMIFS([1]DATA!$J:$J,[1]DATA!$G:$G,'Cek Yasaklisi ( gerçek tekil )'!K$2,[1]DATA!$H:$H,'Cek Yasaklisi ( gerçek tekil )'!$C$1,[1]DATA!$I:$I,'Cek Yasaklisi ( gerçek tekil )'!$C71),0) -> 1 | L71: =IFERROR(SUMIFS([1]DATA!$J:$J,[1]DATA!$G:$G,'Cek Yasaklisi ( gerçek tekil )'!L$2,[1]DATA!$H:$H,'Cek Yasaklisi ( gerçek tekil )'!$C$1,[1]DATA!$I:$I,'Cek Yasaklisi ( gerçek tekil )'!$C71),0) -> 0 | M71: =IFERROR(SUMIFS([1]DATA!$J:$J,[1]DATA!$G:$G,'Cek Yasaklisi ( gerçek tekil )'!M$2,[1]DATA!$H:$H,'Cek Yasaklisi ( gerçek tekil )'!$C$1,[1]DATA!$I:$I,'Cek Yasaklisi ( gerçek tekil )'!$C71),0) -> 0 | Q71: =IFERROR(SUMIFS([1]DATA!$X:$X,[1]DATA!$V:$V,'Cek Yasaklisi ( gerçek tekil )'!$C$1,[1]DATA!$W:$W,'Cek Yasaklisi ( gerçek tekil )'!$C71,[1]DATA!$U:$U,'Cek Yasaklisi ( gerçek tekil )'!$C$2),0) -> 9
C72: 69 | D72: Bayburt | E72: =IFERROR(SUMIFS([1]DATA!$J:$J,[1]DATA!$G:$G,'Cek Yasaklisi ( gerçek tekil )'!E$2,[1]DATA!$H:$H,'Cek Yasaklisi ( gerçek tekil )'!$C$1,[1]DATA!$I:$I,'Cek Yasaklisi ( gerçek tekil )'!$C72),0) -> 0 | F72: =IFERROR(SUMIFS([1]DATA!$J:$J,[1]DATA!$G:$G,'Cek Yasaklisi ( gerçek tekil )'!F$2,[1]DATA!$H:$H,'Cek Yasaklisi ( gerçek tekil )'!$C$1,[1]DATA!$I:$I,'Cek Yasaklisi ( gerçek tekil )'!$C72),0) -> 2 | G72: =IFERROR(SUMIFS([1]DATA!$J:$J,[1]DATA!$G:$G,'Cek Yasaklisi ( gerçek tekil )'!G$2,[1]DATA!$H:$H,'Cek Yasaklisi ( gerçek tekil )'!$C$1,[1]DATA!$I:$I,'Cek Yasaklisi ( gerçek tekil )'!$C72),0) -> 0 | H72: =IFERROR(SUMIFS([1]DATA!$J:$J,[1]DATA!$G:$G,'Cek Yasaklisi ( gerçek tekil )'!H$2,[1]DATA!$H:$H,'Cek Yasaklisi ( gerçek tekil )'!$C$1,[1]DATA!$I:$I,'Cek Yasaklisi ( gerçek tekil )'!$C72),0) -> 0 | I72: =IFERROR(SUMIFS([1]DATA!$J:$J,[1]DATA!$G:$G,'Cek Yasaklisi ( gerçek tekil )'!I$2,[1]DATA!$H:$H,'Cek Yasaklisi ( gerçek tekil )'!$C$1,[1]DATA!$I:$I,'Cek Yasaklisi ( gerçek tekil )'!$C72),0) -> 0 | J72: =IFERROR(SUMIFS([1]DATA!$J:$J,[1]DATA!$G:$G,'Cek Yasaklisi ( gerçek tekil )'!J$2,[1]DATA!$H:$H,'Cek Yasaklisi ( gerçek tekil )'!$C$1,[1]DATA!$I:$I,'Cek Yasaklisi ( gerçek tekil )'!$C72),0) -> 0 | K72: =IFERROR(SUMIFS([1]DATA!$J:$J,[1]DATA!$G:$G,'Cek Yasaklisi ( gerçek tekil )'!K$2,[1]DATA!$H:$H,'Cek Yasaklisi ( gerçek tekil )'!$C$1,[1]DATA!$I:$I,'Cek Yasaklisi ( gerçek tekil )'!$C72),0) -> 0 | L72: =IFERROR(SUMIFS([1]DATA!$J:$J,[1]DATA!$G:$G,'Cek Yasaklisi ( gerçek tekil )'!L$2,[1]DATA!$H:$H,'Cek Yasaklisi ( gerçek tekil )'!$C$1,[1]DATA!$I:$I,'Cek Yasaklisi ( gerçek tekil )'!$C72),0) -> 0 | M72: =IFERROR(SUMIFS([1]DATA!$J:$J,[1]DATA!$G:$G,'Cek Yasaklisi ( gerçek tekil )'!M$2,[1]DATA!$H:$H,'Cek Yasaklisi ( gerçek tekil )'!$C$1,[1]DATA!$I:$I,'Cek Yasaklisi ( gerçek tekil )'!$C72),0) -> 0 | Q72: =IFERROR(SUMIFS([1]DATA!$X:$X,[1]DATA!$V:$V,'Cek Yasaklisi ( gerçek tekil )'!$C$1,[1]DATA!$W:$W,'Cek Yasaklisi ( gerçek tekil )'!$C72,[1]DATA!$U:$U,'Cek Yasaklisi ( gerçek tekil )'!$C$2),0) -> 2
C73: 24 | D73: Erzincan | E73: =IFERROR(SUMIFS([1]DATA!$J:$J,[1]DATA!$G:$G,'Cek Yasaklisi ( gerçek tekil )'!E$2,[1]DATA!$H:$H,'Cek Yasaklisi ( gerçek tekil )'!$C$1,[1]DATA!$I:$I,'Cek Yasaklisi ( gerçek tekil )'!$C73),0) -> 11 | F73: =IFERROR(SUMIFS([1]DATA!$J:$J,[1]DATA!$G:$G,'Cek Yasaklisi ( gerçek tekil )'!F$2,[1]DATA!$H:$H,'Cek Yasaklisi ( gerçek tekil )'!$C$1,[1]DATA!$I:$I,'Cek Yasaklisi ( gerçek tekil )'!$C73),0) -> 3 | G73: =IFERROR(SUMIFS([1]DATA!$J:$J,[1]DATA!$G:$G,'Cek Yasaklisi ( gerçek tekil )'!G$2,[1]DATA!$H:$H,'Cek Yasaklisi ( gerçek tekil )'!$C$1,[1]DATA!$I:$I,'Cek Yasaklisi ( gerçek tekil )'!$C73),0) -> 1 | H73: =IFERROR(SUMIFS([1]DATA!$J:$J,[1]DATA!$G:$G,'Cek Yasaklisi ( gerçek tekil )'!H$2,[1]DATA!$H:$H,'Cek Yasaklisi ( gerçek tekil )'!$C$1,[1]DATA!$I:$I,'Cek Yasaklisi ( gerçek tekil )'!$C73),0) -> 6 | I73: =IFERROR(SUMIFS([1]DATA!$J:$J,[1]DATA!$G:$G,'Cek Yasaklisi ( gerçek tekil )'!I$2,[1]DATA!$H:$H,'Cek Yasaklisi ( gerçek tekil )'!$C$1,[1]DATA!$I:$I,'Cek Yasaklisi ( gerçek tekil )'!$C73),0) -> 9 | J73: =IFERROR(SUMIFS([1]DATA!$J:$J,[1]DATA!$G:$G,'Cek Yasaklisi ( gerçek tekil )'!J$2,[1]DATA!$H:$H,'Cek Yasaklisi ( gerçek tekil )'!$C$1,[1]DATA!$I:$I,'Cek Yasaklisi ( gerçek tekil )'!$C73),0) -> 13 | K73: =IFERROR(SUMIFS([1]DATA!$J:$J,[1]DATA!$G:$G,'Cek Yasaklisi ( gerçek tekil )'!K$2,[1]DATA!$H:$H,'Cek Yasaklisi ( gerçek tekil )'!$C$1,[1]DATA!$I:$I,'Cek Yasaklisi ( gerçek tekil )'!$C73),0) -> 3 | L73: =IFERROR(SUMIFS([1]DATA!$J:$J,[1]DATA!$G:$G,'Cek Yasaklisi ( gerçek tekil )'!L$2,[1]DATA!$H:$H,'Cek Yasaklisi ( gerçek tekil )'!$C$1,[1]DATA!$I:$I,'Cek Yasaklisi ( gerçek tekil )'!$C73),0) -> 0 | M73: =IFERROR(SUMIFS([1]DATA!$J:$J,[1]DATA!$G:$G,'Cek Yasaklisi ( gerçek tekil )'!M$2,[1]DATA!$H:$H,'Cek Yasaklisi ( gerçek tekil )'!$C$1,[1]DATA!$I:$I,'Cek Yasaklisi ( gerçek tekil )'!$C73),0) -> 0 | Q73: =IFERROR(SUMIFS([1]DATA!$X:$X,[1]DATA!$V:$V,'Cek Yasaklisi ( gerçek tekil )'!$C$1,[1]DATA!$W:$W,'Cek Yasaklisi ( gerçek tekil )'!$C73,[1]DATA!$U:$U,'Cek Yasaklisi ( gerçek tekil )'!$C$2),0) -> 34
C74: 25 | D74: Erzurum | E74: =IFERROR(SUMIFS([1]DATA!$J:$J,[1]DATA!$G:$G,'Cek Yasaklisi ( gerçek tekil )'!E$2,[1]DATA!$H:$H,'Cek Yasaklisi ( gerçek tekil )'!$C$1,[1]DATA!$I:$I,'Cek Yasaklisi ( gerçek tekil )'!$C74),0) -> 5 | F74: =IFERROR(SUMIFS([1]DATA!$J:$J,[1]DATA!$G:$G,'Cek Yasaklisi ( gerçek tekil )'!F$2,[1]DATA!$H:$H,'Cek Yasaklisi ( gerçek tekil )'!$C$1,[1]DATA!$I:$I,'Cek Yasaklisi ( gerçek tekil )'!$C74),0) -> 1 | G74: =IFERROR(SUMIFS([1]DATA!$J:$J,[1]DATA!$G:$G,'Cek Yasaklisi ( gerçek tekil )'!G$2,[1]DATA!$H:$H,'Cek Yasaklisi ( gerçek tekil )'!$C$1,[1]DATA!$I:$I,'Cek Yasaklisi ( gerçek tekil )'!$C74),0) -> 8 | H74: =IFERROR(SUMIFS([1]DATA!$J:$J,[1]DATA!$G:$G,'Cek Yasaklisi ( gerçek tekil )'!H$2,[1]DATA!$H:$H,'Cek Yasaklisi ( gerçek tekil )'!$C$1,[1]DATA!$I:$I,'Cek Yasaklisi ( gerçek tekil )'!$C74),0) -> 8 | I74: =IFERROR(SUMIFS([1]DATA!$J:$J,[1]DATA!$G:$G,'Cek Yasaklisi ( gerçek tekil )'!I$2,[1]DATA!$H:$H,'Cek Yasaklisi ( gerçek tekil )'!$C$1,[1]DATA!$I:$I,'Cek Yasaklisi ( gerçek tekil )'!$C74),0) -> 8 | J74: =IFERROR(SUMIFS([1]DATA!$J:$J,[1]DATA!$G:$G,'Cek Yasaklisi ( gerçek tekil )'!J$2,[1]DATA!$H:$H,'Cek Yasaklisi ( gerçek tekil )'!$C$1,[1]DATA!$I:$I,'Cek Yasaklisi ( gerçek tekil )'!$C74),0) -> 15 | K74: =IFERROR(SUMIFS([1]DATA!$J:$J,[1]DATA!$G:$G,'Cek Yasaklisi ( gerçek tekil )'!K$2,[1]DATA!$H:$H,'Cek Yasaklisi ( gerçek tekil )'!$C$1,[1]DATA!$I:$I,'Cek Yasaklisi ( gerçek tekil )'!$C74),0) -> 6 | L74: =IFERROR(SUMIFS([1]DATA!$J:$J,[1]DATA!$G:$G,'Cek Yasaklisi ( gerçek tekil )'!L$2,[1]DATA!$H:$H,'Cek Yasaklisi ( gerçek tekil )'!$C$1,[1]DATA!$I:$I,'Cek Yasaklisi ( gerçek tekil )'!$C74),0) -> 6 | M74: =IFERROR(SUMIFS([1]DATA!$J:$J,[1]DATA!$G:$G,'Cek Yasaklisi ( gerçek tekil )'!M$2,[1]DATA!$H:$H,'Cek Yasaklisi ( gerçek tekil )'!$C$1,[1]DATA!$I:$I,'Cek Yasaklisi ( gerçek tekil )'!$C74),0) -> 1 | Q74: =IFERROR(SUMIFS([1]DATA!$X:$X,[1]DATA!$V:$V,'Cek Yasaklisi ( gerçek tekil )'!$C$1,[1]DATA!$W:$W,'Cek Yasaklisi ( gerçek tekil )'!$C74,[1]DATA!$U:$U,'Cek Yasaklisi ( gerçek tekil )'!$C$2),0) -> 47
C75: 76 | D75: Iğdır | E75: =IFERROR(SUMIFS([1]DATA!$J:$J,[1]DATA!$G:$G,'Cek Yasaklisi ( gerçek tekil )'!E$2,[1]DATA!$H:$H,'Cek Yasaklisi ( gerçek tekil )'!$C$1,[1]DATA!$I:$I,'Cek Yasaklisi ( gerçek tekil )'!$C75),0) -> 4 | F75: =IFERROR(SUMIFS([1]DATA!$J:$J,[1]DATA!$G:$G,'Cek Yasaklisi ( gerçek tekil )'!F$2,[1]DATA!$H:$H,'Cek Yasaklisi ( gerçek tekil )'!$C$1,[1]DATA!$I:$I,'Cek Yasaklisi ( gerçek tekil )'!$C75),0) -> 1 | G75: =IFERROR(SUMIFS([1]DATA!$J:$J,[1]DATA!$G:$G,'Cek Yasaklisi ( gerçek tekil )'!G$2,[1]DATA!$H:$H,'Cek Yasaklisi ( gerçek tekil )'!$C$1,[1]DATA!$I:$I,'Cek Yasaklisi ( gerçek tekil )'!$C75),0) -> 0 | H75: =IFERROR(SUMIFS([1]DATA!$J:$J,[1]DATA!$G:$G,'Cek Yasaklisi ( gerçek tekil )'!H$2,[1]DATA!$H:$H,'Cek Yasaklisi ( gerçek tekil )'!$C$1,[1]DATA!$I:$I,'Cek Yasaklisi ( gerçek tekil )'!$C75),0) -> 4 | I75: =IFERROR(SUMIFS([1]DATA!$J:$J,[1]DATA!$G:$G,'Cek Yasaklisi ( gerçek tekil )'!I$2,[1]DATA!$H:$H,'Cek Yasaklisi ( gerçek tekil )'!$C$1,[1]DATA!$I:$I,'Cek Yasaklisi ( gerçek tekil )'!$C75),0) -> 2 | J75: =IFERROR(SUMIFS([1]DATA!$J:$J,[1]DATA!$G:$G,'Cek Yasaklisi ( gerçek tekil )'!J$2,[1]DATA!$H:$H,'Cek Yasaklisi ( gerçek tekil )'!$C$1,[1]DATA!$I:$I,'Cek Yasaklisi ( gerçek tekil )'!$C75),0) -> 2 | K75: =IFERROR(SUMIFS([1]DATA!$J:$J,[1]DATA!$G:$G,'Cek Yasaklisi ( gerçek tekil )'!K$2,[1]DATA!$H:$H,'Cek Yasaklisi ( gerçek tekil )'!$C$1,[1]DATA!$I:$I,'Cek Yasaklisi ( gerçek tekil )'!$C75),0) -> 1 | L75: =IFERROR(SUMIFS([1]DATA!$J:$J,[1]DATA!$G:$G,'Cek Yasaklisi ( gerçek tekil )'!L$2,[1]DATA!$H:$H,'Cek Yasaklisi ( gerçek tekil )'!$C$1,[1]DATA!$I:$I,'Cek Yasaklisi ( gerçek tekil )'!$C75),0) -> 2 | M75: =IFERROR(SUMIFS([1]DATA!$J:$J,[1]DATA!$G:$G,'Cek Yasaklisi ( gerçek tekil )'!M$2,[1]DATA!$H:$H,'Cek Yasaklisi ( gerçek tekil )'!$C$1,[1]DATA!$I:$I,'Cek Yasaklisi ( gerçek tekil )'!$C75),0) -> 1 | Q75: =IFERROR(SUMIFS([1]DATA!$X:$X,[1]DATA!$V:$V,'Cek Yasaklisi ( gerçek tekil )'!$C$1,[1]DATA!$W:$W,'Cek Yasaklisi ( gerçek tekil )'!$C75,[1]DATA!$U:$U,'Cek Yasaklisi ( gerçek tekil )'!$C$2),0) -> 15
C76: 36 | D76: Kars | E76: =IFERROR(SUMIFS([1]DATA!$J:$J,[1]DATA!$G:$G,'Cek Yasaklisi ( gerçek tekil )'!E$2,[1]DATA!$H:$H,'Cek Yasaklisi ( gerçek tekil )'!$C$1,[1]DATA!$I:$I,'Cek Yasaklisi ( gerçek tekil )'!$C76),0) -> 3 | F76: =IFERROR(SUMIFS([1]DATA!$J:$J,[1]DATA!$G:$G,'Cek Yasaklisi ( gerçek tekil )'!F$2,[1]DATA!$H:$H,'Cek Yasaklisi ( gerçek tekil )'!$C$1,[1]DATA!$I:$I,'Cek Yasaklisi ( gerçek tekil )'!$C76),0) -> 2 | G76: =IFERROR(SUMIFS([1]DATA!$J:$J,[1]DATA!$G:$G,'Cek Yasaklisi ( gerçek tekil )'!G$2,[1]DATA!$H:$H,'Cek Yasaklisi ( gerçek tekil )'!$C$1,[1]DATA!$I:$I,'Cek Yasaklisi ( gerçek tekil )'!$C76),0) -> 2 | H76: =IFERROR(SUMIFS([1]DATA!$J:$J,[1]DATA!$G:$G,'Cek Yasaklisi ( gerçek tekil )'!H$2,[1]DATA!$H:$H,'Cek Yasaklisi ( gerçek tekil )'!$C$1,[1]DATA!$I:$I,'Cek Yasaklisi ( gerçek tekil )'!$C76),0) -> 4 | I76: =IFERROR(SUMIFS([1]DATA!$J:$J,[1]DATA!$G:$G,'Cek Yasaklisi ( gerçek tekil )'!I$2,[1]DATA!$H:$H,'Cek Yasaklisi ( gerçek tekil )'!$C$1,[1]DATA!$I:$I,'Cek Yasaklisi ( gerçek tekil )'!$C76),0) -> 2 | J76: =IFERROR(SUMIFS([1]DATA!$J:$J,[1]DATA!$G:$G,'Cek Yasaklisi ( gerçek tekil )'!J$2,[1]DATA!$H:$H,'Cek Yasaklisi ( gerçek tekil )'!$C$1,[1]DATA!$I:$I,'Cek Yasaklisi ( gerçek tekil )'!$C76),0) -> 3 | K76: =IFERROR(SUMIFS([1]DATA!$J:$J,[1]DATA!$G:$G,'Cek Yasaklisi ( gerçek tekil )'!K$2,[1]DATA!$H:$H,'Cek Yasaklisi ( gerçek tekil )'!$C$1,[1]DATA!$I:$I,'Cek Yasaklisi ( gerçek tekil )'!$C76),0) -> 3 | L76: =IFERROR(SUMIFS([1]DATA!$J:$J,[1]DATA!$G:$G,'Cek Yasaklisi ( gerçek tekil )'!L$2,[1]DATA!$H:$H,'Cek Yasaklisi ( gerçek tekil )'!$C$1,[1]DATA!$I:$I,'Cek Yasaklisi ( gerçek tekil )'!$C76),0) -> 2 | M76: =IFERROR(SUMIFS([1]DATA!$J:$J,[1]DATA!$G:$G,'Cek Yasaklisi ( gerçek tekil )'!M$2,[1]DATA!$H:$H,'Cek Yasaklisi ( gerçek tekil )'!$C$1,[1]DATA!$I:$I,'Cek Yasaklisi ( gerçek tekil )'!$C76),0) -> 5 | Q76: =IFERROR(SUMIFS([1]DATA!$X:$X,[1]DATA!$V:$V,'Cek Yasaklisi ( gerçek tekil )'!$C$1,[1]DATA!$W:$W,'Cek Yasaklisi ( gerçek tekil )'!$C76,[1]DATA!$U:$U,'Cek Yasaklisi ( gerçek tekil )'!$C$2),0) -> 21
C77: Ortadogu Anadolu | D77: Ortadoğu Anadolu | E77: =IFERROR(SUMIFS([1]DATA!$Q:$Q,[1]DATA!$N:$N,'Cek Yasaklisi ( gerçek tekil )'!E$2,[1]DATA!$O:$O,'Cek Yasaklisi ( gerçek tekil )'!$C$1,[1]DATA!$P:$P,'Cek Yasaklisi ( gerçek tekil )'!$C77),0) -> 46 | F77: =IFERROR(SUMIFS([1]DATA!$Q:$Q,[1]DATA!$N:$N,'Cek Yasaklisi ( gerçek tekil )'!F$2,[1]DATA!$O:$O,'Cek Yasaklisi ( gerçek tekil )'!$C$1,[1]DATA!$P:$P,'Cek Yasaklisi ( gerçek tekil )'!$C77),0) -> 66 | G77: =IFERROR(SUMIFS([1]DATA!$Q:$Q,[1]DATA!$N:$N,'Cek Yasaklisi ( gerçek tekil )'!G$2,[1]DATA!$O:$O,'Cek Yasaklisi ( gerçek tekil )'!$C$1,[1]DATA!$P:$P,'Cek Yasaklisi ( gerçek tekil )'!$C77),0) -> 62 | H77: =IFERROR(SUMIFS([1]DATA!$Q:$Q,[1]DATA!$N:$N,'Cek Yasaklisi ( gerçek tekil )'!H$2,[1]DATA!$O:$O,'Cek Yasaklisi ( gerçek tekil )'!$C$1,[1]DATA!$P:$P,'Cek Yasaklisi ( gerçek tekil )'!$C77),0) -> 57 | I77: =IFERROR(SUMIFS([1]DATA!$Q:$Q,[1]DATA!$N:$N,'Cek Yasaklisi ( gerçek tekil )'!I$2,[1]DATA!$O:$O,'Cek Yasaklisi ( gerçek tekil )'!$C$1,[1]DATA!$P:$P,'Cek Yasaklisi ( gerçek tekil )'!$C77),0) -> 33 | J77: =IFERROR(SUMIFS([1]DATA!$Q:$Q,[1]DATA!$N:$N,'Cek Yasaklisi ( gerçek tekil )'!J$2,[1]DATA!$O:$O,'Cek Yasaklisi ( gerçek tekil )'!$C$1,[1]DATA!$P:$P,'Cek Yasaklisi ( gerçek tekil )'!$C77),0) -> 64 | K77: =IFERROR(SUMIFS([1]DATA!$Q:$Q,[1]DATA!$N:$N,'Cek Yasaklisi ( gerçek tekil )'!K$2,[1]DATA!$O:$O,'Cek Yasaklisi ( gerçek tekil )'!$C$1,[1]DATA!$P:$P,'Cek Yasaklisi ( gerçek tekil )'!$C77),0) -> 75 | L77: =IFERROR(SUMIFS([1]DATA!$Q:$Q,[1]DATA!$N:$N,'Cek Yasaklisi ( gerçek tekil )'!L$2,[1]DATA!$O:$O,'Cek Yasaklisi ( gerçek tekil )'!$C$1,[1]DATA!$P:$P,'Cek Yasaklisi ( gerçek tekil )'!$C77),0) -> 47 | M77: =IFERROR(SUMIFS([1]DATA!$Q:$Q,[1]DATA!$N:$N,'Cek Yasaklisi ( gerçek tekil )'!M$2,[1]DATA!$O:$O,'Cek Yasaklisi ( gerçek tekil )'!$C$1,[1]DATA!$P:$P,'Cek Yasaklisi ( gerçek tekil )'!$C77),0) -> 56 | Q77: =IFERROR(SUMIFS([1]DATA!$AE:$AE,[1]DATA!$AC:$AC,'Cek Yasaklisi ( gerçek tekil )'!$C$1,[1]DATA!$AD:$AD,'Cek Yasaklisi ( gerçek tekil )'!$C77,[1]DATA!$AB:$AB,'Cek Yasaklisi ( gerçek tekil )'!$C$2),0) -> 387
C78: 12 | D78: Bingöl | E78: =IFERROR(SUMIFS([1]DATA!$J:$J,[1]DATA!$G:$G,'Cek Yasaklisi ( gerçek tekil )'!E$2,[1]DATA!$H:$H,'Cek Yasaklisi ( gerçek tekil )'!$C$1,[1]DATA!$I:$I,'Cek Yasaklisi ( gerçek tekil )'!$C78),0) -> 0 | F78: =IFERROR(SUMIFS([1]DATA!$J:$J,[1]DATA!$G:$G,'Cek Yasaklisi ( gerçek tekil )'!F$2,[1]DATA!$H:$H,'Cek Yasaklisi ( gerçek tekil )'!$C$1,[1]DATA!$I:$I,'Cek Yasaklisi ( gerçek tekil )'!$C78),0) -> 0 | G78: =IFERROR(SUMIFS([1]DATA!$J:$J,[1]DATA!$G:$G,'Cek Yasaklisi ( gerçek tekil )'!G$2,[1]DATA!$H:$H,'Cek Yasaklisi ( gerçek tekil )'!$C$1,[1]DATA!$I:$I,'Cek Yasaklisi ( gerçek tekil )'!$C78),0) -> 0 | H78: =IFERROR(SUMIFS([1]DATA!$J:$J,[1]DATA!$G:$G,'Cek Yasaklisi ( gerçek tekil )'!H$2,[1]DATA!$H:$H,'Cek Yasaklisi ( gerçek tekil )'!$C$1,[1]DATA!$I:$I,'Cek Yasaklisi ( gerçek tekil )'!$C78),0) -> 2 | I78: =IFERROR(SUMIFS([1]DATA!$J:$J,[1]DATA!$G:$G,'Cek Yasaklisi ( gerçek tekil )'!I$2,[1]DATA!$H:$H,'Cek Yasaklisi ( gerçek tekil )'!$C$1,[1]DATA!$I:$I,'Cek Yasaklisi ( gerçek tekil )'!$C78),0) -> 2 | J78: =IFERROR(SUMIFS([1]DATA!$J:$J,[1]DATA!$G:$G,'Cek Yasaklisi ( gerçek tekil )'!J$2,[1]DATA!$H:$H,'Cek Yasaklisi ( gerçek tekil )'!$C$1,[1]DATA!$I:$I,'Cek Yasaklisi ( gerçek tekil )'!$C78),0) -> 1 | K78: =IFERROR(SUMIFS([1]DATA!$J:$J,[1]DATA!$G:$G,'Cek Yasaklisi ( gerçek tekil )'!K$2,[1]DATA!$H:$H,'Cek Yasaklisi ( gerçek tekil )'!$C$1,[1]DATA!$I:$I,'Cek Yasaklisi ( gerçek tekil )'!$C78),0) -> 9 | L78: =IFERROR(SUMIFS([1]DATA!$J:$J,[1]DATA!$G:$G,'Cek Yasaklisi ( gerçek tekil )'!L$2,[1]DATA!$H:$H,'Cek Yasaklisi ( gerçek tekil )'!$C$1,[1]DATA!$I:$I,'Cek Yasaklisi ( gerçek tekil )'!$C78),0) -> 0 | M78: =IFERROR(SUMIFS([1]DATA!$J:$J,[1]DATA!$G:$G,'Cek Yasaklisi ( gerçek tekil )'!M$2,[1]DATA!$H:$H,'Cek Yasaklisi ( gerçek tekil )'!$C$1,[1]DATA!$I:$I,'Cek Yasaklisi ( gerçek tekil )'!$C78),0) -> 0 | Q78: =IFERROR(SUMIFS([1]DATA!$X:$X,[1]DATA!$V:$V,'Cek Yasaklisi ( gerçek tekil )'!$C$1,[1]DATA!$W:$W,'Cek Yasaklisi ( gerçek tekil )'!$C78,[1]DATA!$U:$U,'Cek Yasaklisi ( gerçek tekil )'!$C$2),0) -> 14
C79: 13 | D79: Bitlis | E79: =IFERROR(SUMIFS([1]DATA!$J:$J,[1]DATA!$G:$G,'Cek Yasaklisi ( gerçek tekil )'!E$2,[1]DATA!$H:$H,'Cek Yasaklisi ( gerçek tekil )'!$C$1,[1]DATA!$I:$I,'Cek Yasaklisi ( gerçek tekil )'!$C79),0) -> 2 | F79: =IFERROR(SUMIFS([1]DATA!$J:$J,[1]DATA!$G:$G,'Cek Yasaklisi ( gerçek tekil )'!F$2,[1]DATA!$H:$H,'Cek Yasaklisi ( gerçek tekil )'!$C$1,[1]DATA!$I:$I,'Cek Yasaklisi ( gerçek tekil )'!$C79),0) -> 3 | G79: =IFERROR(SUMIFS([1]DATA!$J:$J,[1]DATA!$G:$G,'Cek Yasaklisi ( gerçek tekil )'!G$2,[1]DATA!$H:$H,'Cek Yasaklisi ( gerçek tekil )'!$C$1,[1]DATA!$I:$I,'Cek Yasaklisi ( gerçek tekil )'!$C79),0) -> 2 | H79: =IFERROR(SUMIFS([1]DATA!$J:$J,[1]DATA!$G:$G,'Cek Yasaklisi ( gerçek tekil )'!H$2,[1]DATA!$H:$H,'Cek Yasaklisi ( gerçek tekil )'!$C$1,[1]DATA!$I:$I,'Cek Yasaklisi ( gerçek tekil )'!$C79),0) -> 4 | I79: =IFERROR(SUMIFS([1]DATA!$J:$J,[1]DATA!$G:$G,'Cek Yasaklisi ( gerçek tekil )'!I$2,[1]DATA!$H:$H,'Cek Yasaklisi ( gerçek tekil )'!$C$1,[1]DATA!$I:$I,'Cek Yasaklisi ( gerçek tekil )'!$C79),0) -> 4 | J79: =IFERROR(SUMIFS([1]DATA!$J:$J,[1]DATA!$G:$G,'Cek Yasaklisi ( gerçek tekil )'!J$2,[1]DATA!$H:$H,'Cek Yasaklisi ( gerçek tekil )'!$C$1,[1]DATA!$I:$I,'Cek Yasaklisi ( gerçek tekil )'!$C79),0) -> 4 | K79: =IFERROR(SUMIFS([1]DATA!$J:$J,[1]DATA!$G:$G,'Cek Yasaklisi ( gerçek tekil )'!K$2,[1]DATA!$H:$H,'Cek Yasaklisi ( gerçek tekil )'!$C$1,[1]DATA!$I:$I,'Cek Yasaklisi ( gerçek tekil )'!$C79),0) -> 1 | L79: =IFERROR(SUMIFS([1]DATA!$J:$J,[1]DATA!$G:$G,'Cek Yasaklisi ( gerçek tekil )'!L$2,[1]DATA!$H:$H,'Cek Yasaklisi ( gerçek tekil )'!$C$1,[1]DATA!$I:$I,'Cek Yasaklisi ( gerçek tekil )'!$C79),0) -> 2 | M79: =IFERROR(SUMIFS([1]DATA!$J:$J,[1]DATA!$G:$G,'Cek Yasaklisi ( gerçek tekil )'!M$2,[1]DATA!$H:$H,'Cek Yasaklisi ( gerçek tekil )'!$C$1,[1]DATA!$I:$I,'Cek Yasaklisi ( gerçek tekil )'!$C79),0) -> 7 | Q79: =IFERROR(SUMIFS([1]DATA!$X:$X,[1]DATA!$V:$V,'Cek Yasaklisi ( gerçek tekil )'!$C$1,[1]DATA!$W:$W,'Cek Yasaklisi ( gerçek tekil )'!$C79,[1]DATA!$U:$U,'Cek Yasaklisi ( gerçek tekil )'!$C$2),0) -> 25
C80: 23 | D80: Elazığ | E80: =IFERROR(SUMIFS([1]DATA!$J:$J,[1]DATA!$G:$G,'Cek Yasaklisi ( gerçek tekil )'!E$2,[1]DATA!$H:$H,'Cek Yasaklisi ( gerçek tekil )'!$C$1,[1]DATA!$I:$I,'Cek Yasaklisi ( gerçek tekil )'!$C80),0) -> 12 | F80: =IFERROR(SUMIFS([1]DATA!$J:$J,[1]DATA!$G:$G,'Cek Yasaklisi ( gerçek tekil )'!F$2,[1]DATA!$H:$H,'Cek Yasaklisi ( gerçek tekil )'!$C$1,[1]DATA!$I:$I,'Cek Yasaklisi ( gerçek tekil )'!$C80),0) -> 22 | G80: =IFERROR(SUMIFS([1]DATA!$J:$J,[1]DATA!$G:$G,'Cek Yasaklisi ( gerçek tekil )'!G$2,[1]DATA!$H:$H,'Cek Yasaklisi ( gerçek tekil )'!$C$1,[1]DATA!$I:$I,'Cek Yasaklisi ( gerçek tekil )'!$C80),0) -> 24 | H80: =IFERROR(SUMIFS([1]DATA!$J:$J,[1]DATA!$G:$G,'Cek Yasaklisi ( gerçek tekil )'!H$2,[1]DATA!$H:$H,'Cek Yasaklisi ( gerçek tekil )'!$C$1,[1]DATA!$I:$I,'Cek Yasaklisi ( gerçek tekil )'!$C80),0) -> 12 | I80: =IFERROR(SUMIFS([1]DATA!$J:$J,[1]DATA!$G:$G,'Cek Yasaklisi ( gerçek tekil )'!I$2,[1]DATA!$H:$H,'Cek Yasaklisi ( gerçek tekil )'!$C$1,[1]DATA!$I:$I,'Cek Yasaklisi ( gerçek tekil )'!$C80),0) -> 2 | J80: =IFERROR(SUMIFS([1]DATA!$J:$J,[1]DATA!$G:$G,'Cek Yasaklisi ( gerçek tekil )'!J$2,[1]DATA!$H:$H,'Cek Yasaklisi ( gerçek tekil )'!$C$1,[1]DATA!$I:$I,'Cek Yasaklisi ( gerçek tekil )'!$C80),0) -> 18 | K80: =IFERROR(SUMIFS([1]DATA!$J:$J,[1]DATA!$G:$G,'Cek Yasaklisi ( gerçek tekil )'!K$2,[1]DATA!$H:$H,'Cek Yasaklisi ( gerçek tekil )'!$C$1,[1]DATA!$I:$I,'Cek Yasaklisi ( gerçek tekil )'!$C80),0) -> 15 | L80: =IFERROR(SUMIFS([1]DATA!$J:$J,[1]DATA!$G:$G,'Cek Yasaklisi ( gerçek tekil )'!L$2,[1]DATA!$H:$H,'Cek Yasaklisi ( gerçek tekil )'!$C$1,[1]DATA!$I:$I,'Cek Yasaklisi ( gerçek tekil )'!$C80),0) -> 0 | M80: =IFERROR(SUMIFS([1]DATA!$J:$J,[1]DATA!$G:$G,'Cek Yasaklisi ( gerçek tekil )'!M$2,[1]DATA!$H:$H,'Cek Yasaklisi ( gerçek tekil )'!$C$1,[1]DATA!$I:$I,'Cek Yasaklisi ( gerçek tekil )'!$C80),0) -> 1 | Q80: =IFERROR(SUMIFS([1]DATA!$X:$X,[1]DATA!$V:$V,'Cek Yasaklisi ( gerçek tekil )'!$C$1,[1]DATA!$W:$W,'Cek Yasaklisi ( gerçek tekil )'!$C80,[1]DATA!$U:$U,'Cek Yasaklisi ( gerçek tekil )'!$C$2),0) -> 82
C81: 30 | D81: Hakkari | E81: =IFERROR(SUMIFS([1]DATA!$J:$J,[1]DATA!$G:$G,'Cek Yasaklisi ( gerçek tekil )'!E$2,[1]DATA!$H:$H,'Cek Yasaklisi ( gerçek tekil )'!$C$1,[1]DATA!$I:$I,'Cek Yasaklisi ( gerçek tekil )'!$C81),0) -> 0 | F81: =IFERROR(SUMIFS([1]DATA!$J:$J,[1]DATA!$G:$G,'Cek Yasaklisi ( gerçek tekil )'!F$2,[1]DATA!$H:$H,'Cek Yasaklisi ( gerçek tekil )'!$C$1,[1]DATA!$I:$I,'Cek Yasaklisi ( gerçek tekil )'!$C81),0) -> 0 | G81: =IFERROR(SUMIFS([1]DATA!$J:$J,[1]DATA!$G:$G,'Cek Yasaklisi ( gerçek tekil )'!G$2,[1]DATA!$H:$H,'Cek Yasaklisi ( gerçek tekil )'!$C$1,[1]DATA!$I:$I,'Cek Yasaklisi ( gerçek tekil )'!$C81),0) -> 0 | H81: =IFERROR(SUMIFS([1]DATA!$J:$J,[1]DATA!$G:$G,'Cek Yasaklisi ( gerçek tekil )'!H$2,[1]DATA!$H:$H,'Cek Yasaklisi ( gerçek tekil )'!$C$1,[1]DATA!$I:$I,'Cek Yasaklisi ( gerçek tekil )'!$C81),0) -> 1 | I81: =IFERROR(SUMIFS([1]DATA!$J:$J,[1]DATA!$G:$G,'Cek Yasaklisi ( gerçek tekil )'!I$2,[1]DATA!$H:$H,'Cek Yasaklisi ( gerçek tekil )'!$C$1,[1]DATA!$I:$I,'Cek Yasaklisi ( gerçek tekil )'!$C81),0) -> 0 | J81: =IFERROR(SUMIFS([1]DATA!$J:$J,[1]DATA!$G:$G,'Cek Yasaklisi ( gerçek tekil )'!J$2,[1]DATA!$H:$H,'Cek Yasaklisi ( gerçek tekil )'!$C$1,[1]DATA!$I:$I,'Cek Yasaklisi ( gerçek tekil )'!$C81),0) -> 0 | K81: =IFERROR(SUMIFS([1]DATA!$J:$J,[1]DATA!$G:$G,'Cek Yasaklisi ( gerçek tekil )'!K$2,[1]DATA!$H:$H,'Cek Yasaklisi ( gerçek tekil )'!$C$1,[1]DATA!$I:$I,'Cek Yasaklisi ( gerçek tekil )'!$C81),0) -> 1 | L81: =IFERROR(SUMIFS([1]DATA!$J:$J,[1]DATA!$G:$G,'Cek Yasaklisi ( gerçek tekil )'!L$2,[1]DATA!$H:$H,'Cek Yasaklisi ( gerçek tekil )'!$C$1,[1]DATA!$I:$I,'Cek Yasaklisi ( gerçek tekil )'!$C81),0) -> 2 | M81: =IFERROR(SUMIFS([1]DATA!$J:$J,[1]DATA!$G:$G,'Cek Yasaklisi ( gerçek tekil )'!M$2,[1]DATA!$H:$H,'Cek Yasaklisi ( gerçek tekil )'!$C$1,[1]DATA!$I:$I,'Cek Yasaklisi ( gerçek tekil )'!$C81),0) -> 0 | Q81: =IFERROR(SUMIFS([1]DATA!$X:$X,[1]DATA!$V:$V,'Cek Yasaklisi ( gerçek tekil )'!$C$1,[1]DATA!$W:$W,'Cek Yasaklisi ( gerçek tekil )'!$C81,[1]DATA!$U:$U,'Cek Yasaklisi ( gerçek tekil )'!$C$2),0) -> 4
C82: 44 | D82: Malatya | E82: =IFERROR(SUMIFS([1]DATA!$J:$J,[1]DATA!$G:$G,'Cek Yasaklisi ( gerçek tekil )'!E$2,[1]DATA!$H:$H,'Cek Yasaklisi ( gerçek tekil )'!$C$1,[1]DATA!$I:$I,'Cek Yasaklisi ( gerçek tekil )'!$C82),0) -> 19 | F82: =IFERROR(SUMIFS([1]DATA!$J:$J,[1]DATA!$G:$G,'Cek Yasaklisi ( gerçek tekil )'!F$2,[1]DATA!$H:$H,'Cek Yasaklisi ( gerçek tekil )'!$C$1,[1]DATA!$I:$I,'Cek Yasaklisi ( gerçek tekil )'!$C82),0) -> 24 | G82: =IFERROR(SUMIFS([1]DATA!$J:$J,[1]DATA!$G:$G,'Cek Yasaklisi ( gerçek tekil )'!G$2,[1]DATA!$H:$H,'Cek Yasaklisi ( gerçek tekil )'!$C$1,[1]DATA!$I:$I,'Cek Yasaklisi ( gerçek tekil )'!$C82),0) -> 15 | H82: =IFERROR(SUMIFS([1]DATA!$J:$J,[1]DATA!$G:$G,'Cek Yasaklisi ( gerçek tekil )'!H$2,[1]DATA!$H:$H,'Cek Yasaklisi ( gerçek tekil )'!$C$1,[1]DATA!$I:$I,'Cek Yasaklisi ( gerçek tekil )'!$C82),0) -> 23 | I82: =IFERROR(SUMIFS([1]DATA!$J:$J,[1]DATA!$G:$G,'Cek Yasaklisi ( gerçek tekil )'!I$2,[1]DATA!$H:$H,'Cek Yasaklisi ( gerçek tekil )'!$C$1,[1]DATA!$I:$I,'Cek Yasaklisi ( gerçek tekil )'!$C82),0) -> 11 | J82: =IFERROR(SUMIFS([1]DATA!$J:$J,[1]DATA!$G:$G,'Cek Yasaklisi ( gerçek tekil )'!J$2,[1]DATA!$H:$H,'Cek Yasaklisi ( gerçek tekil )'!$C$1,[1]DATA!$I:$I,'Cek Yasaklisi ( gerçek tekil )'!$C82),0) -> 18 | K82: =IFERROR(SUMIFS([1]DATA!$J:$J,[1]DATA!$G:$G,'Cek Yasaklisi ( gerçek tekil )'!K$2,[1]DATA!$H:$H,'Cek Yasaklisi ( gerçek tekil )'!$C$1,[1]DATA!$I:$I,'Cek Yasaklisi ( gerçek tekil )'!$C82),0) -> 27 | L82: =IFERROR(SUMIFS([1]DATA!$J:$J,[1]DATA!$G:$G,'Cek Yasaklisi ( gerçek tekil )'!L$2,[1]DATA!$H:$H,'Cek Yasaklisi ( gerçek tekil )'!$C$1,[1]DATA!$I:$I,'Cek Yasaklisi ( gerçek tekil )'!$C82),0) -> 28 | M82: =IFERROR(SUMIFS([1]DATA!$J:$J,[1]DATA!$G:$G,'Cek Yasaklisi ( gerçek tekil )'!M$2,[1]DATA!$H:$H,'Cek Yasaklisi ( gerçek tekil )'!$C$1,[1]DATA!$I:$I,'Cek Yasaklisi ( gerçek tekil )'!$C82),0) -> 30 | Q82: =IFERROR(SUMIFS([1]DATA!$X:$X,[1]DATA!$V:$V,'Cek Yasaklisi ( gerçek tekil )'!$C$1,[1]DATA!$W:$W,'Cek Yasaklisi ( gerçek tekil )'!$C82,[1]DATA!$U:$U,'Cek Yasaklisi ( gerçek tekil )'!$C$2),0) -> 142
C83: 49 | D83: Muş | E83: =IFERROR(SUMIFS([1]DATA!$J:$J,[1]DATA!$G:$G,'Cek Yasaklisi ( gerçek tekil )'!E$2,[1]DATA!$H:$H,'Cek Yasaklisi ( gerçek tekil )'!$C$1,[1]DATA!$I:$I,'Cek Yasaklisi ( gerçek tekil )'!$C83),0) -> 0 | F83: =IFERROR(SUMIFS([1]DATA!$J:$J,[1]DATA!$G:$G,'Cek Yasaklisi ( gerçek tekil )'!F$2,[1]DATA!$H:$H,'Cek Yasaklisi ( gerçek tekil )'!$C$1,[1]DATA!$I:$I,'Cek Yasaklisi ( gerçek tekil )'!$C83),0) -> 4 | G83: =IFERROR(SUMIFS([1]DATA!$J:$J,[1]DATA!$G:$G,'Cek Yasaklisi ( gerçek tekil )'!G$2,[1]DATA!$H:$H,'Cek Yasaklisi ( gerçek tekil )'!$C$1,[1]DATA!$I:$I,'Cek Yasaklisi ( gerçek tekil )'!$C83),0) -> 3 | H83: =IFERROR(SUMIFS([1]DATA!$J:$J,[1]DATA!$G:$G,'Cek Yasaklisi ( gerçek tekil )'!H$2,[1]DATA!$H:$H,'Cek Yasaklisi ( gerçek tekil )'!$C$1,[1]DATA!$I:$I,'Cek Yasaklisi ( gerçek tekil )'!$C83),0) -> 3 | I83: =IFERROR(SUMIFS([1]DATA!$J:$J,[1]DATA!$G:$G,'Cek Yasaklisi ( gerçek tekil )'!I$2,[1]DATA!$H:$H,'Cek Yasaklisi ( gerçek tekil )'!$C$1,[1]DATA!$I:$I,'Cek Yasaklisi ( gerçek tekil )'!$C83),0) -> 2 | J83: =IFERROR(SUMIFS([1]DATA!$J:$J,[1]DATA!$G:$G,'Cek Yasaklisi ( gerçek tekil )'!J$2,[1]DATA!$H:$H,'Cek Yasaklisi ( gerçek tekil )'!$C$1,[1]DATA!$I:$I,'Cek Yasaklisi ( gerçek tekil )'!$C83),0) -> 7 | K83: =IFERROR(SUMIFS([1]DATA!$J:$J,[1]DATA!$G:$G,'Cek Yasaklisi ( gerçek tekil )'!K$2,[1]DATA!$H:$H,'Cek Yasaklisi ( gerçek tekil )'!$C$1,[1]DATA!$I:$I,'Cek Yasaklisi ( gerçek tekil )'!$C83),0) -> 2 | L83: =IFERROR(SUMIFS([1]DATA!$J:$J,[1]DATA!$G:$G,'Cek Yasaklisi ( gerçek tekil )'!L$2,[1]DATA!$H:$H,'Cek Yasaklisi ( gerçek tekil )'!$C$1,[1]DATA!$I:$I,'Cek Yasaklisi ( gerçek tekil )'!$C83),0) -> 2 | M83: =IFERROR(SUMIFS([1]DATA!$J:$J,[1]DATA!$G:$G,'Cek Yasaklisi ( gerçek tekil )'!M$2,[1]DATA!$H:$H,'Cek Yasaklisi ( gerçek tekil )'!$C$1,[1]DATA!$I:$I,'Cek Yasaklisi ( gerçek tekil )'!$C83),0) -> 4 | Q83: =IFERROR(SUMIFS([1]DATA!$X:$X,[1]DATA!$V:$V,'Cek Yasaklisi ( gerçek tekil )'!$C$1,[1]DATA!$W:$W,'Cek Yasaklisi ( gerçek tekil )'!$C83,[1]DATA!$U:$U,'Cek Yasaklisi ( gerçek tekil )'!$C$2),0) -> 22
C84: 62 | D84: Tunceli | E84: =IFERROR(SUMIFS([1]DATA!$J:$J,[1]DATA!$G:$G,'Cek Yasaklisi ( gerçek tekil )'!E$2,[1]DATA!$H:$H,'Cek Yasaklisi ( gerçek tekil )'!$C$1,[1]DATA!$I:$I,'Cek Yasaklisi ( gerçek tekil )'!$C84),0) -> 0 | F84: =IFERROR(SUMIFS([1]DATA!$J:$J,[1]DATA!$G:$G,'Cek Yasaklisi ( gerçek tekil )'!F$2,[1]DATA!$H:$H,'Cek Yasaklisi ( gerçek tekil )'!$C$1,[1]DATA!$I:$I,'Cek Yasaklisi ( gerçek tekil )'!$C84),0) -> 0 | G84: =IFERROR(SUMIFS([1]DATA!$J:$J,[1]DATA!$G:$G,'Cek Yasaklisi ( gerçek tekil )'!G$2,[1]DATA!$H:$H,'Cek Yasaklisi ( gerçek tekil )'!$C$1,[1]DATA!$I:$I,'Cek Yasaklisi ( gerçek tekil )'!$C84),0) -> 0 | H84: =IFERROR(SUMIFS([1]DATA!$J:$J,[1]DATA!$G:$G,'Cek Yasaklisi ( gerçek tekil )'!H$2,[1]DATA!$H:$H,'Cek Yasaklisi ( gerçek tekil )'!$C$1,[1]DATA!$I:$I,'Cek Yasaklisi ( gerçek tekil )'!$C84),0) -> 1 | I84: =IFERROR(SUMIFS([1]DATA!$J:$J,[1]DATA!$G:$G,'Cek Yasaklisi ( gerçek tekil )'!I$2,[1]DATA!$H:$H,'Cek Yasaklisi ( gerçek tekil )'!$C$1,[1]DATA!$I:$I,'Cek Yasaklisi ( gerçek tekil )'!$C84),0) -> 2 | J84: =IFERROR(SUMIFS([1]DATA!$J:$J,[1]DATA!$G:$G,'Cek Yasaklisi ( gerçek tekil )'!J$2,[1]DATA!$H:$H,'Cek Yasaklisi ( gerçek tekil )'!$C$1,[1]DATA!$I:$I,'Cek Yasaklisi ( gerçek tekil )'!$C84),0) -> 1 | K84: =IFERROR(SUMIFS([1]DATA!$J:$J,[1]DATA!$G:$G,'Cek Yasaklisi ( gerçek tekil )'!K$2,[1]DATA!$H:$H,'Cek Yasaklisi ( gerçek tekil )'!$C$1,[1]DATA!$I:$I,'Cek Yasaklisi ( gerçek tekil )'!$C84),0) -> 1 | L84: =IFERROR(SUMIFS([1]DATA!$J:$J,[1]DATA!$G:$G,'Cek Yasaklisi ( gerçek tekil )'!L$2,[1]DATA!$H:$H,'Cek Yasaklisi ( gerçek tekil )'!$C$1,[1]DATA!$I:$I,'Cek Yasaklisi ( gerçek tekil )'!$C84),0) -> 0 | M84: =IFERROR(SUMIFS([1]DATA!$J:$J,[1]DATA!$G:$G,'Cek Yasaklisi ( gerçek tekil )'!M$2,[1]DATA!$H:$H,'Cek Yasaklisi ( gerçek tekil )'!$C$1,[1]DATA!$I:$I,'Cek Yasaklisi ( gerçek tekil )'!$C84),0) -> 0 | Q84: =IFERROR(SUMIFS([1]DATA!$X:$X,[1]DATA!$V:$V,'Cek Yasaklisi ( gerçek tekil )'!$C$1,[1]DATA!$W:$W,'Cek Yasaklisi ( gerçek tekil )'!$C84,[1]DATA!$U:$U,'Cek Yasaklisi ( gerçek tekil )'!$C$2),0) -> 5
C85: 65 | D85: Van | E85: =IFERROR(SUMIFS([1]DATA!$J:$J,[1]DATA!$G:$G,'Cek Yasaklisi ( gerçek tekil )'!E$2,[1]DATA!$H:$H,'Cek Yasaklisi ( gerçek tekil )'!$C$1,[1]DATA!$I:$I,'Cek Yasaklisi ( gerçek tekil )'!$C85),0) -> 14 | F85: =IFERROR(SUMIFS([1]DATA!$J:$J,[1]DATA!$G:$G,'Cek Yasaklisi ( gerçek tekil )'!F$2,[1]DATA!$H:$H,'Cek Yasaklisi ( gerçek tekil )'!$C$1,[1]DATA!$I:$I,'Cek Yasaklisi ( gerçek tekil )'!$C85),0) -> 17 | G85: =IFERROR(SUMIFS([1]DATA!$J:$J,[1]DATA!$G:$G,'Cek Yasaklisi ( gerçek tekil )'!G$2,[1]DATA!$H:$H,'Cek Yasaklisi ( gerçek tekil )'!$C$1,[1]DATA!$I:$I,'Cek Yasaklisi ( gerçek tekil )'!$C85),0) -> 18 | H85: =IFERROR(SUMIFS([1]DATA!$J:$J,[1]DATA!$G:$G,'Cek Yasaklisi ( gerçek tekil )'!H$2,[1]DATA!$H:$H,'Cek Yasaklisi ( gerçek tekil )'!$C$1,[1]DATA!$I:$I,'Cek Yasaklisi ( gerçek tekil )'!$C85),0) -> 11 | I85: =IFERROR(SUMIFS([1]DATA!$J:$J,[1]DATA!$G:$G,'Cek Yasaklisi ( gerçek tekil )'!I$2,[1]DATA!$H:$H,'Cek Yasaklisi ( gerçek tekil )'!$C$1,[1]DATA!$I:$I,'Cek Yasaklisi ( gerçek tekil )'!$C85),0) -> 10 | J85: =IFERROR(SUMIFS([1]DATA!$J:$J,[1]DATA!$G:$G,'Cek Yasaklisi ( gerçek tekil )'!J$2,[1]DATA!$H:$H,'Cek Yasaklisi ( gerçek tekil )'!$C$1,[1]DATA!$I:$I,'Cek Yasaklisi ( gerçek tekil )'!$C85),0) -> 17 | K85: =IFERROR(SUMIFS([1]DATA!$J:$J,[1]DATA!$G:$G,'Cek Yasaklisi ( gerçek tekil )'!K$2,[1]DATA!$H:$H,'Cek Yasaklisi ( gerçek tekil )'!$C$1,[1]DATA!$I:$I,'Cek Yasaklisi ( gerçek tekil )'!$C85),0) -> 20 | L85: =IFERROR(SUMIFS([1]DATA!$J:$J,[1]DATA!$G:$G,'Cek Yasaklisi ( gerçek tekil )'!L$2,[1]DATA!$H:$H,'Cek Yasaklisi ( gerçek tekil )'!$C$1,[1]DATA!$I:$I,'Cek Yasaklisi ( gerçek tekil )'!$C85),0) -> 13 | M85: =IFERROR(SUMIFS([1]DATA!$J:$J,[1]DATA!$G:$G,'Cek Yasaklisi ( gerçek tekil )'!M$2,[1]DATA!$H:$H,'Cek Yasaklisi ( gerçek tekil )'!$C$1,[1]DATA!$I:$I,'Cek Yasaklisi ( gerçek tekil )'!$C85),0) -> 14 | Q85: =IFERROR(SUMIFS([1]DATA!$X:$X,[1]DATA!$V:$V,'Cek Yasaklisi ( gerçek tekil )'!$C$1,[1]DATA!$W:$W,'Cek Yasaklisi ( gerçek tekil )'!$C85,[1]DATA!$U:$U,'Cek Yasaklisi ( gerçek tekil )'!$C$2),0) -> 108
C86: Güneydogu Anadolu | D86: Güneydoğu Anadolu | E86: =IFERROR(SUMIFS([1]DATA!$Q:$Q,[1]DATA!$N:$N,'Cek Yasaklisi ( gerçek tekil )'!E$2,[1]DATA!$O:$O,'Cek Yasaklisi ( gerçek tekil )'!$C$1,[1]DATA!$P:$P,'Cek Yasaklisi ( gerçek tekil )'!$C86),0) -> 230 | F86: =IFERROR(SUMIFS([1]DATA!$Q:$Q,[1]DATA!$N:$N,'Cek Yasaklisi ( gerçek tekil )'!F$2,[1]DATA!$O:$O,'Cek Yasaklisi ( gerçek tekil )'!$C$1,[1]DATA!$P:$P,'Cek Yasaklisi ( gerçek tekil )'!$C86),0) -> 197 | G86: =IFERROR(SUMIFS([1]DATA!$Q:$Q,[1]DATA!$N:$N,'Cek Yasaklisi ( gerçek tekil )'!G$2,[1]DATA!$O:$O,'Cek Yasaklisi ( gerçek tekil )'!$C$1,[1]DATA!$P:$P,'Cek Yasaklisi ( gerçek tekil )'!$C86),0) -> 211 | H86: =IFERROR(SUMIFS([1]DATA!$Q:$Q,[1]DATA!$N:$N,'Cek Yasaklisi ( gerçek tekil )'!H$2,[1]DATA!$O:$O,'Cek Yasaklisi ( gerçek tekil )'!$C$1,[1]DATA!$P:$P,'Cek Yasaklisi ( gerçek tekil )'!$C86),0) -> 245 | I86: =IFERROR(SUMIFS([1]DATA!$Q:$Q,[1]DATA!$N:$N,'Cek Yasaklisi ( gerçek tekil )'!I$2,[1]DATA!$O:$O,'Cek Yasaklisi ( gerçek tekil )'!$C$1,[1]DATA!$P:$P,'Cek Yasaklisi ( gerçek tekil )'!$C86),0) -> 169 | J86: =IFERROR(SUMIFS([1]DATA!$Q:$Q,[1]DATA!$N:$N,'Cek Yasaklisi ( gerçek tekil )'!J$2,[1]DATA!$O:$O,'Cek Yasaklisi ( gerçek tekil )'!$C$1,[1]DATA!$P:$P,'Cek Yasaklisi ( gerçek tekil )'!$C86),0) -> 203 | K86: =IFERROR(SUMIFS([1]DATA!$Q:$Q,[1]DATA!$N:$N,'Cek Yasaklisi ( gerçek tekil )'!K$2,[1]DATA!$O:$O,'Cek Yasaklisi ( gerçek tekil )'!$C$1,[1]DATA!$P:$P,'Cek Yasaklisi ( gerçek tekil )'!$C86),0) -> 228 | L86: =IFERROR(SUMIFS([1]DATA!$Q:$Q,[1]DATA!$N:$N,'Cek Yasaklisi ( gerçek tekil )'!L$2,[1]DATA!$O:$O,'Cek Yasaklisi ( gerçek tekil )'!$C$1,[1]DATA!$P:$P,'Cek Yasaklisi ( gerçek tekil )'!$C86),0) -> 199 | M86: =IFERROR(SUMIFS([1]DATA!$Q:$Q,[1]DATA!$N:$N,'Cek Yasaklisi ( gerçek tekil )'!M$2,[1]DATA!$O:$O,'Cek Yasaklisi ( gerçek tekil )'!$C$1,[1]DATA!$P:$P,'Cek Yasaklisi ( gerçek tekil )'!$C86),0) -> 204 | Q86: =IFERROR(SUMIFS([1]DATA!$AE:$AE,[1]DATA!$AC:$AC,'Cek Yasaklisi ( gerçek tekil )'!$C$1,[1]DATA!$AD:$AD,'Cek Yasaklisi ( gerçek tekil )'!$C86,[1]DATA!$AB:$AB,'Cek Yasaklisi ( gerçek tekil )'!$C$2),0) -> 1296
C87: 2 | D87: Adıyaman | E87: =IFERROR(SUMIFS([1]DATA!$J:$J,[1]DATA!$G:$G,'Cek Yasaklisi ( gerçek tekil )'!E$2,[1]DATA!$H:$H,'Cek Yasaklisi ( gerçek tekil )'!$C$1,[1]DATA!$I:$I,'Cek Yasaklisi ( gerçek tekil )'!$C87),0) -> 16 | F87: =IFERROR(SUMIFS([1]DATA!$J:$J,[1]DATA!$G:$G,'Cek Yasaklisi ( gerçek tekil )'!F$2,[1]DATA!$H:$H,'Cek Yasaklisi ( gerçek tekil )'!$C$1,[1]DATA!$I:$I,'Cek Yasaklisi ( gerçek tekil )'!$C87),0) -> 11 | G87: =IFERROR(SUMIFS([1]DATA!$J:$J,[1]DATA!$G:$G,'Cek Yasaklisi ( gerçek tekil )'!G$2,[1]DATA!$H:$H,'Cek Yasaklisi ( gerçek tekil )'!$C$1,[1]DATA!$I:$I,'Cek Yasaklisi ( gerçek tekil )'!$C87),0) -> 9 | H87: =IFERROR(SUMIFS([1]DATA!$J:$J,[1]DATA!$G:$G,'Cek Yasaklisi ( gerçek tekil )'!H$2,[1]DATA!$H:$H,'Cek Yasaklisi ( gerçek tekil )'!$C$1,[1]DATA!$I:$I,'Cek Yasaklisi ( gerçek tekil )'!$C87),0) -> 11 | I87: =IFERROR(SUMIFS([1]DATA!$J:$J,[1]DATA!$G:$G,'Cek Yasaklisi ( gerçek tekil )'!I$2,[1]DATA!$H:$H,'Cek Yasaklisi ( gerçek tekil )'!$C$1,[1]DATA!$I:$I,'Cek Yasaklisi ( gerçek tekil )'!$C87),0) -> 5 | J87: =IFERROR(SUMIFS([1]DATA!$J:$J,[1]DATA!$G:$G,'Cek Yasaklisi ( gerçek tekil )'!J$2,[1]DATA!$H:$H,'Cek Yasaklisi ( gerçek tekil )'!$C$1,[1]DATA!$I:$I,'Cek Yasaklisi ( gerçek tekil )'!$C87),0) -> 7 | K87: =IFERROR(SUMIFS([1]DATA!$J:$J,[1]DATA!$G:$G,'Cek Yasaklisi ( gerçek tekil )'!K$2,[1]DATA!$H:$H,'Cek Yasaklisi ( gerçek tekil )'!$C$1,[1]DATA!$I:$I,'Cek Yasaklisi ( gerçek tekil )'!$C87),0) -> 12 | L87: =IFERROR(SUMIFS([1]DATA!$J:$J,[1]DATA!$G:$G,'Cek Yasaklisi ( gerçek tekil )'!L$2,[1]DATA!$H:$H,'Cek Yasaklisi ( gerçek tekil )'!$C$1,[1]DATA!$I:$I,'Cek Yasaklisi ( gerçek tekil )'!$C87),0) -> 16 | M87: =IFERROR(SUMIFS([1]DATA!$J:$J,[1]DATA!$G:$G,'Cek Yasaklisi ( gerçek tekil )'!M$2,[1]DATA!$H:$H,'Cek Yasaklisi ( gerçek tekil )'!$C$1,[1]DATA!$I:$I,'Cek Yasaklisi ( gerçek tekil )'!$C87),0) -> 21 | Q87: =IFERROR(SUMIFS([1]DATA!$X:$X,[1]DATA!$V:$V,'Cek Yasaklisi ( gerçek tekil )'!$C$1,[1]DATA!$W:$W,'Cek Yasaklisi ( gerçek tekil )'!$C87,[1]DATA!$U:$U,'Cek Yasaklisi ( gerçek tekil )'!$C$2),0) -> 83
C88: 72 | D88: Batman | E88: =IFERROR(SUMIFS([1]DATA!$J:$J,[1]DATA!$G:$G,'Cek Yasaklisi ( gerçek tekil )'!E$2,[1]DATA!$H:$H,'Cek Yasaklisi ( gerçek tekil )'!$C$1,[1]DATA!$I:$I,'Cek Yasaklisi ( gerçek tekil )'!$C88),0) -> 6 | F88: =IFERROR(SUMIFS([1]DATA!$J:$J,[1]DATA!$G:$G,'Cek Yasaklisi ( gerçek tekil )'!F$2,[1]DATA!$H:$H,'Cek Yasaklisi ( gerçek tekil )'!$C$1,[1]DATA!$I:$I,'Cek Yasaklisi ( gerçek tekil )'!$C88),0) -> 10 | G88: =IFERROR(SUMIFS([1]DATA!$J:$J,[1]DATA!$G:$G,'Cek Yasaklisi ( gerçek tekil )'!G$2,[1]DATA!$H:$H,'Cek Yasaklisi ( gerçek tekil )'!$C$1,[1]DATA!$I:$I,'Cek Yasaklisi ( gerçek tekil )'!$C88),0) -> 22 | H88: =IFERROR(SUMIFS([1]DATA!$J:$J,[1]DATA!$G:$G,'Cek Yasaklisi ( gerçek tekil )'!H$2,[1]DATA!$H:$H,'Cek Yasaklisi ( gerçek tekil )'!$C$1,[1]DATA!$I:$I,'Cek Yasaklisi ( gerçek tekil )'!$C88),0) -> 15 | I88: =IFERROR(SUMIFS([1]DATA!$J:$J,[1]DATA!$G:$G,'Cek Yasaklisi ( gerçek tekil )'!I$2,[1]DATA!$H:$H,'Cek Yasaklisi ( gerçek tekil )'!$C$1,[1]DATA!$I:$I,'Cek Yasaklisi ( gerçek tekil )'!$C88),0) -> 6 | J88: =IFERROR(SUMIFS([1]DATA!$J:$J,[1]DATA!$G:$G,'Cek Yasaklisi ( gerçek tekil )'!J$2,[1]DATA!$H:$H,'Cek Yasaklisi ( gerçek tekil )'!$C$1,[1]DATA!$I:$I,'Cek Yasaklisi ( gerçek tekil )'!$C88),0) -> 5 | K88: =IFERROR(SUMIFS([1]DATA!$J:$J,[1]DATA!$G:$G,'Cek Yasaklisi ( gerçek tekil )'!K$2,[1]DATA!$H:$H,'Cek Yasaklisi ( gerçek tekil )'!$C$1,[1]DATA!$I:$I,'Cek Yasaklisi ( gerçek tekil )'!$C88),0) -> 14 | L88: =IFERROR(SUMIFS([1]DATA!$J:$J,[1]DATA!$G:$G,'Cek Yasaklisi ( gerçek tekil )'!L$2,[1]DATA!$H:$H,'Cek Yasaklisi ( gerçek tekil )'!$C$1,[1]DATA!$I:$I,'Cek Yasaklisi ( gerçek tekil )'!$C88),0) -> 0 | M88: =IFERROR(SUMIFS([1]DATA!$J:$J,[1]DATA!$G:$G,'Cek Yasaklisi ( gerçek tekil )'!M$2,[1]DATA!$H:$H,'Cek Yasaklisi ( gerçek tekil )'!$C$1,[1]DATA!$I:$I,'Cek Yasaklisi ( gerçek tekil )'!$C88),0) -> 4 | Q88: =IFERROR(SUMIFS([1]DATA!$X:$X,[1]DATA!$V:$V,'Cek Yasaklisi ( gerçek tekil )'!$C$1,[1]DATA!$W:$W,'Cek Yasaklisi ( gerçek tekil )'!$C88,[1]DATA!$U:$U,'Cek Yasaklisi ( gerçek tekil )'!$C$2),0) -> 60
C89: 21 | D89: Diyarbakır | E89: =IFERROR(SUMIFS([1]DATA!$J:$J,[1]DATA!$G:$G,'Cek Yasaklisi ( gerçek tekil )'!E$2,[1]DATA!$H:$H,'Cek Yasaklisi ( gerçek tekil )'!$C$1,[1]DATA!$I:$I,'Cek Yasaklisi ( gerçek tekil )'!$C89),0) -> 25 | F89: =IFERROR(SUMIFS([1]DATA!$J:$J,[1]DATA!$G:$G,'Cek Yasaklisi ( gerçek tekil )'!F$2,[1]DATA!$H:$H,'Cek Yasaklisi ( gerçek tekil )'!$C$1,[1]DATA!$I:$I,'Cek Yasaklisi ( gerçek tekil )'!$C89),0) -> 35 | G89: =IFERROR(SUMIFS([1]DATA!$J:$J,[1]DATA!$G:$G,'Cek Yasaklisi ( gerçek tekil )'!G$2,[1]DATA!$H:$H,'Cek Yasaklisi ( gerçek tekil )'!$C$1,[1]DATA!$I:$I,'Cek Yasaklisi ( gerçek tekil )'!$C89),0) -> 30 | H89: =IFERROR(SUMIFS([1]DATA!$J:$J,[1]DATA!$G:$G,'Cek Yasaklisi ( gerçek tekil )'!H$2,[1]DATA!$H:$H,'Cek Yasaklisi ( gerçek tekil )'!$C$1,[1]DATA!$I:$I,'Cek Yasaklisi ( gerçek tekil )'!$C89),0) -> 44 | I89: =IFERROR(SUMIFS([1]DATA!$J:$J,[1]DATA!$G:$G,'Cek Yasaklisi ( gerçek tekil )'!I$2,[1]DATA!$H:$H,'Cek Yasaklisi ( gerçek tekil )'!$C$1,[1]DATA!$I:$I,'Cek Yasaklisi ( gerçek tekil )'!$C89),0) -> 32 | J89: =IFERROR(SUMIFS([1]DATA!$J:$J,[1]DATA!$G:$G,'Cek Yasaklisi ( gerçek tekil )'!J$2,[1]DATA!$H:$H,'Cek Yasaklisi ( gerçek tekil )'!$C$1,[1]DATA!$I:$I,'Cek Yasaklisi ( gerçek tekil )'!$C89),0) -> 10 | K89: =IFERROR(SUMIFS([1]DATA!$J:$J,[1]DATA!$G:$G,'Cek Yasaklisi ( gerçek tekil )'!K$2,[1]DATA!$H:$H,'Cek Yasaklisi ( gerçek tekil )'!$C$1,[1]DATA!$I:$I,'Cek Yasaklisi ( gerçek tekil )'!$C89),0) -> 47 | L89: =IFERROR(SUMIFS([1]DATA!$J:$J,[1]DATA!$G:$G,'Cek Yasaklisi ( gerçek tekil )'!L$2,[1]DATA!$H:$H,'Cek Yasaklisi ( gerçek tekil )'!$C$1,[1]DATA!$I:$I,'Cek Yasaklisi ( gerçek tekil )'!$C89),0) -> 3 | M89: =IFERROR(SUMIFS([1]DATA!$J:$J,[1]DATA!$G:$G,'Cek Yasaklisi ( gerçek tekil )'!M$2,[1]DATA!$H:$H,'Cek Yasaklisi ( gerçek tekil )'!$C$1,[1]DATA!$I:$I,'Cek Yasaklisi ( gerçek tekil )'!$C89),0) -> 13 | Q89: =IFERROR(SUMIFS([1]DATA!$X:$X,[1]DATA!$V:$V,'Cek Yasaklisi ( gerçek tekil )'!$C$1,[1]DATA!$W:$W,'Cek Yasaklisi ( gerçek tekil )'!$C89,[1]DATA!$U:$U,'Cek Yasaklisi ( gerçek tekil )'!$C$2),0) -> 183
C90: 27 | D90: Gaziantep | E90: =IFERROR(SUMIFS([1]DATA!$J:$J,[1]DATA!$G:$G,'Cek Yasaklisi ( gerçek tekil )'!E$2,[1]DATA!$H:$H,'Cek Yasaklisi ( gerçek tekil )'!$C$1,[1]DATA!$I:$I,'Cek Yasaklisi ( gerçek tekil )'!$C90),0) -> 146 | F90: =IFERROR(SUMIFS([1]DATA!$J:$J,[1]DATA!$G:$G,'Cek Yasaklisi ( gerçek tekil )'!F$2,[1]DATA!$H:$H,'Cek Yasaklisi ( gerçek tekil )'!$C$1,[1]DATA!$I:$I,'Cek Yasaklisi ( gerçek tekil )'!$C90),0) -> 122 | G90: =IFERROR(SUMIFS([1]DATA!$J:$J,[1]DATA!$G:$G,'Cek Yasaklisi ( gerçek tekil )'!G$2,[1]DATA!$H:$H,'Cek Yasaklisi ( gerçek tekil )'!$C$1,[1]DATA!$I:$I,'Cek Yasaklisi ( gerçek tekil )'!$C90),0) -> 117 | H90: =IFERROR(SUMIFS([1]DATA!$J:$J,[1]DATA!$G:$G,'Cek Yasaklisi ( gerçek tekil )'!H$2,[1]DATA!$H:$H,'Cek Yasaklisi ( gerçek tekil )'!$C$1,[1]DATA!$I:$I,'Cek Yasaklisi ( gerçek tekil )'!$C90),0) -> 133 | I90: =IFERROR(SUMIFS([1]DATA!$J:$J,[1]DATA!$G:$G,'Cek Yasaklisi ( gerçek tekil )'!I$2,[1]DATA!$H:$H,'Cek Yasaklisi ( gerçek tekil )'!$C$1,[1]DATA!$I:$I,'Cek Yasaklisi ( gerçek tekil )'!$C90),0) -> 96 | J90: =IFERROR(SUMIFS([1]DATA!$J:$J,[1]DATA!$G:$G,'Cek Yasaklisi ( gerçek tekil )'!J$2,[1]DATA!$H:$H,'Cek Yasaklisi ( gerçek tekil )'!$C$1,[1]DATA!$I:$I,'Cek Yasaklisi ( gerçek tekil )'!$C90),0) -> 146 | K90: =IFERROR(SUMIFS([1]DATA!$J:$J,[1]DATA!$G:$G,'Cek Yasaklisi ( gerçek tekil )'!K$2,[1]DATA!$H:$H,'Cek Yasaklisi ( gerçek tekil )'!$C$1,[1]DATA!$I:$I,'Cek Yasaklisi ( gerçek tekil )'!$C90),0) -> 122 | L90: =IFERROR(SUMIFS([1]DATA!$J:$J,[1]DATA!$G:$G,'Cek Yasaklisi ( gerçek tekil )'!L$2,[1]DATA!$H:$H,'Cek Yasaklisi ( gerçek tekil )'!$C$1,[1]DATA!$I:$I,'Cek Yasaklisi ( gerçek tekil )'!$C90),0) -> 149 | M90: =IFERROR(SUMIFS([1]DATA!$J:$J,[1]DATA!$G:$G,'Cek Yasaklisi ( gerçek tekil )'!M$2,[1]DATA!$H:$H,'Cek Yasaklisi ( gerçek tekil )'!$C$1,[1]DATA!$I:$I,'Cek Yasaklisi ( gerçek tekil )'!$C90),0) -> 131 | Q90: =IFERROR(SUMIFS([1]DATA!$X:$X,[1]DATA!$V:$V,'Cek Yasaklisi ( gerçek tekil )'!$C$1,[1]DATA!$W:$W,'Cek Yasaklisi ( gerçek tekil )'!$C90,[1]DATA!$U:$U,'Cek Yasaklisi ( gerçek tekil )'!$C$2),0) -> 754
C91: 79 | D91: Kilis | E91: =IFERROR(SUMIFS([1]DATA!$J:$J,[1]DATA!$G:$G,'Cek Yasaklisi ( gerçek tekil )'!E$2,[1]DATA!$H:$H,'Cek Yasaklisi ( gerçek tekil )'!$C$1,[1]DATA!$I:$I,'Cek Yasaklisi ( gerçek tekil )'!$C91),0) -> 1 | F91: =IFERROR(SUMIFS([1]DATA!$J:$J,[1]DATA!$G:$G,'Cek Yasaklisi ( gerçek tekil )'!F$2,[1]DATA!$H:$H,'Cek Yasaklisi ( gerçek tekil )'!$C$1,[1]DATA!$I:$I,'Cek Yasaklisi ( gerçek tekil )'!$C91),0) -> 1 | G91: =IFERROR(SUMIFS([1]DATA!$J:$J,[1]DATA!$G:$G,'Cek Yasaklisi ( gerçek tekil )'!G$2,[1]DATA!$H:$H,'Cek Yasaklisi ( gerçek tekil )'!$C$1,[1]DATA!$I:$I,'Cek Yasaklisi ( gerçek tekil )'!$C91),0) -> 3 | H91: =IFERROR(SUMIFS([1]DATA!$J:$J,[1]DATA!$G:$G,'Cek Yasaklisi ( gerçek tekil )'!H$2,[1]DATA!$H:$H,'Cek Yasaklisi ( gerçek tekil )'!$C$1,[1]DATA!$I:$I,'Cek Yasaklisi ( gerçek tekil )'!$C91),0) -> 1 | I91: =IFERROR(SUMIFS([1]DATA!$J:$J,[1]DATA!$G:$G,'Cek Yasaklisi ( gerçek tekil )'!I$2,[1]DATA!$H:$H,'Cek Yasaklisi ( gerçek tekil )'!$C$1,[1]DATA!$I:$I,'Cek Yasaklisi ( gerçek tekil )'!$C91),0) -> 1 | J91: =IFERROR(SUMIFS([1]DATA!$J:$J,[1]DATA!$G:$G,'Cek Yasaklisi ( gerçek tekil )'!J$2,[1]DATA!$H:$H,'Cek Yasaklisi ( gerçek tekil )'!$C$1,[1]DATA!$I:$I,'Cek Yasaklisi ( gerçek tekil )'!$C91),0) -> 2 | K91: =IFERROR(SUMIFS([1]DATA!$J:$J,[1]DATA!$G:$G,'Cek Yasaklisi ( gerçek tekil )'!K$2,[1]DATA!$H:$H,'Cek Yasaklisi ( gerçek tekil )'!$C$1,[1]DATA!$I:$I,'Cek Yasaklisi ( gerçek tekil )'!$C91),0) -> 2 | L91: =IFERROR(SUMIFS([1]DATA!$J:$J,[1]DATA!$G:$G,'Cek Yasaklisi ( gerçek tekil )'!L$2,[1]DATA!$H:$H,'Cek Yasaklisi ( gerçek tekil )'!$C$1,[1]DATA!$I:$I,'Cek Yasaklisi ( gerçek tekil )'!$C91),0) -> 1 | M91: =IFERROR(SUMIFS([1]DATA!$J:$J,[1]DATA!$G:$G,'Cek Yasaklisi ( gerçek tekil )'!M$2,[1]DATA!$H:$H,'Cek Yasaklisi ( gerçek tekil )'!$C$1,[1]DATA!$I:$I,'Cek Yasaklisi ( gerçek tekil )'!$C91),0) -> 1 | Q91: =IFERROR(SUMIFS([1]DATA!$X:$X,[1]DATA!$V:$V,'Cek Yasaklisi ( gerçek tekil )'!$C$1,[1]DATA!$W:$W,'Cek Yasaklisi ( gerçek tekil )'!$C91,[1]DATA!$U:$U,'Cek Yasaklisi ( gerçek tekil )'!$C$2),0) -> 11
C92: 47 | D92: Mardin | E92: =IFERROR(SUMIFS([1]DATA!$J:$J,[1]DATA!$G:$G,'Cek Yasaklisi ( gerçek tekil )'!E$2,[1]DATA!$H:$H,'Cek Yasaklisi ( gerçek tekil )'!$C$1,[1]DATA!$I:$I,'Cek Yasaklisi ( gerçek tekil )'!$C92),0) -> 3 | F92: =IFERROR(SUMIFS([1]DATA!$J:$J,[1]DATA!$G:$G,'Cek Yasaklisi ( gerçek tekil )'!F$2,[1]DATA!$H:$H,'Cek Yasaklisi ( gerçek tekil )'!$C$1,[1]DATA!$I:$I,'Cek Yasaklisi ( gerçek tekil )'!$C92),0) -> 2 | G92: =IFERROR(SUMIFS([1]DATA!$J:$J,[1]DATA!$G:$G,'Cek Yasaklisi ( gerçek tekil )'!G$2,[1]DATA!$H:$H,'Cek Yasaklisi ( gerçek tekil )'!$C$1,[1]DATA!$I:$I,'Cek Yasaklisi ( gerçek tekil )'!$C92),0) -> 9 | H92: =IFERROR(SUMIFS([1]DATA!$J:$J,[1]DATA!$G:$G,'Cek Yasaklisi ( gerçek tekil )'!H$2,[1]DATA!$H:$H,'Cek Yasaklisi ( gerçek tekil )'!$C$1,[1]DATA!$I:$I,'Cek Yasaklisi ( gerçek tekil )'!$C92),0) -> 16 | I92: =IFERROR(SUMIFS([1]DATA!$J:$J,[1]DATA!$G:$G,'Cek Yasaklisi ( gerçek tekil )'!I$2,[1]DATA!$H:$H,'Cek Yasaklisi ( gerçek tekil )'!$C$1,[1]DATA!$I:$I,'Cek Yasaklisi ( gerçek tekil )'!$C92),0) -> 7 | J92: =IFERROR(SUMIFS([1]DATA!$J:$J,[1]DATA!$G:$G,'Cek Yasaklisi ( gerçek tekil )'!J$2,[1]DATA!$H:$H,'Cek Yasaklisi ( gerçek tekil )'!$C$1,[1]DATA!$I:$I,'Cek Yasaklisi ( gerçek tekil )'!$C92),0) -> 15 | K92: =IFERROR(SUMIFS([1]DATA!$J:$J,[1]DATA!$G:$G,'Cek Yasaklisi ( gerçek tekil )'!K$2,[1]DATA!$H:$H,'Cek Yasaklisi ( gerçek tekil )'!$C$1,[1]DATA!$I:$I,'Cek Yasaklisi ( gerçek tekil )'!$C92),0) -> 14 | L92: =IFERROR(SUMIFS([1]DATA!$J:$J,[1]DATA!$G:$G,'Cek Yasaklisi ( gerçek tekil )'!L$2,[1]DATA!$H:$H,'Cek Yasaklisi ( gerçek tekil )'!$C$1,[1]DATA!$I:$I,'Cek Yasaklisi ( gerçek tekil )'!$C92),0) -> 6 | M92: =IFERROR(SUMIFS([1]DATA!$J:$J,[1]DATA!$G:$G,'Cek Yasaklisi ( gerçek tekil )'!M$2,[1]DATA!$H:$H,'Cek Yasaklisi ( gerçek tekil )'!$C$1,[1]DATA!$I:$I,'Cek Yasaklisi ( gerçek tekil )'!$C92),0) -> 7 | Q92: =IFERROR(SUMIFS([1]DATA!$X:$X,[1]DATA!$V:$V,'Cek Yasaklisi ( gerçek tekil )'!$C$1,[1]DATA!$W:$W,'Cek Yasaklisi ( gerçek tekil )'!$C92,[1]DATA!$U:$U,'Cek Yasaklisi ( gerçek tekil )'!$C$2),0) -> 66
C93: 56 | D93: Siirt | E93: =IFERROR(SUMIFS([1]DATA!$J:$J,[1]DATA!$G:$G,'Cek Yasaklisi ( gerçek tekil )'!E$2,[1]DATA!$H:$H,'Cek Yasaklisi ( gerçek tekil )'!$C$1,[1]DATA!$I:$I,'Cek Yasaklisi ( gerçek tekil )'!$C93),0) -> 2 | F93: =IFERROR(SUMIFS([1]DATA!$J:$J,[1]DATA!$G:$G,'Cek Yasaklisi ( gerçek tekil )'!F$2,[1]DATA!$H:$H,'Cek Yasaklisi ( gerçek tekil )'!$C$1,[1]DATA!$I:$I,'Cek Yasaklisi ( gerçek tekil )'!$C93),0) -> 4 | G93: =IFERROR(SUMIFS([1]DATA!$J:$J,[1]DATA!$G:$G,'Cek Yasaklisi ( gerçek tekil )'!G$2,[1]DATA!$H:$H,'Cek Yasaklisi ( gerçek tekil )'!$C$1,[1]DATA!$I:$I,'Cek Yasaklisi ( gerçek tekil )'!$C93),0) -> 3 | H93: =IFERROR(SUMIFS([1]DATA!$J:$J,[1]DATA!$G:$G,'Cek Yasaklisi ( gerçek tekil )'!H$2,[1]DATA!$H:$H,'Cek Yasaklisi ( gerçek tekil )'!$C$1,[1]DATA!$I:$I,'Cek Yasaklisi ( gerçek tekil )'!$C93),0) -> 4 | I93: =IFERROR(SUMIFS([1]DATA!$J:$J,[1]DATA!$G:$G,'Cek Yasaklisi ( gerçek tekil )'!I$2,[1]DATA!$H:$H,'Cek Yasaklisi ( gerçek tekil )'!$C$1,[1]DATA!$I:$I,'Cek Yasaklisi ( gerçek tekil )'!$C93),0) -> 1 | J93: =IFERROR(SUMIFS([1]DATA!$J:$J,[1]DATA!$G:$G,'Cek Yasaklisi ( gerçek tekil )'!J$2,[1]DATA!$H:$H,'Cek Yasaklisi ( gerçek tekil )'!$C$1,[1]DATA!$I:$I,'Cek Yasaklisi ( gerçek tekil )'!$C93),0) -> 4 | K93: =IFERROR(SUMIFS([1]DATA!$J:$J,[1]DATA!$G:$G,'Cek Yasaklisi ( gerçek tekil )'!K$2,[1]DATA!$H:$H,'Cek Yasaklisi ( gerçek tekil )'!$C$1,[1]DATA!$I:$I,'Cek Yasaklisi ( gerçek tekil )'!$C93),0) -> 1 | L93: =IFERROR(SUMIFS([1]DATA!$J:$J,[1]DATA!$G:$G,'Cek Yasaklisi ( gerçek tekil )'!L$2,[1]DATA!$H:$H,'Cek Yasaklisi ( gerçek tekil )'!$C$1,[1]DATA!$I:$I,'Cek Yasaklisi ( gerçek tekil )'!$C93),0) -> 4 | M93: =IFERROR(SUMIFS([1]DATA!$J:$J,[1]DATA!$G:$G,'Cek Yasaklisi ( gerçek tekil )'!M$2,[1]DATA!$H:$H,'Cek Yasaklisi ( gerçek tekil )'!$C$1,[1]DATA!$I:$I,'Cek Yasaklisi ( gerçek tekil )'!$C93),0) -> 6 | Q93: =IFERROR(SUMIFS([1]DATA!$X:$X,[1]DATA!$V:$V,'Cek Yasaklisi ( gerçek tekil )'!$C$1,[1]DATA!$W:$W,'Cek Yasaklisi ( gerçek tekil )'!$C93,[1]DATA!$U:$U,'Cek Yasaklisi ( gerçek tekil )'!$C$2),0) -> 24
C94: 63 | D94: Şanlıurfa | E94: =IFERROR(SUMIFS([1]DATA!$J:$J,[1]DATA!$G:$G,'Cek Yasaklisi ( gerçek tekil )'!E$2,[1]DATA!$H:$H,'Cek Yasaklisi ( gerçek tekil )'!$C$1,[1]DATA!$I:$I,'Cek Yasaklisi ( gerçek tekil )'!$C94),0) -> 29 | F94: =IFERROR(SUMIFS([1]DATA!$J:$J,[1]DATA!$G:$G,'Cek Yasaklisi ( gerçek tekil )'!F$2,[1]DATA!$H:$H,'Cek Yasaklisi ( gerçek tekil )'!$C$1,[1]DATA!$I:$I,'Cek Yasaklisi ( gerçek tekil )'!$C94),0) -> 15 | G94: =IFERROR(SUMIFS([1]DATA!$J:$J,[1]DATA!$G:$G,'Cek Yasaklisi ( gerçek tekil )'!G$2,[1]DATA!$H:$H,'Cek Yasaklisi ( gerçek tekil )'!$C$1,[1]DATA!$I:$I,'Cek Yasaklisi ( gerçek tekil )'!$C94),0) -> 21 | H94: =IFERROR(SUMIFS([1]DATA!$J:$J,[1]DATA!$G:$G,'Cek Yasaklisi ( gerçek tekil )'!H$2,[1]DATA!$H:$H,'Cek Yasaklisi ( gerçek tekil )'!$C$1,[1]DATA!$I:$I,'Cek Yasaklisi ( gerçek tekil )'!$C94),0) -> 22 | I94: =IFERROR(SUMIFS([1]DATA!$J:$J,[1]DATA!$G:$G,'Cek Yasaklisi ( gerçek tekil )'!I$2,[1]DATA!$H:$H,'Cek Yasaklisi ( gerçek tekil )'!$C$1,[1]DATA!$I:$I,'Cek Yasaklisi ( gerçek tekil )'!$C94),0) -> 19 | J94: =IFERROR(SUMIFS([1]DATA!$J:$J,[1]DATA!$G:$G,'Cek Yasaklisi ( gerçek tekil )'!J$2,[1]DATA!$H:$H,'Cek Yasaklisi ( gerçek tekil )'!$C$1,[1]DATA!$I:$I,'Cek Yasaklisi ( gerçek tekil )'!$C94),0) -> 18 | K94: =IFERROR(SUMIFS([1]DATA!$J:$J,[1]DATA!$G:$G,'Cek Yasaklisi ( gerçek tekil )'!K$2,[1]DATA!$H:$H,'Cek Yasaklisi ( gerçek tekil )'!$C$1,[1]DATA!$I:$I,'Cek Yasaklisi ( gerçek tekil )'!$C94),0) -> 21 | L94: =IFERROR(SUMIFS([1]DATA!$J:$J,[1]DATA!$G:$G,'Cek Yasaklisi ( gerçek tekil )'!L$2,[1]DATA!$H:$H,'Cek Yasaklisi ( gerçek tekil )'!$C$1,[1]DATA!$I:$I,'Cek Yasaklisi ( gerçek tekil )'!$C94),0) -> 19 | M94: =IFERROR(SUMIFS([1]DATA!$J:$J,[1]DATA!$G:$G,'Cek Yasaklisi ( gerçek tekil )'!M$2,[1]DATA!$H:$H,'Cek Yasaklisi ( gerçek tekil )'!$C$1,[1]DATA!$I:$I,'Cek Yasaklisi ( gerçek tekil )'!$C94),0) -> 20 | Q94: =IFERROR(SUMIFS([1]DATA!$X:$X,[1]DATA!$V:$V,'Cek Yasaklisi ( gerçek tekil )'!$C$1,[1]DATA!$W:$W,'Cek Yasaklisi ( gerçek tekil )'!$C94,[1]DATA!$U:$U,'Cek Yasaklisi ( gerçek tekil )'!$C$2),0) -> 161
C95: 73 | D95: Şırnak | E95: =IFERROR(SUMIFS([1]DATA!$J:$J,[1]DATA!$G:$G,'Cek Yasaklisi ( gerçek tekil )'!E$2,[1]DATA!$H:$H,'Cek Yasaklisi ( gerçek tekil )'!$C$1,[1]DATA!$I:$I,'Cek Yasaklisi ( gerçek tekil )'!$C95),0) -> 3 | F95: =IFERROR(SUMIFS([1]DATA!$J:$J,[1]DATA!$G:$G,'Cek Yasaklisi ( gerçek tekil )'!F$2,[1]DATA!$H:$H,'Cek Yasaklisi ( gerçek tekil )'!$C$1,[1]DATA!$I:$I,'Cek Yasaklisi ( gerçek tekil )'!$C95),0) -> 1 | G95: =IFERROR(SUMIFS([1]DATA!$J:$J,[1]DATA!$G:$G,'Cek Yasaklisi ( gerçek tekil )'!G$2,[1]DATA!$H:$H,'Cek Yasaklisi ( gerçek tekil )'!$C$1,[1]DATA!$I:$I,'Cek Yasaklisi ( gerçek tekil )'!$C95),0) -> 0 | H95: =IFERROR(SUMIFS([1]DATA!$J:$J,[1]DATA!$G:$G,'Cek Yasaklisi ( gerçek tekil )'!H$2,[1]DATA!$H:$H,'Cek Yasaklisi ( gerçek tekil )'!$C$1,[1]DATA!$I:$I,'Cek Yasaklisi ( gerçek tekil )'!$C95),0) -> 3 | I95: =IFERROR(SUMIFS([1]DATA!$J:$J,[1]DATA!$G:$G,'Cek Yasaklisi ( gerçek tekil )'!I$2,[1]DATA!$H:$H,'Cek Yasaklisi ( gerçek tekil )'!$C$1,[1]DATA!$I:$I,'Cek Yasaklisi ( gerçek tekil )'!$C95),0) -> 5 | J95: =IFERROR(SUMIFS([1]DATA!$J:$J,[1]DATA!$G:$G,'Cek Yasaklisi ( gerçek tekil )'!J$2,[1]DATA!$H:$H,'Cek Yasaklisi ( gerçek tekil )'!$C$1,[1]DATA!$I:$I,'Cek Yasaklisi ( gerçek tekil )'!$C95),0) -> 1 | K95: =IFERROR(SUMIFS([1]DATA!$J:$J,[1]DATA!$G:$G,'Cek Yasaklisi ( gerçek tekil )'!K$2,[1]DATA!$H:$H,'Cek Yasaklisi ( gerçek tekil )'!$C$1,[1]DATA!$I:$I,'Cek Yasaklisi ( gerçek tekil )'!$C95),0) -> 1 | L95: =IFERROR(SUMIFS([1]DATA!$J:$J,[1]DATA!$G:$G,'Cek Yasaklisi ( gerçek tekil )'!L$2,[1]DATA!$H:$H,'Cek Yasaklisi ( gerçek tekil )'!$C$1,[1]DATA!$I:$I,'Cek Yasaklisi ( gerçek tekil )'!$C95),0) -> 3 | M95: =IFERROR(SUMIFS([1]DATA!$J:$J,[1]DATA!$G:$G,'Cek Yasaklisi ( gerçek tekil )'!M$2,[1]DATA!$H:$H,'Cek Yasaklisi ( gerçek tekil )'!$C$1,[1]DATA!$I:$I,'Cek Yasaklisi ( gerçek tekil )'!$C95),0) -> 4 | Q95: =IFERROR(SUMIFS([1]DATA!$X:$X,[1]DATA!$V:$V,'Cek Yasaklisi ( gerçek tekil )'!$C$1,[1]DATA!$W:$W,'Cek Yasaklisi ( gerçek tekil )'!$C95,[1]DATA!$U:$U,'Cek Yasaklisi ( gerçek tekil )'!$C$2),0) -> 18
C96: 0 | D96: Diğer (3) | E96: =IFERROR(SUMIFS([1]DATA!$J:$J,[1]DATA!$G:$G,'Cek Yasaklisi ( gerçek tekil )'!E$2,[1]DATA!$H:$H,'Cek Yasaklisi ( gerçek tekil )'!$C$1,[1]DATA!$I:$I,'Cek Yasaklisi ( gerçek tekil )'!$C96),0) -> 0 | F96: =IFERROR(SUMIFS([1]DATA!$J:$J,[1]DATA!$G:$G,'Cek Yasaklisi ( gerçek tekil )'!F$2,[1]DATA!$H:$H,'Cek Yasaklisi ( gerçek tekil )'!$C$1,[1]DATA!$I:$I,'Cek Yasaklisi ( gerçek tekil )'!$C96),0) -> 0 | G96: =IFERROR(SUMIFS([1]DATA!$J:$J,[1]DATA!$G:$G,'Cek Yasaklisi ( gerçek tekil )'!G$2,[1]DATA!$H:$H,'Cek Yasaklisi ( gerçek tekil )'!$C$1,[1]DATA!$I:$I,'Cek Yasaklisi ( gerçek tekil )'!$C96),0) -> 0 | H96: =IFERROR(SUMIFS([1]DATA!$J:$J,[1]DATA!$G:$G,'Cek Yasaklisi ( gerçek tekil )'!H$2,[1]DATA!$H:$H,'Cek Yasaklisi ( gerçek tekil )'!$C$1,[1]DATA!$I:$I,'Cek Yasaklisi ( gerçek tekil )'!$C96),0) -> 0 | I96: =IFERROR(SUMIFS([1]DATA!$J:$J,[1]DATA!$G:$G,'Cek Yasaklisi ( gerçek tekil )'!I$2,[1]DATA!$H:$H,'Cek Yasaklisi ( gerçek tekil )'!$C$1,[1]DATA!$I:$I,'Cek Yasaklisi ( gerçek tekil )'!$C96),0) -> 0 | J96: =IFERROR(SUMIFS([1]DATA!$J:$J,[1]DATA!$G:$G,'Cek Yasaklisi ( gerçek tekil )'!J$2,[1]DATA!$H:$H,'Cek Yasaklisi ( gerçek tekil )'!$C$1,[1]DATA!$I:$I,'Cek Yasaklisi ( gerçek tekil )'!$C96),0) -> 0 | K96: =IFERROR(SUMIFS([1]DATA!$J:$J,[1]DATA!$G:$G,'Cek Yasaklisi ( gerçek tekil )'!K$2,[1]DATA!$H:$H,'Cek Yasaklisi ( gerçek tekil )'!$C$1,[1]DATA!$I:$I,'Cek Yasaklisi ( gerçek tekil )'!$C96),0) -> 0 | L96: =IFERROR(SUMIFS([1]DATA!$J:$J,[1]DATA!$G:$G,'Cek Yasaklisi ( gerçek tekil )'!L$2,[1]DATA!$H:$H,'Cek Yasaklisi ( gerçek tekil )'!$C$1,[1]DATA!$I:$I,'Cek Yasaklisi ( gerçek tekil )'!$C96),0) -> 0 | M96: =IFERROR(SUMIFS([1]DATA!$J:$J,[1]DATA!$G:$G,'Cek Yasaklisi ( gerçek tekil )'!M$2,[1]DATA!$H:$H,'Cek Yasaklisi ( gerçek tekil )'!$C$1,[1]DATA!$I:$I,'Cek Yasaklisi ( gerçek tekil )'!$C96),0) -> 0 | Q96: =IFERROR(SUMIFS([1]DATA!$AE:$AE,[1]DATA!$AC:$AC,'Cek Yasaklisi ( gerçek tekil )'!$C$1,[1]DATA!$AD:$AD,'Cek Yasaklisi ( gerçek tekil )'!$C96,[1]DATA!$AB:$AB,'Cek Yasaklisi ( gerçek tekil )'!$C$2),0) -> 0
D97: Toplam (4) | E97: =SUMIFS([1]DATA!$C:$C,[1]DATA!$A:$A,'Cek Yasaklisi ( gerçek tekil )'!E$2,[1]DATA!$B:$B,'Cek Yasaklisi ( gerçek tekil )'!$C$1) -> 2997 | F97: =SUMIFS([1]DATA!$C:$C,[1]DATA!$A:$A,'Cek Yasaklisi ( gerçek tekil )'!F$2,[1]DATA!$B:$B,'Cek Yasaklisi ( gerçek tekil )'!$C$1) -> 2960 | G97: =SUMIFS([1]DATA!$C:$C,[1]DATA!$A:$A,'Cek Yasaklisi ( gerçek tekil )'!G$2,[1]DATA!$B:$B,'Cek Yasaklisi ( gerçek tekil )'!$C$1) -> 2972 | H97: =SUMIFS([1]DATA!$C:$C,[1]DATA!$A:$A,'Cek Yasaklisi ( gerçek tekil )'!H$2,[1]DATA!$B:$B,'Cek Yasaklisi ( gerçek tekil )'!$C$1) -> 3327 | I97: =SUMIFS([1]DATA!$C:$C,[1]DATA!$A:$A,'Cek Yasaklisi ( gerçek tekil )'!I$2,[1]DATA!$B:$B,'Cek Yasaklisi ( gerçek tekil )'!$C$1) -> 2455 | J97: =SUMIFS([1]DATA!$C:$C,[1]DATA!$A:$A,'Cek Yasaklisi ( gerçek tekil )'!J$2,[1]DATA!$B:$B,'Cek Yasaklisi ( gerçek tekil )'!$C$1) -> 3556 | K97: =SUMIFS([1]DATA!$C:$C,[1]DATA!$A:$A,'Cek Yasaklisi ( gerçek tekil )'!K$2,[1]DATA!$B:$B,'Cek Yasaklisi ( gerçek tekil )'!$C$1) -> 3586 | L97: =SUMIFS([1]DATA!$C:$C,[1]DATA!$A:$A,'Cek Yasaklisi ( gerçek tekil )'!L$2,[1]DATA!$B:$B,'Cek Yasaklisi ( gerçek tekil )'!$C$1) -> 1621 | M97: =SUMIFS([1]DATA!$C:$C,[1]DATA!$A:$A,'Cek Yasaklisi ( gerçek tekil )'!M$2,[1]DATA!$B:$B,'Cek Yasaklisi ( gerçek tekil )'!$C$1) -> 2807 | Q97: =IFERROR(SUMIFS([1]DATA!$AK:$AK,[1]DATA!$AJ:$AJ,'Cek Yasaklisi ( gerçek tekil )'!$C$1,[1]DATA!$AI:$AI,'Cek Yasaklisi ( gerçek tekil )'!$C$2),0) -> 14352
D98: Türkiye Bankalar Birliği Risk Merkezi
D99: (1) Adli mercilerce, resmi yazı ortamında ve elektronik ortamda bankalara duyurulmak üzere Türkiye Bankalar Birliği Risk Merkezi'ne bildirilen, çek düzenleme ve çek hesabı açma yasağı kararı verilen tekil gerçek kişi sayıları göstermektedir.
D100: (2) Bu tabloda, 22.09.2002 tarih ve 24884 sayılı Resmi Gazate’de yayınlanan 2002/4720 sayılı Bakanlar Kurulu Kararı’ndaki İstatistiki Bölge Birimleri sınıflandırılması kullanılmıştır. Kararın açıklandığı mahkemenin ilini ifade etmektedir.
...

Sheet Cek Yasaklisi ( tüzel tekil )
C1: Yasakli | D1: Çek Yasağı Kararı Verilen Tekil Tüzel Kişi Sayılarının İllere ve Bölgelere Göre Dağılımı(1) ( 2026 )
C2: 2026 | E2: 202601 | F2: 202602 | G2: 202603 | H2: 202604 | I2: 202605 | J2: 202606 | K2: 202607 | L2: 202608 | M2: 202609 | N2: 202610 | O2: 202611 | P2: 202612
D3: İller ve Bölgeler (2) | E3: Ocak | F3: Şubat | G3: Mart | H3: Nisan | I3: Mayıs | J3: Haziran | K3: Temmuz | L3: Ağustos | M3: Eylül | N3: Ekim | O3: Kasım | P3: Aralık | Q3: Toplam (4)
C4: 34 | D4: İstanbul | E4: =IFERROR(SUMIFS([1]DATA!$K:$K,[1]DATA!$G:$G,'Cek Yasaklisi ( tüzel tekil )'!E$2,[1]DATA!$H:$H,'Cek Yasaklisi ( tüzel tekil )'!$C$1,[1]DATA!$I:$I,'Cek Yasaklisi ( tüzel tekil )'!$C4),0) -> 602 | F4: =IFERROR(SUMIFS([1]DATA!$K:$K,[1]DATA!$G:$G,'Cek Yasaklisi ( tüzel tekil )'!F$2,[1]DATA!$H:$H,'Cek Yasaklisi ( tüzel tekil )'!$C$1,[1]DATA!$I:$I,'Cek Yasaklisi ( tüzel tekil )'!$C4),0) -> 640 | G4: =IFERROR(SUMIFS([1]DATA!$K:$K,[1]DATA!$G:$G,'Cek Yasaklisi ( tüzel tekil )'!G$2,[1]DATA!$H:$H,'Cek Yasaklisi ( tüzel tekil )'!$C$1,[1]DATA!$I:$I,'Cek Yasaklisi ( tüzel tekil )'!$C4),0) -> 633 | H4: =IFERROR(SUMIFS([1]DATA!$K:$K,[1]DATA!$G:$G,'Cek Yasaklisi ( tüzel tekil )'!H$2,[1]DATA!$H:$H,'Cek Yasaklisi ( tüzel tekil )'!$C$1,[1]DATA!$I:$I,'Cek Yasaklisi ( tüzel tekil )'!$C4),0) -> 665 | I4: =IFERROR(SUMIFS([1]DATA!$K:$K,[1]DATA!$G:$G,'Cek Yasaklisi ( tüzel tekil )'!I$2,[1]DATA!$H:$H,'Cek Yasaklisi ( tüzel tekil )'!$C$1,[1]DATA!$I:$I,'Cek Yasaklisi ( tüzel tekil )'!$C4),0) -> 509 | J4: =IFERROR(SUMIFS([1]DATA!$K:$K,[1]DATA!$G:$G,'Cek Yasaklisi ( tüzel tekil )'!J$2,[1]DATA!$H:$H,'Cek Yasaklisi ( tüzel tekil )'!$C$1,[1]DATA!$I:$I,'Cek Yasaklisi ( tüzel tekil )'!$C4),0) -> 787 | K4: =IFERROR(SUMIFS([1]DATA!$K:$K,[1]DATA!$G:$G,'Cek Yasaklisi ( tüzel tekil )'!K$2,[1]DATA!$H:$H,'Cek Yasaklisi ( tüzel tekil )'!$C$1,[1]DATA!$I:$I,'Cek Yasaklisi ( tüzel tekil )'!$C4),0) -> 818 | L4: =IFERROR(SUMIFS([1]DATA!$K:$K,[1]DATA!$G:$G,'Cek Yasaklisi ( tüzel tekil )'!L$2,[1]DATA!$H:$H,'Cek Yasaklisi ( tüzel tekil )'!$C$1,[1]DATA!$I:$I,'Cek Yasaklisi ( tüzel tekil )'!$C4),0) -> 78 | M4: =IFERROR(SUMIFS([1]DATA!$K:$K,[1]DATA!$G:$G,'Cek Yasaklisi ( tüzel tekil )'!M$2,[1]DATA!$H:$H,'Cek Yasaklisi ( tüzel tekil )'!$C$1,[1]DATA!$I:$I,'Cek Yasaklisi ( tüzel tekil )'!$C4),0) -> 484 | Q4: =IFERROR(SUMIFS([1]DATA!$Y:$Y,[1]DATA!$V:$V,'Cek Yasaklisi ( tüzel tekil )'!$C$1,[1]DATA!$W:$W,'Cek Yasaklisi ( tüzel tekil )'!$C4,[1]DATA!$U:$U,'Cek Yasaklisi ( tüzel tekil )'!$C$2),0) -> 3260
C5: Bati Marmara | D5: Batı Marmara | E5: =IFERROR(SUMIFS([1]DATA!$R:$R,[1]DATA!$N:$N,'Cek Yasaklisi ( tüzel tekil )'!E$2,[1]DATA!$O:$O,'Cek Yasaklisi ( tüzel tekil )'!$C$1,[1]DATA!$P:$P,'Cek Yasaklisi ( tüzel tekil )'!$C5),0) -> 42 | F5: =IFERROR(SUMIFS([1]DATA!$R:$R,[1]DATA!$N:$N,'Cek Yasaklisi ( tüzel tekil )'!F$2,[1]DATA!$O:$O,'Cek Yasaklisi ( tüzel tekil )'!$C$1,[1]DATA!$P:$P,'Cek Yasaklisi ( tüzel tekil )'!$C5),0) -> 48 | G5: =IFERROR(SUMIFS([1]DATA!$R:$R,[1]DATA!$N:$N,'Cek Yasaklisi ( tüzel tekil )'!G$2,[1]DATA!$O:$O,'Cek Yasaklisi ( tüzel tekil )'!$C$1,[1]DATA!$P:$P,'Cek Yasaklisi ( tüzel tekil )'!$C5),0) -> 38 | H5: =IFERROR(SUMIFS([1]DATA!$R:$R,[1]DATA!$N:$N,'Cek Yasaklisi ( tüzel tekil )'!H$2,[1]DATA!$O:$O,'Cek Yasaklisi ( tüzel tekil )'!$C$1,[1]DATA!$P:$P,'Cek Yasaklisi ( tüzel tekil )'!$C5),0) -> 39 | I5: =IFERROR(SUMIFS([1]DATA!$R:$R,[1]DATA!$N:$N,'Cek Yasaklisi ( tüzel tekil )'!I$2,[1]DATA!$O:$O,'Cek Yasaklisi ( tüzel tekil )'!$C$1,[1]DATA!$P:$P,'Cek Yasaklisi ( tüzel tekil )'!$C5),0) -> 35 | J5: =IFERROR(SUMIFS([1]DATA!$R:$R,[1]DATA!$N:$N,'Cek Yasaklisi ( tüzel tekil )'!J$2,[1]DATA!$O:$O,'Cek Yasaklisi ( tüzel tekil )'!$C$1,[1]DATA!$P:$P,'Cek Yasaklisi ( tüzel tekil )'!$C5),0) -> 50 | K5: =IFERROR(SUMIFS([1]DATA!$R:$R,[1]DATA!$N:$N,'Cek Yasaklisi ( tüzel tekil )'!K$2,[1]DATA!$O:$O,'Cek Yasaklisi ( tüzel tekil )'!$C$1,[1]DATA!$P:$P,'Cek Yasaklisi ( tüzel tekil )'!$C5),0) -> 61 | L5: =IFERROR(SUMIFS([1]DATA!$R:$R,[1]DATA!$N:$N,'Cek Yasaklisi ( tüzel tekil )'!L$2,[1]DATA!$O:$O,'Cek Yasaklisi ( tüzel tekil )'!$C$1,[1]DATA!$P:$P,'Cek Yasaklisi ( tüzel tekil )'!$C5),0) -> 22 | M5: =IFERROR(SUMIFS([1]DATA!$R:$R,[1]DATA!$N:$N,'Cek Yasaklisi ( tüzel tekil )'!M$2,[1]DATA!$O:$O,'Cek Yasaklisi ( tüzel tekil )'!$C$1,[1]DATA!$P:$P,'Cek Yasaklisi ( tüzel tekil )'!$C5),0) -> 35 | Q5: =IFERROR(SUMIFS([1]DATA!$AF:$AF,[1]DATA!$AC:$AC,'Cek Yasaklisi ( tüzel tekil )'!$C$1,[1]DATA!$AD:$AD,'Cek Yasaklisi ( tüzel tekil )'!$C5,[1]DATA!$AB:$AB,'Cek Yasaklisi ( tüzel tekil )'!$C$2),0) -> 272
C6: 10 | D6: Balıkesir | E6: =IFERROR(SUMIFS([1]DATA!$K:$K,[1]DATA!$G:$G,'Cek Yasaklisi ( tüzel tekil )'!E$2,[1]DATA!$H:$H,'Cek Yasaklisi ( tüzel tekil )'!$C$1,[1]DATA!$I:$I,'Cek Yasaklisi ( tüzel tekil )'!$C6),0) -> 13 | F6: =IFERROR(SUMIFS([1]DATA!$K:$K,[1]DATA!$G:$G,'Cek Yasaklisi ( tüzel tekil )'!F$2,[1]DATA!$H:$H,'Cek Yasaklisi ( tüzel tekil )'!$C$1,[1]DATA!$I:$I,'Cek Yasaklisi ( tüzel tekil )'!$C6),0) -> 20 | G6: =IFERROR(SUMIFS([1]DATA!$K:$K,[1]DATA!$G:$G,'Cek Yasaklisi ( tüzel tekil )'!G$2,[1]DATA!$H:$H,'Cek Yasaklisi ( tüzel tekil )'!$C$1,[1]DATA!$I:$I,'Cek Yasaklisi ( tüzel tekil )'!$C6),0) -> 13 | H6: =IFERROR(SUMIFS([1]DATA!$K:$K,[1]DATA!$G:$G,'Cek Yasaklisi ( tüzel tekil )'!H$2,[1]DATA!$H:$H,'Cek Yasaklisi ( tüzel tekil )'!$C$1,[1]DATA!$I:$I,'Cek Yasaklisi ( tüzel tekil )'!$C6),0) -> 23 | I6: =IFERROR(SUMIFS([1]DATA!$K:$K,[1]DATA!$G:$G,'Cek Yasaklisi ( tüzel tekil )'!I$2,[1]DATA!$H:$H,'Cek Yasaklisi ( tüzel tekil )'!$C$1,[1]DATA!$I:$I,'Cek Yasaklisi ( tüzel tekil )'!$C6),0) -> 18 | J6: =IFERROR(SUMIFS([1]DATA!$K:$K,[1]DATA!$G:$G,'Cek Yasaklisi ( tüzel tekil )'!J$2,[1]DATA!$H:$H,'Cek Yasaklisi ( tüzel tekil )'!$C$1,[1]DATA!$I:$I,'Cek Yasaklisi ( tüzel tekil )'!$C6),0) -> 16 | K6: =IFERROR(SUMIFS([1]DATA!$K:$K,[1]DATA!$G:$G,'Cek Yasaklisi ( tüzel tekil )'!K$2,[1]DATA!$H:$H,'Cek Yasaklisi ( tüzel tekil )'!$C$1,[1]DATA!$I:$I,'Cek Yasaklisi ( tüzel tekil )'!$C6),0) -> 17 | L6: =IFERROR(SUMIFS([1]DATA!$K:$K,[1]DATA!$G:$G,'Cek Yasaklisi ( tüzel tekil )'!L$2,[1]DATA!$H:$H,'Cek Yasaklisi ( tüzel tekil )'!$C$1,[1]DATA!$I:$I,'Cek Yasaklisi ( tüzel tekil )'!$C6),0) -> 7 | M6: =IFERROR(SUMIFS([1]DATA!$K:$K,[1]DATA!$G:$G,'Cek Yasaklisi ( tüzel tekil )'!M$2,[1]DATA!$H:$H,'Cek Yasaklisi ( tüzel tekil )'!$C$1,[1]DATA!$I:$I,'Cek Yasaklisi ( tüzel tekil )'!$C6),0) -> 10 | Q6: =IFERROR(SUMIFS([1]DATA!$Y:$Y,[1]DATA!$V:$V,'Cek Yasaklisi ( tüzel tekil )'!$C$1,[1]DATA!$W:$W,'Cek Yasaklisi ( tüzel tekil )'!$C6,[1]DATA!$U:$U,'Cek Yasaklisi ( tüzel tekil )'!$C$2),0) -> 103
